BEGIN:VCALENDAR
VERSION:2.0
PRODID:-//UES - ECPv6.15.20//NONSGML v1.0//EN
CALSCALE:GREGORIAN
METHOD:PUBLISH
X-WR-CALNAME:UES
X-ORIGINAL-URL:https://ues.cat
X-WR-CALDESC:Activitats per UES
REFRESH-INTERVAL;VALUE=DURATION:PT1H
X-Robots-Tag:noindex
X-PUBLISHED-TTL:PT1H
BEGIN:VTIMEZONE
TZID:Europe/Madrid
BEGIN:DAYLIGHT
TZOFFSETFROM:+0100
TZOFFSETTO:+0200
TZNAME:CEST
DTSTART:20240331T010000
END:DAYLIGHT
BEGIN:STANDARD
TZOFFSETFROM:+0200
TZOFFSETTO:+0100
TZNAME:CET
DTSTART:20241027T010000
END:STANDARD
BEGIN:DAYLIGHT
TZOFFSETFROM:+0100
TZOFFSETTO:+0200
TZNAME:CEST
DTSTART:20250330T010000
END:DAYLIGHT
BEGIN:STANDARD
TZOFFSETFROM:+0200
TZOFFSETTO:+0100
TZNAME:CET
DTSTART:20251026T010000
END:STANDARD
BEGIN:DAYLIGHT
TZOFFSETFROM:+0100
TZOFFSETTO:+0200
TZNAME:CEST
DTSTART:20260329T010000
END:DAYLIGHT
BEGIN:STANDARD
TZOFFSETFROM:+0200
TZOFFSETTO:+0100
TZNAME:CET
DTSTART:20261025T010000
END:STANDARD
END:VTIMEZONE
BEGIN:VEVENT
DTSTART;VALUE=DATE:20250506
DTEND;VALUE=DATE:20250509
DTSTAMP:20260421T143252
CREATED:20250219T161904Z
LAST-MODIFIED:20250219T163609Z
UID:10004519-1746489600-1746748799@ues.cat
SUMMARY:Senders.- Caminant pel Matarranya
DESCRIPTION:[vc_row][vc_column][vc_column_text] \n\nExcursió al Parrissal – dificultat fàcil al poble de Beseit\nExcursió a les Roques del Masmut – dificultat moderada al poble de Peñarroya de Tastavins\nExcursió als Estrets d’Arnes – dificultat fàcil al poble d’Arnes\n\nVisites previstes: \n\nVisita guiada a l’església\, castell i poble de Valderrobres\nVisites lliures als pobles de Beseit\, Peñarroya de Tastavins\, Arnes\, Cretas i la Fresneda\n\nL’allotjament està previst a Valderrobres a l’hotel El Salt \nhttps://www.hotelelsalt.com \nInscripcions a partir del 7 de gener \nConsulta el dossier informatiu[/vc_column_text][/vc_column][/vc_row]
URL:https://ues.cat/agenda/senders-caminant-pel-matarranya/
CATEGORIES:Esportives,Senders
END:VEVENT
END:VCALENDAR