BEGIN:VCALENDAR
VERSION:2.0
PRODID:-//UES - ECPv6.15.20//NONSGML v1.0//EN
CALSCALE:GREGORIAN
METHOD:PUBLISH
X-ORIGINAL-URL:https://ues.cat
X-WR-CALDESC:Activitats per UES
REFRESH-INTERVAL;VALUE=DURATION:PT1H
X-Robots-Tag:noindex
X-PUBLISHED-TTL:PT1H
BEGIN:VTIMEZONE
TZID:Europe/Madrid
BEGIN:DAYLIGHT
TZOFFSETFROM:+0100
TZOFFSETTO:+0200
TZNAME:CEST
DTSTART:20240331T010000
END:DAYLIGHT
BEGIN:STANDARD
TZOFFSETFROM:+0200
TZOFFSETTO:+0100
TZNAME:CET
DTSTART:20241027T010000
END:STANDARD
BEGIN:DAYLIGHT
TZOFFSETFROM:+0100
TZOFFSETTO:+0200
TZNAME:CEST
DTSTART:20250330T010000
END:DAYLIGHT
BEGIN:STANDARD
TZOFFSETFROM:+0200
TZOFFSETTO:+0100
TZNAME:CET
DTSTART:20251026T010000
END:STANDARD
BEGIN:DAYLIGHT
TZOFFSETFROM:+0100
TZOFFSETTO:+0200
TZNAME:CEST
DTSTART:20260329T010000
END:DAYLIGHT
BEGIN:STANDARD
TZOFFSETFROM:+0200
TZOFFSETTO:+0100
TZNAME:CET
DTSTART:20261025T010000
END:STANDARD
END:VTIMEZONE
BEGIN:VEVENT
DTSTART;VALUE=DATE:20251214
DTEND;VALUE=DATE:20251215
DTSTAMP:20260423T222514
CREATED:20250320T193134Z
LAST-MODIFIED:20251124T093606Z
UID:10004558-1765670400-1765756799@ues.cat
SUMMARY:Senders.- de mar i muntanya: del Puig de les Cadiretes a Tossa de Mar
DESCRIPTION:Els Senders de Mar i Muntanya són una col·lecció d’itineraris que combinen el millor dels paisatges de costa i de muntanya. Són excursions pensades per a persones acostumades a caminar\, en general de dificultat fàcil i amb encant especial gràcies a la proximitat del mar. \nDel Puig de les Cadiretes (100 cims de la FEEC) a Tossa de Mar \nAquesta ruta transcorre pel massís de les Cadiretes què és un dels espais naturals més emblemàtics de la Costa Brava meridional. És un massís granític ple de relleus suaus i arrodonits\, cobert de boscos densos de suro\, alzines i pins\, que li donen un aspecte feréstec i mediterrani. Des dels seus cims\, com el Puig de Cadiretes (519 m)\, es poden contemplar àmplies vistes sobre el mar. \nEl massís està protegit com a Espai Natural d’Interès (PEIN Ardenya-Cadiretes) per la seva riquesa biològica i paisatgística. \nAquesta ruta correspon a un tram del Sender de Gran Recorregut GR 92\, conegut com el Sender de la Mediterrània. \nDistància: 11 km >> Desnivell: +265/-465 m >> Dificultat: moderada. \nSortida de tot el dia en autocar. Cal portar aigua\, esmorzar i dinar. Calçat de muntanya i la roba adient a les condicions climatològiques. \nSortida a les 7h davant Hotel Sabadell \n 
URL:https://ues.cat/agenda/senders-de-mar-i-muntanya-tossa-de-mar/
CATEGORIES:Esportives,Senders
END:VEVENT
END:VCALENDAR