BEGIN:VCALENDAR
VERSION:2.0
PRODID:-//UES - ECPv6.15.20//NONSGML v1.0//EN
CALSCALE:GREGORIAN
METHOD:PUBLISH
X-ORIGINAL-URL:https://ues.cat
X-WR-CALDESC:Activitats per UES
REFRESH-INTERVAL;VALUE=DURATION:PT1H
X-Robots-Tag:noindex
X-PUBLISHED-TTL:PT1H
BEGIN:VTIMEZONE
TZID:Europe/Madrid
BEGIN:DAYLIGHT
TZOFFSETFROM:+0100
TZOFFSETTO:+0200
TZNAME:CEST
DTSTART:20250330T010000
END:DAYLIGHT
BEGIN:STANDARD
TZOFFSETFROM:+0200
TZOFFSETTO:+0100
TZNAME:CET
DTSTART:20251026T010000
END:STANDARD
BEGIN:DAYLIGHT
TZOFFSETFROM:+0100
TZOFFSETTO:+0200
TZNAME:CEST
DTSTART:20260329T010000
END:DAYLIGHT
BEGIN:STANDARD
TZOFFSETFROM:+0200
TZOFFSETTO:+0100
TZNAME:CET
DTSTART:20261025T010000
END:STANDARD
BEGIN:DAYLIGHT
TZOFFSETFROM:+0100
TZOFFSETTO:+0200
TZNAME:CEST
DTSTART:20270328T010000
END:DAYLIGHT
BEGIN:STANDARD
TZOFFSETFROM:+0200
TZOFFSETTO:+0100
TZNAME:CET
DTSTART:20271031T010000
END:STANDARD
END:VTIMEZONE
BEGIN:VEVENT
DTSTART;VALUE=DATE:20260201
DTEND;VALUE=DATE:20260202
DTSTAMP:20260423T113252
CREATED:20251202T132023Z
LAST-MODIFIED:20260108T085250Z
UID:10005077-1769904000-1769990399@ues.cat
SUMMARY:Senders.- GR1 sender històric: d'Alpens a Lluçà
DESCRIPTION:Continuem avançant en la llarga travessia del GR 1 amb una nova etapa per la comarca del Lluçanès\, entre Alpens i Lluçà. Caminarem per camins careners que\, temps enrere\, recorrien els pastors amb els seus ramats durant la transhumància cap als prats dels Pirineus. \nAl llarg del recorregut visitarem el Monestir de Santa Maria de Lluçà\, una autèntica joia del romànic de la comarca. \nItinerari: Alpens – Sant Joan del Graell – Santa Eulàlia de Puig-Oriola – Lluçà. \nDistància: 16 km >> Desnivell: +275/-385 m >> Dificultat: moderada \nSortida en autocar de tot el dia. Cal portar esmorzar i dinar. Trobada les 7:30 h davant de l’Hotel Sabadell. \nInscripcions del 12 al 26 de gener.
URL:https://ues.cat/agenda/senders-gr1-sender-historic-dalpens-a-lluca/
CATEGORIES:Esportives,Senders
END:VEVENT
END:VCALENDAR