BEGIN:VCALENDAR
VERSION:2.0
PRODID:-//UES - ECPv6.15.20//NONSGML v1.0//EN
CALSCALE:GREGORIAN
METHOD:PUBLISH
X-ORIGINAL-URL:https://ues.cat
X-WR-CALDESC:Activitats per UES
REFRESH-INTERVAL;VALUE=DURATION:PT1H
X-Robots-Tag:noindex
X-PUBLISHED-TTL:PT1H
BEGIN:VTIMEZONE
TZID:Europe/Madrid
BEGIN:DAYLIGHT
TZOFFSETFROM:+0100
TZOFFSETTO:+0200
TZNAME:CEST
DTSTART:20250330T010000
END:DAYLIGHT
BEGIN:STANDARD
TZOFFSETFROM:+0200
TZOFFSETTO:+0100
TZNAME:CET
DTSTART:20251026T010000
END:STANDARD
BEGIN:DAYLIGHT
TZOFFSETFROM:+0100
TZOFFSETTO:+0200
TZNAME:CEST
DTSTART:20260329T010000
END:DAYLIGHT
BEGIN:STANDARD
TZOFFSETFROM:+0200
TZOFFSETTO:+0100
TZNAME:CET
DTSTART:20261025T010000
END:STANDARD
BEGIN:DAYLIGHT
TZOFFSETFROM:+0100
TZOFFSETTO:+0200
TZNAME:CEST
DTSTART:20270328T010000
END:DAYLIGHT
BEGIN:STANDARD
TZOFFSETFROM:+0200
TZOFFSETTO:+0100
TZNAME:CET
DTSTART:20271031T010000
END:STANDARD
END:VTIMEZONE
BEGIN:VEVENT
DTSTART;VALUE=DATE:20260301
DTEND;VALUE=DATE:20260302
DTSTAMP:20260423T130235
CREATED:20251202T132308Z
LAST-MODIFIED:20260210T105954Z
UID:10005080-1772323200-1772409599@ues.cat
SUMMARY:Senders.- GR1 sender històric\, de Lluçà a Sagàs
DESCRIPTION:Continuem avançant en la llarga travessia del GR 1 amb una nova etapa per la comarca del Lluçanès\, entre Lluçà i Sagàs ja a la comarca del Berguedà. \nCaminarem per camins careners que\, temps enrere\, recorrien els pastors amb els seus ramats durant la transhumància cap als prats dels Pirineus. Al llarg del recorregut visitarem l’església romànica del segle XI de Sant Andreu de Sagàs\, una autèntica joia del romànic de la comarca. \nRecorregut:  Llucà\, Bauma dels Bous\, camins de transhumància del Lluçanès\, Riera de Merlès\, Segàs. \nDistància: 16\,70 km >> Desnivell: +340/-350m >> Dificultat: Moderada \nCal portar aigua\, esmorzar\, dinar\, calçat de muntanya i roba adient a les condicions climatològiques. Recomanem portar bastons. \nSortida en autocar a les 7:30h davant de l’Hotel Sabadell. \nInscripcions del 9 al 23 de febrer.
URL:https://ues.cat/agenda/senders-gr1-sender-historic-de-lluca-a-sagas/
CATEGORIES:Esportives,Senders
END:VEVENT
END:VCALENDAR