BEGIN:VCALENDAR
VERSION:2.0
PRODID:-//UES - ECPv6.15.20//NONSGML v1.0//EN
CALSCALE:GREGORIAN
METHOD:PUBLISH
X-ORIGINAL-URL:https://ues.cat
X-WR-CALDESC:Activitats per UES
REFRESH-INTERVAL;VALUE=DURATION:PT1H
X-Robots-Tag:noindex
X-PUBLISHED-TTL:PT1H
BEGIN:VTIMEZONE
TZID:Europe/Madrid
BEGIN:DAYLIGHT
TZOFFSETFROM:+0100
TZOFFSETTO:+0200
TZNAME:CEST
DTSTART:20230326T010000
END:DAYLIGHT
BEGIN:STANDARD
TZOFFSETFROM:+0200
TZOFFSETTO:+0100
TZNAME:CET
DTSTART:20231029T010000
END:STANDARD
BEGIN:DAYLIGHT
TZOFFSETFROM:+0100
TZOFFSETTO:+0200
TZNAME:CEST
DTSTART:20240331T010000
END:DAYLIGHT
BEGIN:STANDARD
TZOFFSETFROM:+0200
TZOFFSETTO:+0100
TZNAME:CET
DTSTART:20241027T010000
END:STANDARD
BEGIN:DAYLIGHT
TZOFFSETFROM:+0100
TZOFFSETTO:+0200
TZNAME:CEST
DTSTART:20250330T010000
END:DAYLIGHT
BEGIN:STANDARD
TZOFFSETFROM:+0200
TZOFFSETTO:+0100
TZNAME:CET
DTSTART:20251026T010000
END:STANDARD
END:VTIMEZONE
BEGIN:VEVENT
DTSTART;TZID=Europe/Madrid:20240916T193000
DTEND;TZID=Europe/Madrid:20240916T203000
DTSTAMP:20260423T081547
CREATED:20240902T153756Z
LAST-MODIFIED:20240902T161641Z
UID:10004786-1726515000-1726518600@ues.cat
SUMMARY:La Ganyota.- Reunió informativa curs 2024-25
DESCRIPTION:[vc_row][vc_column][vc_column_text]Reunió informativa adreçada a famílies\, curs 2024-25 \nA les 19:30 h a la sala d’actes[/vc_column_text][/vc_column][/vc_row]
URL:https://ues.cat/agenda/la-ganyota-reunio-informativa-curs-2024-25/
CATEGORIES:Esplai La Ganyota,Esportives
END:VEVENT
BEGIN:VEVENT
DTSTART;VALUE=DATE:20240918
DTEND;VALUE=DATE:20240919
DTSTAMP:20260423T081547
CREATED:20240530T181417Z
LAST-MODIFIED:20240717T101037Z
UID:10004377-1726617600-1726703999@ues.cat
SUMMARY:Les excursions del dimecres.- Ermita de Sant Antoni de Camprodon (Ripollès)
DESCRIPTION:[vc_row][vc_column][vc_column_text]Ruta circular que ens permetrà ascendir al cim de Sant Antoni i gaudir de vistes a 360º del Pirineu oriental\, la vall de Camprodon\, la serra Cavallera i l’Alta Garrotxa. \nDistància: 15 km >> Desnivell: +/- 575 m \nSortida a les 7:30 h del matí\, davant hotel Sabadell. \nSortida de tot el dia. Cal portar dinar. \nInscripcions a partir del 2 de setembre[/vc_column_text][/vc_column][/vc_row]
URL:https://ues.cat/agenda/les-excursions-del-dimecres/
CATEGORIES:Esportives,Excursions dimecres
END:VEVENT
BEGIN:VEVENT
DTSTART;VALUE=DATE:20240921
DTEND;VALUE=DATE:20240923
DTSTAMP:20260423T081547
CREATED:20231127T143226Z
LAST-MODIFIED:20240715T153435Z
UID:10004608-1726876800-1727049599@ues.cat
SUMMARY:Muntanya.- Vallibierna i Culebras (Pirineu Aragonès)
DESCRIPTION:[vc_row][vc_column][vc_column_text] \nVALLIBIERNA (3.056m) I TUCA DE CULEBRAS (3.051m) \nCap de setmana 21 i 22 de setembre \nEl Pic de Vallibierna (3.056 m) és\, segurament\, el tresmil més assequible de tot el Pirineu i\, per això\, un dels més freqüentats. Des del refugi es pot assolir en un recorregut de 2-3 h de durada\, salvant només un desnivell positiu de 600 m+ per un recorregut sense dificultats. Una de les opcions que ofereix és l’enllaç des del cim amb el proper Pic Culebres (3.051 m) pel vertiginós pas del cavall\, per baixar per la Solana de Llauset fins a l’embassament\, completant així un recorregut circular. \nPernoctarem al refugi Cap de Llauset\, places limitades. \nNivell de dificultat: Mitjana. Alta muntanya. \nSortida en cotxes particulars. Trobada a les 8 h a l’aparcament del Parc Catalunya\, davant del Club de Tenis. \nMaterial: Sac de dormir tipus llençol\, botes de muntanya\, roba d’abric\, lot o frontal\, dinar del dissabte i dinar de diumenge. \nPreu soci/a: 91\,60€ // soci@web i no soci: 105\,10€ \nInclou desplaçament\, pernocta\, sopar i esmorzar. Preu federats/ades. \nCal estar federat/ada o bé tramitar assegurança temporal obligatòria de dia\, els no federats/ades no tenen descompte al refugi. \nInscripcions a partir del 26 d’agost a ues.cat \nImportant: reunió prèvia el dijous dia 19/09 a les 19 hores. \n[/vc_column_text][/vc_column][/vc_row]
URL:https://ues.cat/agenda/muntanya-vallibierna-i-culebras-pirineu-aragones/
CATEGORIES:Esportives,Muntanya
END:VEVENT
BEGIN:VEVENT
DTSTART;VALUE=DATE:20240921
DTEND;VALUE=DATE:20240923
DTSTAMP:20260423T081547
CREATED:20240903T184645Z
LAST-MODIFIED:20240903T184645Z
UID:10004392-1726876800-1727049599@ues.cat
SUMMARY:Orientació.- Catalunya O-Meeting Lliga Espanyola al Berguedà: Vallcebre i Berga
DESCRIPTION:
URL:https://ues.cat/agenda/orientacio-catalunya-o-meeting-lliga-espanyola-al-bergueda-vallcebre-i-berga/
CATEGORIES:Esportives,Orientació
END:VEVENT
BEGIN:VEVENT
DTSTART;VALUE=DATE:20240922
DTEND;VALUE=DATE:20240923
DTSTAMP:20260423T081547
CREATED:20240523T080412Z
LAST-MODIFIED:20240902T161431Z
UID:10004752-1726963200-1727049599@ues.cat
SUMMARY:Senders.- La muntanya al mar\, d'Olot a Santa Pau
DESCRIPTION:[vc_row][vc_column][vc_column_text]Iniciem una nova ruta en la programació de la Secció de Senders. Seran 9 etapes que resseguiran una ruta des de la Muntanya al Mar\, una ruta senderista que s’inicia a Olot i finalitza a la platja de Pals. Transcorre per les comarques de la Garrotxa\, el Gironès i el Baix Empordà. De les planes volcàniques d’Olot i Santa Pau\, travessarem les muntanyes de la Serra de Finestres per continuar pel Camí Ral de la Vall de Llémena. Passarem per la ciutat de Girona i assolirem els punts més alts de les Gavarres: Sant Miquel i els Àngels. Abans d’arribar al mar visitarem els pobles medievals de la plana empordanesa. \nLa primera etapa l’iniciarem a Olot tot caminant per camins amables de la Garrotxa volcànica. Travessaren la fageda d’en Jordà i assolirem el cim del volcà de Santa Margarida on visitarem l’ermita al mig del seu cràter. Finalitzarem l’etapa a la vila medieval de Santa Pau. \nRecorregut: Olot – Fageda d’en Jordà – volcà de Santa Margarida – Santa Pau \nDistància: 14 km per camins de muntanya i amb +415 m/ – 350 m de desnivell. Dificultat: baixa \nInscripcions del 2 al 16 de setembre. Sortida de tot el dia\, en autocar. Sortida a les 7 h davant de l’Hotel Sabadell.[/vc_column_text][/vc_column][/vc_row]
URL:https://ues.cat/agenda/senders-la-muntanya-al-mar-dolot-a-santa-pau/
CATEGORIES:Esportives,Senders
END:VEVENT
END:VCALENDAR