BEGIN:VCALENDAR
VERSION:2.0
PRODID:-//UES - ECPv6.15.20//NONSGML v1.0//EN
CALSCALE:GREGORIAN
METHOD:PUBLISH
X-WR-CALNAME:UES
X-ORIGINAL-URL:https://ues.cat
X-WR-CALDESC:Activitats per UES
REFRESH-INTERVAL;VALUE=DURATION:PT1H
X-Robots-Tag:noindex
X-PUBLISHED-TTL:PT1H
BEGIN:VTIMEZONE
TZID:Europe/Madrid
BEGIN:DAYLIGHT
TZOFFSETFROM:+0100
TZOFFSETTO:+0200
TZNAME:CEST
DTSTART:20230326T010000
END:DAYLIGHT
BEGIN:STANDARD
TZOFFSETFROM:+0200
TZOFFSETTO:+0100
TZNAME:CET
DTSTART:20231029T010000
END:STANDARD
BEGIN:DAYLIGHT
TZOFFSETFROM:+0100
TZOFFSETTO:+0200
TZNAME:CEST
DTSTART:20240331T010000
END:DAYLIGHT
BEGIN:STANDARD
TZOFFSETFROM:+0200
TZOFFSETTO:+0100
TZNAME:CET
DTSTART:20241027T010000
END:STANDARD
BEGIN:DAYLIGHT
TZOFFSETFROM:+0100
TZOFFSETTO:+0200
TZNAME:CEST
DTSTART:20250330T010000
END:DAYLIGHT
BEGIN:STANDARD
TZOFFSETFROM:+0200
TZOFFSETTO:+0100
TZNAME:CET
DTSTART:20251026T010000
END:STANDARD
END:VTIMEZONE
BEGIN:VEVENT
DTSTART;VALUE=DATE:20241015
DTEND;VALUE=DATE:20241016
DTSTAMP:20260423T081232
CREATED:20240529T164303Z
LAST-MODIFIED:20240529T164401Z
UID:10004364-1728950400-1729036799@ues.cat
SUMMARY:Caminades saludables +60\, matinal.- Riera de Caldes
DESCRIPTION:[vc_row][vc_column][vc_column_text]Ruta lineal que des de Sant Feliu de Codines seguint el camí de les Elies i resseguint la riera de Caldes ens portarà fins al poble Caldes de Montbui. \nDistància: 11\,20 km – Desnivell: 95/-300 m[/vc_column_text][/vc_column][/vc_row]
URL:https://ues.cat/agenda/caminades-saludables-60-matinal-riera-de-caldes/
CATEGORIES:Esportives,Gent Gran
END:VEVENT
BEGIN:VEVENT
DTSTART;TZID=Europe/Madrid:20241018T190000
DTEND;TZID=Europe/Madrid:20241018T200000
DTSTAMP:20260423T081232
CREATED:20241010T062646Z
LAST-MODIFIED:20241010T064156Z
UID:10004812-1729278000-1729281600@ues.cat
SUMMARY:Presentació 'Camina pel TDAH. Sabadell 360º'
DESCRIPTION:[vc_row][vc_column][vc_column_text]Col·laborem amb la Federació Catalana de Familiars i Afectats per TDAH juntament amb l’associació local\, TDAH Vallès per donar visibilitat al TDAH assolint el repte Sabadell 360 en 4 etapes.  \nEl divendres 18 d’octubre\, a les 19 h\, a la sala d’actes\, n’explicarem tots els detalls. \nEtapes: \nETAPA 1 Diumenge 27 d’octubre de 2024\, Dia nacional del TDAH. De la Salut a Sant Julià; 12 km; 330 m de desnivell positiu; 250 m de desnivell negatiu; 3:45 h \nETAPA 2 Diumenge 3 de novembre de 2024. De Sant Julià a Can Gambús; 11 km; 120 m de desnivell positiu; 210 m de desnivell negatiu; 3:03 h. \nETAPA 3 Diumenge 10 de novembre de 2024. De Can Gambús a la Romànica; 11 km; 105 m de desnivell positiu; 180 m de desnivell negatiu; 2:50 h. \nETAPA 4  Diumenge 24 de novembre de 2024. De la Romànica a la Salut; 10 km; 250 m de desnivell positiu; 165 m de desnivell negatiu; 3:07 h. \nPer participar-hi cal inscriure’s en aquest enllaç: https://www.federaciocatalanatdah.org/camina-pel-tdah-sabadell360/[/vc_column_text][/vc_column][/vc_row]
URL:https://ues.cat/agenda/presentacio-camina-pel-tdah-sabadell-360o/
CATEGORIES:Esportives
END:VEVENT
BEGIN:VEVENT
DTSTART;VALUE=DATE:20241019
DTEND;VALUE=DATE:20241020
DTSTAMP:20260423T081232
CREATED:20240708T084655Z
LAST-MODIFIED:20241010T071027Z
UID:10004770-1729296000-1729382399@ues.cat
SUMMARY:Senders.- Camí natural de l’Ebre\, de Tortosa a Amposta
DESCRIPTION:[vc_row][vc_column][vc_column_text]Itinerari: Urbanització Mig Camí – Ermita de Mig Camí – Ermita del Coll de l’Alba – Coll de Redó – Creu de Coll de Redó – Camp-Redó – La Font de Quinto – La Pedrera – Pont Penjant d’Amposta – Embarcador d’Amposta. \nDistància: 17\,78 km i + 287 /- 400 de desnivell. \nEs recomana portar: aigua\, esmorzar\, dinar\, 2 bastons i roba adient. \nSortida en autocar. Tot el dia[/vc_column_text][/vc_column][/vc_row]
URL:https://ues.cat/agenda/senders-cami-natural-de-lebre-de-tortosa-a-amposta-2/
CATEGORIES:Esportives,Senders
END:VEVENT
BEGIN:VEVENT
DTSTART;VALUE=DATE:20241020
DTEND;VALUE=DATE:20241021
DTSTAMP:20260423T081232
CREATED:20240903T184959Z
LAST-MODIFIED:20240926T091603Z
UID:10004397-1729382400-1729468799@ues.cat
SUMMARY:3a Rogaine del Vallès a Sant Quirze del Vallès. Curses d'Orientació
DESCRIPTION:[vc_row][vc_column][vc_column_text]Cursa en modalitat Rogaining\, 4 hores/2 hores de temps màxim. \nQuè és una Rogaine? \nLa Rogaine és una modalitat esportiva de les curses d’orientació en què els participants han de desplaçar-se a peu\, amb l’objectiu d’aconseguir la màxima puntuació passant  pels controls en un temps determinat i seguint un ordre lliure. \nEls participants disposen d’un mapa on hi ha impresos tots els controls amb una numeració. Cada control té una puntuació diferent que ve determinada per la desena del seu número. Per exemple\, la fita número 35\, valdrà 3 punts\, i la fita 90 en valdrà 9. \nEls equips han d’aconseguir la màxima puntuació passant pels controls en un temps màxim de 4 o 2 hores\, segons la modalitat escollida. Arribar amb retard es penalitza amb pèrdua de punts. \nNo hi ha recorreguts establerts\, per tant\, cada equip decideix l’ordre de pas pels controls. \nCada control es marca sobre el terreny amb una fita d’orientació que consisteix en un prisma triangular de 30 x 30 cm\, de colors taronja i blanc. \ncategories\n\nEquips de 2 a 5 components. \n\nConsulteu tota la informació i butlletins de cursa[/vc_column_text][/vc_column][/vc_row]
URL:https://ues.cat/agenda/orientacio-tercera-rogaine-del-valles-a-sant-quirze-del-valles-organitza-ues/
CATEGORIES:Esportives,Orientació
END:VEVENT
END:VCALENDAR