BEGIN:VCALENDAR
VERSION:2.0
PRODID:-//UES - ECPv6.15.20//NONSGML v1.0//EN
CALSCALE:GREGORIAN
METHOD:PUBLISH
X-ORIGINAL-URL:https://ues.cat
X-WR-CALDESC:Activitats per UES
REFRESH-INTERVAL;VALUE=DURATION:PT1H
X-Robots-Tag:noindex
X-PUBLISHED-TTL:PT1H
BEGIN:VTIMEZONE
TZID:Europe/Madrid
BEGIN:DAYLIGHT
TZOFFSETFROM:+0100
TZOFFSETTO:+0200
TZNAME:CEST
DTSTART:20230326T010000
END:DAYLIGHT
BEGIN:STANDARD
TZOFFSETFROM:+0200
TZOFFSETTO:+0100
TZNAME:CET
DTSTART:20231029T010000
END:STANDARD
BEGIN:DAYLIGHT
TZOFFSETFROM:+0100
TZOFFSETTO:+0200
TZNAME:CEST
DTSTART:20240331T010000
END:DAYLIGHT
BEGIN:STANDARD
TZOFFSETFROM:+0200
TZOFFSETTO:+0100
TZNAME:CET
DTSTART:20241027T010000
END:STANDARD
BEGIN:DAYLIGHT
TZOFFSETFROM:+0100
TZOFFSETTO:+0200
TZNAME:CEST
DTSTART:20250330T010000
END:DAYLIGHT
BEGIN:STANDARD
TZOFFSETFROM:+0200
TZOFFSETTO:+0100
TZNAME:CET
DTSTART:20251026T010000
END:STANDARD
END:VTIMEZONE
BEGIN:VEVENT
DTSTART;VALUE=DATE:20241028
DTEND;VALUE=DATE:20241029
DTSTAMP:20260423T044025
CREATED:20240930T135052Z
LAST-MODIFIED:20241021T074613Z
UID:10004412-1730073600-1730159999@ues.cat
SUMMARY:UES inclusiva.- Ribatllada i la font de la Teula
DESCRIPTION:[vc_row][vc_column][vc_column_text]Excursions amb persones amb discapacitat visual i auditiva \nItinerari: la Plana del Pintor\, camí del Ripoll\, camí de Ribatallada\, Sant Julià d’Altura\, Can Deu \nDistància: 7 km >> Distància: +/-140 m \nHora i punt de trobada: Estació FGC Parc del Nord a la plana del Pintor. 8:30 h \nInscripcions a ues.cat o presencialment a secretaria\, es tancaran el dijous previ a la sortida. Activitat gratuïta. \nCal portar: aigua\, esmorzar\, roba adequada a les condicions climatològiques\, calçat per caminar per muntanya\, 1 bastó de senderisme i ganes de fer de guies![/vc_column_text][/vc_column][/vc_row]
URL:https://ues.cat/agenda/sortides-incluisves-ribatllada-i-la-font-de-la-teula/
CATEGORIES:Esportives,Inclusiva
END:VEVENT
BEGIN:VEVENT
DTSTART;VALUE=DATE:20241031
DTEND;VALUE=DATE:20241101
DTSTAMP:20260423T044025
CREATED:20240529T164659Z
LAST-MODIFIED:20241028T173201Z
UID:10004368-1730332800-1730419199@ues.cat
SUMMARY:Caminades saludables +60\, tot el dia.- Vall del Llobregat: Navarcles - Viladordis ANUL·LADA
DESCRIPTION:[vc_row][vc_column][vc_column_text]Octubre: Navarcles – Viladordis. Distància: 8\,8 km>>  desnivell +96 m i -89 m \nseguim pel Pont Vell del Llobregat fins a l’espectacular Monestir de Sant Benet. Acabarem als tres salts del Llobregat \nNovembre: Viladordis – Pont de Vilomara Distància: 8 km >> desnivell -190 m \nEn aquesta etapa\, passarem per diverses tines i per la Gola del Bigaire\, un espectacular pas del riu Llobregat a través de les esquerdes a les roques que el mateix riu ha anat erosionant. Passarem pel pont vell de Vilomara\, originari del segle XIII\, però reconstruït al segle XVII destruït per una riera.[/vc_column_text][/vc_column][/vc_row]
URL:https://ues.cat/agenda/caminades-saludables-60-tot-el-dia-vall-del-llobregat-navarcles-viladordis-2/
CATEGORIES:Esportives,Gent Gran
END:VEVENT
BEGIN:VEVENT
DTSTART;VALUE=DATE:20241101
DTEND;VALUE=DATE:20241102
DTSTAMP:20260423T044025
CREATED:20240903T185327Z
LAST-MODIFIED:20240903T185327Z
UID:10004402-1730419200-1730505599@ues.cat
SUMMARY:Orientació.- TICB a Barcelona. Organitza COC
DESCRIPTION:
URL:https://ues.cat/agenda/orientacio-ticb-a-barcelona-organitza-coc/
CATEGORIES:Esportives,Orientació
END:VEVENT
BEGIN:VEVENT
DTSTART;VALUE=DATE:20241102
DTEND;VALUE=DATE:20241103
DTSTAMP:20260423T044025
CREATED:20241003T183146Z
LAST-MODIFIED:20241024T082345Z
UID:10004420-1730505600-1730591999@ues.cat
SUMMARY:Marxa Nòrdica.- Rasos de Tubau
DESCRIPTION:[vc_row][vc_column][vc_column_text]Marxa Nòrdica &Muntanya \nCaminada de 14\,45 km\, Desnivell +615 m / -755m.[/vc_column_text][/vc_column][/vc_row]
URL:https://ues.cat/agenda/marxa-nordica-rasos-de-tubau/
CATEGORIES:Esportives,Marxa Nòrdica
END:VEVENT
END:VCALENDAR