BEGIN:VCALENDAR
VERSION:2.0
PRODID:-//UES - ECPv6.15.20//NONSGML v1.0//EN
CALSCALE:GREGORIAN
METHOD:PUBLISH
X-ORIGINAL-URL:https://ues.cat
X-WR-CALDESC:Activitats per UES
REFRESH-INTERVAL;VALUE=DURATION:PT1H
X-Robots-Tag:noindex
X-PUBLISHED-TTL:PT1H
BEGIN:VTIMEZONE
TZID:Europe/Madrid
BEGIN:DAYLIGHT
TZOFFSETFROM:+0100
TZOFFSETTO:+0200
TZNAME:CEST
DTSTART:20230326T010000
END:DAYLIGHT
BEGIN:STANDARD
TZOFFSETFROM:+0200
TZOFFSETTO:+0100
TZNAME:CET
DTSTART:20231029T010000
END:STANDARD
BEGIN:DAYLIGHT
TZOFFSETFROM:+0100
TZOFFSETTO:+0200
TZNAME:CEST
DTSTART:20240331T010000
END:DAYLIGHT
BEGIN:STANDARD
TZOFFSETFROM:+0200
TZOFFSETTO:+0100
TZNAME:CET
DTSTART:20241027T010000
END:STANDARD
BEGIN:DAYLIGHT
TZOFFSETFROM:+0100
TZOFFSETTO:+0200
TZNAME:CEST
DTSTART:20250330T010000
END:DAYLIGHT
BEGIN:STANDARD
TZOFFSETFROM:+0200
TZOFFSETTO:+0100
TZNAME:CET
DTSTART:20251026T010000
END:STANDARD
END:VTIMEZONE
BEGIN:VEVENT
DTSTART;TZID=Europe/Madrid:20241119T190000
DTEND;TZID=Europe/Madrid:20241119T203000
DTSTAMP:20260423T044047
CREATED:20240723T104714Z
LAST-MODIFIED:20240723T104714Z
UID:10004780-1732042800-1732048200@ues.cat
SUMMARY:Xerrades obertes sobre temes de muntanya.- El Parc Natural de Sant Llorenç del Munt i la Serra de l’Obac
DESCRIPTION:[vc_row][vc_column][vc_column_text]El Parc Natural de Sant Llorenç del Munt i la Serra de l’Obac a càrrec d’en Daniel Pons i Josep Canals\, tècnics del parc en conservació i en ús públic\, respectivament. Aquest any el nostre parc més proper\, ha estat present als mitjans informatius; tenim ara una magnífica oportunitat per conèixer de primeríssima mà quin futur li espera\, per poder-ne gaudir encara més. \nVirtual (Zoom) a les 19 h[/vc_column_text][/vc_column][/vc_row]
URL:https://ues.cat/agenda/xerrades-obertes-sobre-temes-de-muntanya-el-parc-natural-de-sant-llorenc-del-munt-i-la-serra-de-lobac/
CATEGORIES:Muntanya
END:VEVENT
BEGIN:VEVENT
DTSTART;VALUE=DATE:20241120
DTEND;VALUE=DATE:20241121
DTSTAMP:20260423T044047
CREATED:20240530T181521Z
LAST-MODIFIED:20241030T101755Z
UID:10004379-1732060800-1732147199@ues.cat
SUMMARY:Les excursions del dimecres.- Tardor a La Garrotxa
DESCRIPTION:[vc_row][vc_column][vc_column_text]Ruta pels volcans \, ermites i boscos tardorencs de La Garrotxa \nMolt a prop d’Olot iniciarem la ruta cap al volcà de Pujalós i en una volta circular passarem per les ermites de Sant Abdó i Sant Senén i per les restes de l’antic monestir de Sant Julià del Mont. Sant Julià del Mont \nDistància: 12\,5 km  >> Desnivell: +/- 500 m \nSortida a les 7:30 h davant l’Hotel Sabadell. Sortida de tot el dia\, en autocar. Cal portar dinar[/vc_column_text][/vc_column][/vc_row]
URL:https://ues.cat/agenda/les-excursions-del-dimecres-2/
CATEGORIES:Esportives,Excursions dimecres
END:VEVENT
BEGIN:VEVENT
DTSTART;TZID=Europe/Madrid:20241120T193000
DTEND;TZID=Europe/Madrid:20241120T203000
DTSTAMP:20260423T044047
CREATED:20241015T143847Z
LAST-MODIFIED:20241025T075426Z
UID:10004813-1732131000-1732134600@ues.cat
SUMMARY:Presentació del llibre 'Història de l’escalada a Montserrat' de Josep Fatjó i Gené
DESCRIPTION:[vc_row][vc_column][vc_column_text]Història de l’escalada a Montserrat\n100 ANYS D’ASCENSIONS A LA MUNTANYA \nPublicacions de l’Abadia de Montserrat \nEl muntanyisme a Catalunya ha tingut sempre com a referent la muntanya de Montserrat\, que ha estat\, des de principis del segle xx\, l’escola predilecta de la majoria d’escaladors del nostre país. Aquesta segona edició de la Història de l’escalada a Montserrat (la primera va ser a 2005)  es remunta als inicis de la descoberta del massís\, és a dir\, cap a finals del segle xix\, però no és fins als anys vint del segle xx que es comencen a descobrir i escalar\, de manera esporàdica\, les primeres agulles de les diferents regions de la muntanya. És per això que aquesta nova edició abasta\, de manera completa\, cent anys d’història d’escalada\, amb tot el que comporta: evolució de les tècniques\, mitjans\, materials emprats\, estils i tendències que han evolucionat fins al 2024. Igualment hi trobareu capítols d’un interès especial com els monjos escaladors\, algunes anècdotes i els darrers capítols\, actualitzats i posats al dia\, on s’expliquen els diferents tipus d’escalada que es practiquen actualment al massís. Cent anys d’Història d’escalada a Montserrat i\, per extensió\, a Catalunya. Cent anys que acabaran formant part del Mil·lenari que el 2025 es commemora al Monestir de la muntanya. \nJosep Fatjó i Gené és llicenciat en Ciències de la Comunicació i Fisioterapeuta\, s’ha dedicat\, principalment\, al món de la salut i l’ensenyament universitari\, i ha col·laborat en diferents mitjans de comunicació\, ràdio i premsa. De ben jove\, va iniciar-se en el món de l’excursionisme i més endavant en el de l’alpinisme\, l’esquí de muntanya i l’escalada\, essent instructor de l’Escola Catalana d’Alta Muntanya durant molts anys. A Montserrat\, escola on es va formar com la majoria d’escaladors catalans\, ha ascendit a la gran majoria d’agulles i cims. També ha escalat els Pirineus\, els Alps\, els Andes\, el Caucas\, el Kilimanjaro\, l’Atles i l’Ahaggar\, ascendint als cims més importants d’aquestes serralades. Ha publicat: Tota la terra que el meu cor estima (2003)\, De l’antropologia filosòfica a l’antropologia de la salut (2003) amb altres autors\, Història de l’escalada a Montserrat (2005)\, Gens net de pols i palla (2007)\, Antologia de la poesia de muntanya (2012) i Històries de la lluna (2021). \nAcompanyaran l’autor els germans Albert i Òscar Masó Garcia\, col·laboradors de l’actualització del llibre. \nA les 19:30 h a la sala d’actes. Gratuït[/vc_column_text][/vc_column][/vc_row]
URL:https://ues.cat/agenda/presentacio-del-llibre-historia-de-lescalada-a-montserrat-de-josep-fatjo-i-gene/
CATEGORIES:Esportives
END:VEVENT
BEGIN:VEVENT
DTSTART;TZID=Europe/Madrid:20241121T190000
DTEND;TZID=Europe/Madrid:20241121T203000
DTSTAMP:20260423T044047
CREATED:20241001T152721Z
LAST-MODIFIED:20241115T093006Z
UID:10004414-1732215600-1732221000@ues.cat
SUMMARY:Cicle de cinema i projeccions de muntanya.- '50 anys de l’Operació Sàhara. Hoggar' (projecció fotogràfica comentada)
DESCRIPTION:[vc_row][vc_column][vc_column_text] \nLa primera expedició que portaren a terme íntegrament membre de la UES fou l’abril de 1974. \nLa titularen Operació Sàhara i fou a la regió de l’Hoggar. L’equip el formaren Carles Olivella\, Josep Majó\, Joan Miquel Dalmau\, Josep Fígols\, Anna Puig\, Josep Ibars i Maria Antònia Soler. Es varen fer quatre primeres estatals. \nCommemorem aquesta primera expedició de la UES amb una projecció comentada de fotografies per alguns dels membres de l’expedició. \nDijous 21 de novembre. A les 19 h sala d’actes \n[/vc_column_text][/vc_column][/vc_row]
URL:https://ues.cat/agenda/cicle-de-cinema-de-muntanya-50-anys-de-loperacio-sahara-hoggar/
CATEGORIES:Culturals,Esportives
END:VEVENT
BEGIN:VEVENT
DTSTART;VALUE=DATE:20241123
DTEND;VALUE=DATE:20241124
DTSTAMP:20260423T044047
CREATED:20231127T143632Z
LAST-MODIFIED:20241112T134822Z
UID:10004613-1732320000-1732406399@ues.cat
SUMMARY:Muntanya.- Comanegra (La Garrotxa)
DESCRIPTION:[vc_row][vc_column][vc_column_text]Ruta circular que surt des del bonic poble de Beget. Seguirem el GR83 que puja fins al coll de Malrem\, que fa frontera amb França. Des d’aquí seguirem la carena fins arribar al Puig de Comanegra de 1.557 m\, un dels 100 cims essencials del Repte dels 100 cims de la FEEC.. Des del cim baixarem directament a la Bassa de Monars i per pista anirem a buscar un camí que baixa pel bosc per tornar cap a Beget. \nDistància: 17\,78 km >> Desnivell: +/- 1.100 m >> Recorregut circular \nNivell de dificultat: Moderat. Mitja muntanya >> Temps efectiu: 6 h \nMaterial: Roba i calçat de muntanya. Bastons de trekking\, Aigua\, esmorzar i dinar \nSortida en cotxes particulars. Trobada a les 6 h a l’aparcament del Parc Catalunya\, davant Club de Tenis \nPreu: Socis/es: 25€ >> soci@web i no socis/es: 32€ (inclou les despeses de cotxe compartit) \nCal estar federat/ada o bé tramitar assegurança temporal obligatòria de dia. \nInscripcions obertes fins el 21/11 a ues.cat\, app o presencialment a secretaria. Màxim 16 places. \nReunió informativa: Dijous 21 de novembre\, a les 19 h a la UES. \nMés informació[/vc_column_text][/vc_column][/vc_row]
URL:https://ues.cat/agenda/muntanya-comanegra-la-garrotxa/
CATEGORIES:Esportives,Muntanya
END:VEVENT
BEGIN:VEVENT
DTSTART;VALUE=DATE:20241123
DTEND;VALUE=DATE:20241124
DTSTAMP:20260423T044047
CREATED:20240903T185517Z
LAST-MODIFIED:20240903T185517Z
UID:10004788-1732320000-1732406399@ues.cat
SUMMARY:Orientació.-Campionat de Catalunya de relleus a Olvan. Organitza COB
DESCRIPTION:
URL:https://ues.cat/agenda/orientacio-campionat-de-catalunya-de-relleus-a-olvan-organitza-cob/
CATEGORIES:Esportives,Orientació
END:VEVENT
BEGIN:VEVENT
DTSTART;VALUE=DATE:20241123
DTEND;VALUE=DATE:20241124
DTSTAMP:20260423T044047
CREATED:20241023T091435Z
LAST-MODIFIED:20241023T110006Z
UID:10004816-1732320000-1732406399@ues.cat
SUMMARY:Curs d'iniciació a la Marxa Nòrdica
DESCRIPTION:[vc_row][vc_column][vc_column_text] \n\nAprèn la tècnica i descobreix tots els beneficis d’aquesta modalitat esportiva \nCurs de 8 hores Horari: de 9 a 13 h\, pausa per dinar\, i de 14 a 18h \nLloc: Masia i bosc de Can Deu Cal portar esmorzar i dinar. \nLa marxa nòrdica és activitat física i esportiva que incorpora l’ús actiu d’uns bastons específics a la forma natural de caminar. És beneficiosa per tot el cos\, és agradable\, molt més efectiva que només caminar\, actua de forma suau però eficaç\, tot tonificant els músculs\, millorant la força muscular i activant el sistema cardiovascular\, alhora que exerceix un efecte directe\, en la coordinació i la mobilitat articular. Es pot practicar en diferents graus d’intensitat\, per a la qual cosa és apta per a tothom. A més\, es practica a l’aire lliure que ens connecta amb el medi natural. I si es fa en grup\, multiplica els seus beneficis psicosocials i de relació amb l’entorn. \n\n[/vc_column_text][/vc_column][/vc_row]
URL:https://ues.cat/agenda/curs-diniciacio-a-la-marxa-nordica/
CATEGORIES:Altres cursos i tallers,Esportives,Formació,Marxa Nòrdica
END:VEVENT
END:VCALENDAR