BEGIN:VCALENDAR
VERSION:2.0
PRODID:-//UES - ECPv6.15.20//NONSGML v1.0//EN
CALSCALE:GREGORIAN
METHOD:PUBLISH
X-ORIGINAL-URL:https://ues.cat
X-WR-CALDESC:Activitats per UES
REFRESH-INTERVAL;VALUE=DURATION:PT1H
X-Robots-Tag:noindex
X-PUBLISHED-TTL:PT1H
BEGIN:VTIMEZONE
TZID:Europe/Madrid
BEGIN:DAYLIGHT
TZOFFSETFROM:+0100
TZOFFSETTO:+0200
TZNAME:CEST
DTSTART:20230326T010000
END:DAYLIGHT
BEGIN:STANDARD
TZOFFSETFROM:+0200
TZOFFSETTO:+0100
TZNAME:CET
DTSTART:20231029T010000
END:STANDARD
BEGIN:DAYLIGHT
TZOFFSETFROM:+0100
TZOFFSETTO:+0200
TZNAME:CEST
DTSTART:20240331T010000
END:DAYLIGHT
BEGIN:STANDARD
TZOFFSETFROM:+0200
TZOFFSETTO:+0100
TZNAME:CET
DTSTART:20241027T010000
END:STANDARD
BEGIN:DAYLIGHT
TZOFFSETFROM:+0100
TZOFFSETTO:+0200
TZNAME:CEST
DTSTART:20250330T010000
END:DAYLIGHT
BEGIN:STANDARD
TZOFFSETFROM:+0200
TZOFFSETTO:+0100
TZNAME:CET
DTSTART:20251026T010000
END:STANDARD
END:VTIMEZONE
BEGIN:VEVENT
DTSTART;TZID=Europe/Madrid:20241217T190000
DTEND;TZID=Europe/Madrid:20241217T203000
DTSTAMP:20260423T081657
CREATED:20240723T105131Z
LAST-MODIFIED:20240723T132346Z
UID:10004782-1734462000-1734467400@ues.cat
SUMMARY:Xerrades obertes sobre temes de muntanya.- Malalties infeccioses i vacunes
DESCRIPTION:[vc_row][vc_column][vc_column_text]El Dr. Valentí Pineda Solas\, cap de pediatria de l’hospital Parc Taulí\, especialista en malalties infeccioses i vacunes; professor de la UAB\, ens parlarà d’amenaces en malalties infeccioses\, de l’efecte del canvi climàtic en la disminució de les cobertures vacunals i com aquest canvi fa que els vectors transmissors de malalties infeccioses mai vistes en el nostre entorn\, estiguin ara entre nosaltres com el Dengue\, Zika\, Virus del Nil…etc. També de com la falta d’accés a les vacunes o el rebuig a elles\, fa que malalties que ja no teníem\, com el xarampió\, la tos ferina o la meningitis\, tornin a ser entre nosaltres. \nVirtual (zoom) a les 19 h[/vc_column_text][/vc_column][/vc_row]
URL:https://ues.cat/agenda/xerrades-obertes-sobre-temes-de-muntanya-malalties-infeccioses-i-vacunes/
CATEGORIES:Muntanya
END:VEVENT
BEGIN:VEVENT
DTSTART;VALUE=DATE:20241218
DTEND;VALUE=DATE:20241219
DTSTAMP:20260423T081657
CREATED:20240530T181557Z
LAST-MODIFIED:20240613T100349Z
UID:10004763-1734480000-1734566399@ues.cat
SUMMARY:Les excursions del dimecres.- Ruta de les 3 ermites a Amer (La Selva)
DESCRIPTION:[vc_row][vc_column][vc_column_text]Santa Brígida\, la Mare de Déu del Puig d’Elena i l’ermita de Sant Roc\, són les tres ermites situades a l’altiplà envoltat de cingleres calcàries que s’aixeca entre la vall d’Amer i la de Llémena. \nDistància: 15 km >> Desnivell: +/- 630 m.[/vc_column_text][/vc_column][/vc_row]
URL:https://ues.cat/agenda/les-excursions-del-dimecres-3/
CATEGORIES:Esportives,Excursions dimecres
END:VEVENT
BEGIN:VEVENT
DTSTART;VALUE=DATE:20241218
DTEND;VALUE=DATE:20241219
DTSTAMP:20260423T081657
CREATED:20240923T132655Z
LAST-MODIFIED:20241205T090010Z
UID:10004797-1734480000-1734566399@ues.cat
SUMMARY:BTT.- Ronda Codinenca\, Sant Miquel del Fai
DESCRIPTION:[vc_row][vc_column][vc_column_text]Distància: 40 km – desnivell: +/- 750 m \nDificultat: Moderada \nRecorregut: Sant Feliu de Codines\, Sant Miquel del Fai\, Sant Pere de Bertí\, el Clascar\, Sant Miquel ses Perxes\, Mas Blanc\, El Paré i Sant Feliu de Codines. \nLloc i hora de trobada: Trobada al centre cívic de Sant Feliu de Codines a les 8:30 per sortir a les 9:00 h. \nDinar (optatiu): Restaurant La Fonteta de Sant Feliu de Codines\, al mateix centre cívic\, preu menú: 17€ (es paga in situ\, cal indicar si voldreu dinar en el moment de fer la inscripció). \nÉs obligatori portar casc\, càmera de recanvi\, manxa i eines bàsiques. \nInscripcions obertes \nMàxim 15 places \nMés informació a btt@ues.cat \n[/vc_column_text][/vc_column][/vc_row]
URL:https://ues.cat/agenda/btt-ronda-codinenca-sant-miquel-del-fai/
CATEGORIES:BTT,Esportives
END:VEVENT
BEGIN:VEVENT
DTSTART;VALUE=DATE:20241222
DTEND;VALUE=DATE:20241223
DTSTAMP:20260423T081657
CREATED:20240523T081439Z
LAST-MODIFIED:20241128T172741Z
UID:10004759-1734825600-1734911999@ues.cat
SUMMARY:Senders.- De la muntanya al mar\, de Sant Aniol de Finestres al pla de Sant Joan
DESCRIPTION:[vc_row][vc_column][vc_column_text]El diumenge 22 de desembre fem la 3ra etapa de la ruta des de la Muntanya al Mar. \nDe la Muntanya al Mar és una ruta senderista que s’inicia a Olot i finalitza a la platja de Pals. Transcorre per les comarques de la Garrotxa\, el Gironès i el Baix Empordà. \nComençarem a Sant Aniol de Finestres i seguirem tota la Vall de la Llémena en direcció al Gironès. Caminarem pel Camí Ral de la Vall de la Llémena que ens portarà a la ciutat de Girona en properes etapes. \nItinerari: Sant Aniol de Finestres – Sant Martí de Llémena – Pla de Sant Joan \nDistància: 15 km – desnivell: +60 m/-210 m de desnivell. Dificultat: fàcil \nSortida de tot el dia amb autocar \nInscripcions del 2 al 16 de desembre \n  \n  \n[/vc_column_text][/vc_column][/vc_row]
URL:https://ues.cat/agenda/senders-de-la-muntanya-al-mar-de-sant-aniol-de-finestres-al-pla-de-sant-joan/
CATEGORIES:Esportives,Senders
END:VEVENT
BEGIN:VEVENT
DTSTART;VALUE=DATE:20241222
DTEND;VALUE=DATE:20241223
DTSTAMP:20260423T081657
CREATED:20241003T183348Z
LAST-MODIFIED:20241210T115248Z
UID:10004424-1734825600-1734911999@ues.cat
SUMMARY:Marxa Nòrdica.- La clàssica de Nadal
DESCRIPTION:[vc_row][vc_column][vc_column_text]Recorregut: Sortirem de l’aparcament de La Fàbrica\, pujarem cap a Torre Romeu pel passeig\, baixarem direcció Santiga i tornarem per Poble Nou\, ermita de Sant Nicolau i camí del riu fins l’aparcament. \nDistància: 9\,8 km >> Desnivell: +/-220 m \nSortida a les 9:30 h Davant de ‘La Fàbrica’\, carrer del Riu Ripoll. Sortida matinal. \nInscripcions a secrertaria o a ues.cat (inscripcions activitats). Activitat gratuïta. Cal estar federat/ada. \nSortida a càrrec d’Anna Puig.[/vc_column_text][/vc_column][/vc_row]
URL:https://ues.cat/agenda/marxa-nordica-caminada-de-nadal-2/
CATEGORIES:Esportives,Marxa Nòrdica
END:VEVENT
END:VCALENDAR