BEGIN:VCALENDAR
VERSION:2.0
PRODID:-//UES - ECPv6.15.20//NONSGML v1.0//EN
CALSCALE:GREGORIAN
METHOD:PUBLISH
X-ORIGINAL-URL:https://ues.cat
X-WR-CALDESC:Activitats per UES
REFRESH-INTERVAL;VALUE=DURATION:PT1H
X-Robots-Tag:noindex
X-PUBLISHED-TTL:PT1H
BEGIN:VTIMEZONE
TZID:Europe/Madrid
BEGIN:DAYLIGHT
TZOFFSETFROM:+0100
TZOFFSETTO:+0200
TZNAME:CEST
DTSTART:20240331T010000
END:DAYLIGHT
BEGIN:STANDARD
TZOFFSETFROM:+0200
TZOFFSETTO:+0100
TZNAME:CET
DTSTART:20241027T010000
END:STANDARD
BEGIN:DAYLIGHT
TZOFFSETFROM:+0100
TZOFFSETTO:+0200
TZNAME:CEST
DTSTART:20250330T010000
END:DAYLIGHT
BEGIN:STANDARD
TZOFFSETFROM:+0200
TZOFFSETTO:+0100
TZNAME:CET
DTSTART:20251026T010000
END:STANDARD
BEGIN:DAYLIGHT
TZOFFSETFROM:+0100
TZOFFSETTO:+0200
TZNAME:CEST
DTSTART:20260329T010000
END:DAYLIGHT
BEGIN:STANDARD
TZOFFSETFROM:+0200
TZOFFSETTO:+0100
TZNAME:CET
DTSTART:20261025T010000
END:STANDARD
END:VTIMEZONE
BEGIN:VEVENT
DTSTART;VALUE=DATE:20250319
DTEND;VALUE=DATE:20250320
DTSTAMP:20260422T222312
CREATED:20241125T165109Z
LAST-MODIFIED:20250317T154716Z
UID:10004840-1742342400-1742428799@ues.cat
SUMMARY:Les excursions del dimecres.- Collades de Meranges (anul·lada)
DESCRIPTION:[vc_row][vc_column][vc_column_text]Collades de Meranges  (BERGUEDÀ) \nRuta circular des del Clot del Moro cap al naixement del Llobregat. \nDistància: 11 km >> Desnivell: 500 m \nDificultat: sense dificultat tècnica. Tipus de camí: corriols\, pista i camí per bosc amb algun pendent pronunciat\, tant de pujada com de baixada. \nSortida de tot el dia en autocar. Cal portar esmorzar i dinar \n[/vc_column_text][/vc_column][/vc_row]
URL:https://ues.cat/agenda/les-excursions-del-dimecres-a-determinar-2/
CATEGORIES:Esportives,Excursions dimecres
END:VEVENT
BEGIN:VEVENT
DTSTART;VALUE=DATE:20250320
DTEND;VALUE=DATE:20250321
DTSTAMP:20260422T222312
CREATED:20240923T134213Z
LAST-MODIFIED:20250303T090425Z
UID:10004800-1742428800-1742515199@ues.cat
SUMMARY:BTT.- Santes Creus-Sant Jaume de Montagut
DESCRIPTION:[vc_row][vc_column][vc_column_text]Distància: 36 >> Desnivell: +700 >> Dificultat: moderada \nTrobada al Bar l’Esport de Santes Creus\, c/ de Pere el Gran\, 4\,  a les 9 del matí\, per sortir cap a 3/4 de 10. \nDinar: Opcional a l’hostal Grau de Santes Creus\, carrer de Pere el Gran\, 3. Preu menú 17 euros. ( es paga in situ\, i cal indicar si voleu dinar\, en el moment de la inscripció. \nRecorregut:  Santes Creus\, Les Pobles\, Mas d’en Bosch\, coll de la Torreta\, llac de formigosa\, ermita de Sant Jaume de Montagut\, coll de la Torre de Querol\, L’Arboçar i Santes Creus. \nPlaces limitades: 16 \nInscripcions: del 6 al 18 de març. \nMés info: btt@ues.cat[/vc_column_text][/vc_column][/vc_row]
URL:https://ues.cat/agenda/btt-santes-creus-sant-jaume-de-montagut/
CATEGORIES:BTT,Esportives
END:VEVENT
BEGIN:VEVENT
DTSTART;VALUE=DATE:20250322
DTEND;VALUE=DATE:20250323
DTSTAMP:20260422T222312
CREATED:20250109T130123Z
LAST-MODIFIED:20250311T105101Z
UID:10004877-1742601600-1742687999@ues.cat
SUMMARY:Orientació.-Campionat escolar i universitari i cursa popular
DESCRIPTION:[vc_row][vc_column][vc_column_text] \nA Ripollet i Montcada i Reixac\nConsisteix en dues curses\, una mitja al matí a Montcada i Reixac al mapa de Mas Rampinyo i un esprint a la tarda al mapa del Parc dels Pinetons a Ripollet. \nEl/La guanyador/a de cada categoria sortirà de la suma de les dues curses \nConsulteu tota la informació[/vc_column_text][/vc_column][/vc_row]
URL:https://ues.cat/agenda/orientacio-campionat-escolar-i-universitari-a-ripollet-i-montcada-i-reixac-organitza-ues/
CATEGORIES:Esportives,Orientació
END:VEVENT
BEGIN:VEVENT
DTSTART;VALUE=DATE:20250323
DTEND;VALUE=DATE:20250324
DTSTAMP:20260422T222312
CREATED:20241125T165226Z
LAST-MODIFIED:20250227T084658Z
UID:10004841-1742688000-1742774399@ues.cat
SUMMARY:Senders.- de la muntanya al mar: dels Àngels a Corçà
DESCRIPTION:[vc_row][vc_column][vc_column_text]Itinerari: Santuari dels Àngels- Madremanya- Castell de Millàs- Monells- Corçà \nDistància: 17 Km >> Desnivell: +205m/-650m \nSortida de tot el dia en autocar (cal portar aigua\, esmorzar i dinar) \nSortida a les 7 del matí davant l’Hotel Sabadell\,[/vc_column_text][/vc_column][/vc_row]
URL:https://ues.cat/agenda/senders-a-determinar-4/
CATEGORIES:Esportives,Senders
END:VEVENT
END:VCALENDAR