BEGIN:VCALENDAR
VERSION:2.0
PRODID:-//UES - ECPv6.15.20//NONSGML v1.0//EN
CALSCALE:GREGORIAN
METHOD:PUBLISH
X-ORIGINAL-URL:https://ues.cat
X-WR-CALDESC:Activitats per UES
REFRESH-INTERVAL;VALUE=DURATION:PT1H
X-Robots-Tag:noindex
X-PUBLISHED-TTL:PT1H
BEGIN:VTIMEZONE
TZID:Europe/Madrid
BEGIN:DAYLIGHT
TZOFFSETFROM:+0100
TZOFFSETTO:+0200
TZNAME:CEST
DTSTART:20240331T010000
END:DAYLIGHT
BEGIN:STANDARD
TZOFFSETFROM:+0200
TZOFFSETTO:+0100
TZNAME:CET
DTSTART:20241027T010000
END:STANDARD
BEGIN:DAYLIGHT
TZOFFSETFROM:+0100
TZOFFSETTO:+0200
TZNAME:CEST
DTSTART:20250330T010000
END:DAYLIGHT
BEGIN:STANDARD
TZOFFSETFROM:+0200
TZOFFSETTO:+0100
TZNAME:CET
DTSTART:20251026T010000
END:STANDARD
BEGIN:DAYLIGHT
TZOFFSETFROM:+0100
TZOFFSETTO:+0200
TZNAME:CEST
DTSTART:20260329T010000
END:DAYLIGHT
BEGIN:STANDARD
TZOFFSETFROM:+0200
TZOFFSETTO:+0100
TZNAME:CET
DTSTART:20261025T010000
END:STANDARD
END:VTIMEZONE
BEGIN:VEVENT
DTSTART;TZID=Europe/Madrid:20250407T083000
DTEND;TZID=Europe/Madrid:20250407T140000
DTSTAMP:20260422T165152
CREATED:20250306T162306Z
LAST-MODIFIED:20250318T140905Z
UID:10004925-1744014600-1744034400@ues.cat
SUMMARY:UES Inclusiva.- Ribatallada i la font de la Teula
DESCRIPTION:[vc_row][vc_column][vc_column_text]Sortides inclusives. Excursions amb persones amb discapacitat visual i auditiva. \nItinerari: La Plana del Pintor – camí del Ripoll – camí de Ribatllada – Sant Julià d’Altura – Can Deu \nDistància: 10 km >> Desnivell: +/- 140 m \nHora i punt de trobada: Estació FGC Parc del Nord a la Plana del Pintor a les 8:30 h \nCal portar aigua\, esmorzar\, roba adequada a les condicions climatològiques\, calçat per caminar per muntanya i 1 bastó de senderisme.. i ganes de fer de guies.\, \nDinar social opcional al restaurant ‘Casa Paco’ (menú: 11\,95€)[/vc_column_text][/vc_column][/vc_row]
URL:https://ues.cat/agenda/ues-inclusiva-ribatallada-i-la-font-de-la-teula/
CATEGORIES:Esportives,Inclusiva,Socials
END:VEVENT
BEGIN:VEVENT
DTSTART;VALUE=DATE:20250409
DTEND;VALUE=DATE:20250410
DTSTAMP:20260422T165152
CREATED:20240923T134256Z
LAST-MODIFIED:20250327T091520Z
UID:10004801-1744156800-1744243199@ues.cat
SUMMARY:BTT.- Volta per la Vall del Ges (Osona)
DESCRIPTION:[vc_row][vc_column][vc_column_text] \nDificultat: Moderada \nDistància: 39 km >> Desnivell: + 850 m \nRecorregut circular: Torelló\, colònia tèxtil El Pelut\, colònia tèxtil Borbonyà (Els Anglesos – Fabra&Coats)\, mirador Sot-Gran\, Font- Santa\, Bellmunt o ermita de Sant Roc\, pont romànic La Riera\, Santuari Puig Agut\, vora Ter i Torelló (poden haver-hi variacions segons temps). \nLloc i hora de trobada: Restaurant el Triangle a Torelló (C. del Ter\, 200\, pol. ind. Mata-Bosch). A les 8:15 h. Sortida a les 9 h. \nÉs obligatori portar casc\, càmera de recanvi\, manxa i eines bàsiques. \nCal estar federat/ada o tramitar una assegurança temporal FEEC de dia (5\,90€). \nInscripcions del 27 de març al 7 d’abril. \nSocis/es: 2€ // soci@web i no socis/es: 7€. \nMàxim 15 places. Més informació a btt@ues.cat \nDinar (optatiu): Al mateix restaurant El Triangle. Preu menú 16/17 euros\, que es pagaran in situ. Cal indicar si voleu dinar en el moment de fer la inscripció. \n[/vc_column_text][/vc_column][/vc_row]
URL:https://ues.cat/agenda/btt-volta-per-osona-i-llucanes/
CATEGORIES:BTT,Esportives
END:VEVENT
BEGIN:VEVENT
DTSTART;VALUE=DATE:20250412
DTEND;VALUE=DATE:20250413
DTSTAMP:20260422T165152
CREATED:20241128T193239Z
LAST-MODIFIED:20250402T160249Z
UID:10004863-1744416000-1744502399@ues.cat
SUMMARY:Muntanya.- Massís del Montgrí\, Baix Empordà
DESCRIPTION:[vc_row][vc_column][vc_column_text]Sortirem a prop de la pedrera d’Ullà\, seguirem el camí direcció nord\, per pujar\, per la cara sud\, fins al cim del Puig Rodó. Baixarem fins al coll de Santa Caterina i ens dirigirem al Castell de Montgrí\, d’obligada visita. Seguirem fins al coll de Garrigàs i d’aquí cap a l’ermita de Santa Caterina. Passarem per la urbanització Torre Vella i anirem cap la Torre Morratxa\, amb bones vistes cap al sud de l’Estartit i la Gola del Ter. Baixarem per la cara nord fins al mirador del Cap de la Barra on podem admirar el mar i les properes illes Medes. \nDistància: 15 km >> Desnivell: + 790 / -800 m >> Temps efectiu: 6 h. aprox >> Nivell de dificultat: Moderada \nL’itinerari no té cap dificultat tècnica\, ni un desnivell considerable. Així hi tot\, és un terreny força pedregós que necessitarà atenció. \nMaterial: Aigua\, esmorzar i dinar (excursió de tot el dia) \nTrobada a les 6:30 h a l’aparcament del Parc Catalunya\, davant Club de Tenis. \nPreu: Socis/es: 25€ >> soci@web i no socis/es: 32€ (inclou les despeses de cotxe compartit). \nCal estar federat/ada o bé tramitar assegurança temporal obligatòria de dia. \nInscripcions obertes fins el 10/04 a ues.cat\, app o presencialment a secretaria. Màxim 20 places. \nReunió prèvia el dijous 10/04 a les 19 h a la UES. \nVocals sortida: Miquel Serra \n[/vc_column_text][/vc_column][/vc_row]
URL:https://ues.cat/agenda/muntanya-massis-del-montgri-baix-emporda/
CATEGORIES:Esportives,Muntanya
END:VEVENT
BEGIN:VEVENT
DTSTART;VALUE=DATE:20250412
DTEND;VALUE=DATE:20250417
DTSTAMP:20260422T165152
CREATED:20250206T191921Z
LAST-MODIFIED:20250307T171429Z
UID:10004906-1744416000-1744847999@ues.cat
SUMMARY:La Ganyota.- Colònies de Setmana Santa
DESCRIPTION:[vc_row][vc_column][vc_column_text]Colònies de Setmana Santa a La Garrotxa \nPer a infants nascuts entre 2011 i 2018 \nMés informació: \nhttps://laganyotaesplai.wordpress.com/inscripcions-colonies/ \n[/vc_column_text][/vc_column][/vc_row]
URL:https://ues.cat/agenda/la-ganyota-colonies-de-setmana-santa-2/
CATEGORIES:Esplai La Ganyota,Esportives
END:VEVENT
END:VCALENDAR