BEGIN:VCALENDAR
VERSION:2.0
PRODID:-//UES - ECPv6.15.20//NONSGML v1.0//EN
CALSCALE:GREGORIAN
METHOD:PUBLISH
X-WR-CALNAME:UES
X-ORIGINAL-URL:https://ues.cat
X-WR-CALDESC:Activitats per UES
REFRESH-INTERVAL;VALUE=DURATION:PT1H
X-Robots-Tag:noindex
X-PUBLISHED-TTL:PT1H
BEGIN:VTIMEZONE
TZID:Europe/Madrid
BEGIN:DAYLIGHT
TZOFFSETFROM:+0100
TZOFFSETTO:+0200
TZNAME:CEST
DTSTART:20240331T010000
END:DAYLIGHT
BEGIN:STANDARD
TZOFFSETFROM:+0200
TZOFFSETTO:+0100
TZNAME:CET
DTSTART:20241027T010000
END:STANDARD
BEGIN:DAYLIGHT
TZOFFSETFROM:+0100
TZOFFSETTO:+0200
TZNAME:CEST
DTSTART:20250330T010000
END:DAYLIGHT
BEGIN:STANDARD
TZOFFSETFROM:+0200
TZOFFSETTO:+0100
TZNAME:CET
DTSTART:20251026T010000
END:STANDARD
BEGIN:DAYLIGHT
TZOFFSETFROM:+0100
TZOFFSETTO:+0200
TZNAME:CEST
DTSTART:20260329T010000
END:DAYLIGHT
BEGIN:STANDARD
TZOFFSETFROM:+0200
TZOFFSETTO:+0100
TZNAME:CET
DTSTART:20261025T010000
END:STANDARD
END:VTIMEZONE
BEGIN:VEVENT
DTSTART;TZID=Europe/Madrid:20250625T080000
DTEND;TZID=Europe/Madrid:20250625T170000
DTSTAMP:20260422T120040
CREATED:20241125T172722Z
LAST-MODIFIED:20250609T140355Z
UID:10004464-1750838400-1750870800@ues.cat
SUMMARY:Senders a la fresca.-Anella Verda de Terrassa
DESCRIPTION:[vc_row][vc_column][vc_column_text]de Sant Miquel de Gonteres a Matadepera \nSortida matinal. \nHora de trobada a les 7:30 h a estació RENFE de Sant Miquel de Gonteres. Finalització a les 11 del matí a Matadepera. \nDistància: 8 km >> Desnivell: +245 /- 140 m desnivell >> Dificultat: Fàcil \nEl transport fins al punt de sortida i arribada anirà a càrrec de cada participant- \nItinerari: Sant Miquel de Gonteres – Riera de Gaià – Parc Audiovisual de Terrassa – Pla del Bon Aire – Matadepera \nCal portar: aigua fresca\, esmozar\, 2 bastons\, calçat de muntanya i roba adient a ñes condicions climatològqiues.[/vc_column_text][/vc_column][/vc_row]
URL:https://ues.cat/agenda/senders-a-la-fresca-anella-verda-de-terrassa/
CATEGORIES:Esportives,Senders
END:VEVENT
BEGIN:VEVENT
DTSTART;VALUE=DATE:20250628
DTEND;VALUE=DATE:20250629
DTSTAMP:20260422T120040
CREATED:20250219T173618Z
LAST-MODIFIED:20250612T184336Z
UID:10004915-1751068800-1751155199@ues.cat
SUMMARY:Muntanya.- Estanys de La Pera\, Pic del Perafita i Monturull (Cerdanya)
DESCRIPTION:[vc_row][vc_column][vc_column_text] \nGaudirem d’un magnífic itinerari semicircular interpretatiu fins a coronar el cim del Perafita i el Monturull gaudint d’unes esplèndides vistes i magnífics estanys. \nGaudirem d’un magnífic itinerari semicircular interpretatiu fins a coronar el cim del Perafita i el Monturull gaudint d’unes esplèndides vistes i magnífics estanys. \nDeixarem els cotxes al pàrquing de l’estació d’esquí nòrdic d’Aransa\, El Fornell. Des d’aquí agafarem una pista per rere el refugi que ens portarà fins al riu del Molí on el seu corriol riu amunt ens conduirà fins a Pollineres\, al Salt d’aigua del Planell\, l’estany petit de La Pera i l’estany Gran de La Pera on farem un mos abans d’assolir el cim del Perafita. Estany amunt\, creuarem uns aiguamolls i ens enfilarem fins a la carena que ens conduirà fins el cim del Perafita o Tossal de la Truita (2753m). Des d’aquí es pot fer un segon cim\, el Monturull ( 2760m) per després baixar pel seu coll fins a la Serra de l’Airosa\, la bassa de la Claror i arribar de nou a l’estany Gran de La Pera. \nDistància: 18 km >> Desnivell: +/-1000m >> Temps efectiu: 8 h >> Dificultat: Mitjana (alta muntanya). \nMés informació[/vc_column_text][/vc_column][/vc_row]
URL:https://ues.cat/agenda/muntanya-pic-de-perafita-baixa-cerdanya/
CATEGORIES:Esportives,Muntanya
END:VEVENT
BEGIN:VEVENT
DTSTART;VALUE=DATE:20250629
DTEND;VALUE=DATE:20250630
DTSTAMP:20260422T120040
CREATED:20250429T080911Z
LAST-MODIFIED:20250429T080911Z
UID:10004573-1751155200-1751241599@ues.cat
SUMMARY:JOVES.- Castellsapera - Montcau
DESCRIPTION:Ruta circular pel parc natural de Sant Llorenç passant pels cims de Montcau i Castellsapera. \nDistància: 15km >> Desnivell:+500m \nHora de sortida: 7h Plaça de les Dones del Tèxtil \nCotxes particulars
URL:https://ues.cat/agenda/joves-castellsapera-montcau/
CATEGORIES:Esportives,Jovent,Socials
END:VEVENT
END:VCALENDAR