BEGIN:VCALENDAR
VERSION:2.0
PRODID:-//UES - ECPv6.15.20//NONSGML v1.0//EN
CALSCALE:GREGORIAN
METHOD:PUBLISH
X-ORIGINAL-URL:https://ues.cat
X-WR-CALDESC:Activitats per UES
REFRESH-INTERVAL;VALUE=DURATION:PT1H
X-Robots-Tag:noindex
X-PUBLISHED-TTL:PT1H
BEGIN:VTIMEZONE
TZID:Europe/Madrid
BEGIN:DAYLIGHT
TZOFFSETFROM:+0100
TZOFFSETTO:+0200
TZNAME:CEST
DTSTART:20240331T010000
END:DAYLIGHT
BEGIN:STANDARD
TZOFFSETFROM:+0200
TZOFFSETTO:+0100
TZNAME:CET
DTSTART:20241027T010000
END:STANDARD
BEGIN:DAYLIGHT
TZOFFSETFROM:+0100
TZOFFSETTO:+0200
TZNAME:CEST
DTSTART:20250330T010000
END:DAYLIGHT
BEGIN:STANDARD
TZOFFSETFROM:+0200
TZOFFSETTO:+0100
TZNAME:CET
DTSTART:20251026T010000
END:STANDARD
BEGIN:DAYLIGHT
TZOFFSETFROM:+0100
TZOFFSETTO:+0200
TZNAME:CEST
DTSTART:20260329T010000
END:DAYLIGHT
BEGIN:STANDARD
TZOFFSETFROM:+0200
TZOFFSETTO:+0100
TZNAME:CET
DTSTART:20261025T010000
END:STANDARD
END:VTIMEZONE
BEGIN:VEVENT
DTSTART;VALUE=DATE:20251105
DTEND;VALUE=DATE:20251106
DTSTAMP:20260422T032837
CREATED:20250320T191313Z
LAST-MODIFIED:20251023T143336Z
UID:10004553-1762300800-1762387199@ues.cat
SUMMARY:Senders km 0.- La Torre Negra (Sant Cugat)
DESCRIPTION:Ruta que ens permet gaudir d’una de les zones més naturals de Sant Cugat del Vallès i de Cerdanyola del Vallès: la Torre Negra\, el Pi d’en Xandri\, la Torre Cendrera\, i de camins i corriols ombrívols i humits de la vall de Gausac\, una vall oberta a la Plana del Vallès pel nord\, on en èpoques remotes (segle IX) es va establir el Monestir de Sant Cugat\, en una cruïlla de camins que venien de Barcelona i creuaven la península des de l’època romana. \nPunt i hora de trobada: estació dels FGC Sant Cugat Centre\, al 8:30 del matí. \nSortida col·lectiva des de Sabadell en FGC a les 8 del matí (1 zona). \nParc del Nord: 8:02 >> Sabadell Nord: 8:04 >> Creu Alta: 8:06 >> Plaça Major: 8:08 >> Can Feu -Gràcia: 08:10 \nDistància: 10\,60 km >> Desnivell: +/- 200 m \nHora aproximada de finalització a Sant Cugat 13:30 h. \nEl desplaçament al punt de trobada i de tornada es farà en transport públic i anirà a càrrec dels participants. \n 
URL:https://ues.cat/agenda/senders-km-0-la-torre-negra-sant-cugat/
CATEGORIES:Esportives,Senders
END:VEVENT
BEGIN:VEVENT
DTSTART;VALUE=DATE:20251108
DTEND;VALUE=DATE:20251109
DTSTAMP:20260422T032837
CREATED:20250307T175901Z
LAST-MODIFIED:20251029T171829Z
UID:10004534-1762560000-1762646399@ues.cat
SUMMARY:Muntanya.- Serra de Montsant. Priorat
DESCRIPTION:Recorregut circular des de La Morera del Montsant\, per racons emblemàtics del Montsant\, passant entra d’altres pel mític i fantàstic Grau del Barrots\, el Balcó del Priorat\, el preciós racó dels Boixets\, el barranc de les Falles\, el Mirador dels Boixets\, el Toll de l’Ou\, seguint cap a la Cova de l’ós\, el comellar de la Cova de l’ós\, creuant la Serra major pel camí de capçada i baixant a la Morera pel Grau de l’Espinós. \nDistància: 13 km >> Desnivell: +/- 890 m >> Nivell de dificultat: Moderat. Mitja muntanya >> Temps efectiu: 6 h \nMaterial: Força aigua\, esmorzar i dinar \nSortida en cotxes particulars. Trobada a les 6 h a l’aparcament del Parc Catalunya\, davant Club de Tenis. \nPreu: Socis/es: 25€ >> soci@web i no socis/es: 32€ (inclou les despeses de cotxe compartit). \nCal estar federat/ada o bé tramitar assegurança temporal obligatòria de dia. \nInscripcions obertes a partir del 27 d’octubre ues.cat\, app o presencialment a secretaria. Màxim 20 places. \nReunió informativa: Dijous 6 de novembre\, a les 19:30 h a la UES. \nVocal: Enric Malvesi.
URL:https://ues.cat/agenda/muntanya-serra-de-montsant-prioritat/
CATEGORIES:Esportives,Muntanya
END:VEVENT
BEGIN:VEVENT
DTSTART;VALUE=DATE:20251108
DTEND;VALUE=DATE:20251109
DTSTAMP:20260422T032837
CREATED:20250320T191432Z
LAST-MODIFIED:20250923T103400Z
UID:10004554-1762560000-1762646399@ues.cat
SUMMARY:Senders.- GR 1 sender històric\, de Sant Joan de les Abadesses a Ripoll
DESCRIPTION:Itinerari: Sant Joan de les Abadesses – Mas Serra del Cadell – Torrent del Roser – Barran del Salamó – Torrent de la Ginebrosa – Collada de Can Roca – Camí de Coll de Jou – Camí Ruta del Ferro – Ripoll. \nDistància: 14\,99 km  >> Desnivell: +323/-438 m \nSortida en autocar de tot el dia.
URL:https://ues.cat/agenda/senders-gr-1-sender-historic-2/
CATEGORIES:Esportives,Senders
END:VEVENT
BEGIN:VEVENT
DTSTART;VALUE=DATE:20251109
DTEND;VALUE=DATE:20251110
DTSTAMP:20260422T032837
CREATED:20250218T085642Z
LAST-MODIFIED:20251021T104957Z
UID:10004517-1762646400-1762732799@ues.cat
SUMMARY:MARXA EXCURSIONISTA INFANTIL DE REGULARITAT
DESCRIPTION:El diumenge 9 de novembre de 2025 els més petits tenen una nova cita amb un dels grans clàssics de la UES: la Marxa Excursionista Infantil de Regularitat. \nInscripcions obertes. \nConsulteu-ne tota la informació
URL:https://ues.cat/agenda/marxa-excursionista-infantil-de-regularitat/
CATEGORIES:Esplai La Ganyota,Esportives,Famílies,Socials
END:VEVENT
END:VCALENDAR