BEGIN:VCALENDAR
VERSION:2.0
PRODID:-//UES - ECPv6.15.20//NONSGML v1.0//EN
CALSCALE:GREGORIAN
METHOD:PUBLISH
X-ORIGINAL-URL:https://ues.cat
X-WR-CALDESC:Activitats per UES
REFRESH-INTERVAL;VALUE=DURATION:PT1H
X-Robots-Tag:noindex
X-PUBLISHED-TTL:PT1H
BEGIN:VTIMEZONE
TZID:Europe/Madrid
BEGIN:DAYLIGHT
TZOFFSETFROM:+0100
TZOFFSETTO:+0200
TZNAME:CEST
DTSTART:20240331T010000
END:DAYLIGHT
BEGIN:STANDARD
TZOFFSETFROM:+0200
TZOFFSETTO:+0100
TZNAME:CET
DTSTART:20241027T010000
END:STANDARD
BEGIN:DAYLIGHT
TZOFFSETFROM:+0100
TZOFFSETTO:+0200
TZNAME:CEST
DTSTART:20250330T010000
END:DAYLIGHT
BEGIN:STANDARD
TZOFFSETFROM:+0200
TZOFFSETTO:+0100
TZNAME:CET
DTSTART:20251026T010000
END:STANDARD
BEGIN:DAYLIGHT
TZOFFSETFROM:+0100
TZOFFSETTO:+0200
TZNAME:CEST
DTSTART:20260329T010000
END:DAYLIGHT
BEGIN:STANDARD
TZOFFSETFROM:+0200
TZOFFSETTO:+0100
TZNAME:CET
DTSTART:20261025T010000
END:STANDARD
END:VTIMEZONE
BEGIN:VEVENT
DTSTART;VALUE=DATE:20251217
DTEND;VALUE=DATE:20251218
DTSTAMP:20260422T015223
CREATED:20250729T075817Z
LAST-MODIFIED:20251202T093455Z
UID:10004984-1765929600-1766015999@ues.cat
SUMMARY:Les excursions del dimecres.- Aiguafreda i la muralla de Montgròs
DESCRIPTION:Osona \nRuta circular carregada d’història que\, sortint de la població d’Aiguafreda\, ens portarà fins a la muralla ibèrica de Montgròs\, situada al turó del mateix nom (767 m)\, al terme municipal del Brull i dins el Parc Natural del Montseny. Es tracta d’una impressionant muralla de 150 metres de llarg que tanca un espai delimitat per penya-segats construïda pels ibers ausetans a partir del segle V aC. \nPer arribar-hi seguirem el GR-2 fins a Can Serra de l’Arca i continuarem pel camí del Sení\, un bonic corriol que avança (i puja) entre boscos i ofereix bones vistes al Tagamanent i al Pla de la Calma. Una pista ens conduirà fins al Montgròs i\, des d’allà\, iniciarem la baixada per un altre corriol que recorre boscos d’encanteri i màgics\, fins a arribar a Aiguafreda de Dalt\, l’antic centre del municipi. Allà hi trobarem l’antiga església parroquial de Sant Martí d’Aiguafreda i la seva rectoria\, on farem parada per dinar. \nDistància: 14\,5 km >> Desnivell: +/- 520 m \nSortida en autocar de tot el dia. Cal portar esmorzar i dinar\, calçat i roba adient a les condicions climatològiques. \nAbans de començar\, es podrà esmorzar a Aiguafreda. \nSortida  les 7:30 h des de Sabadell.
URL:https://ues.cat/agenda/les-excursions-del-dimecres-aiguafreda/
CATEGORIES:Esportives,Excursions dimecres
END:VEVENT
BEGIN:VEVENT
DTSTART;VALUE=DATE:20251218
DTEND;VALUE=DATE:20251219
DTSTAMP:20260422T015223
CREATED:20251128T091610Z
LAST-MODIFIED:20251201T195345Z
UID:10005069-1766016000-1766102399@ues.cat
SUMMARY:Presentació del llibre “Encontres amb l’escurçó” d'Albert Masó Garcia
DESCRIPTION:A les 19 h a la sala d’actes\, gratuït. \nPresentació del llibre “Encontres amb l’escurçó” a càrrec del seu autor\, el consoci Albert Masó Garcia. \nEls escurçons són unes serps de la família dels vipèrids que habiten en alguns boscos i muntanyes de Catalunya i actualment són una espècie protegida. Arran d’una dramàtica experiència personal viscuda amb un d’aquests rèptils\, l’Albert Masó Garcia va descobrir que la gran majoria de persones amb qui compartia el seu cas no sabia pràcticament res sobre els escurçons. Gairebé sense voler-ho\, va anar coneixent i recopilant diversos casos d’encontres amb aquests animals en un àmbit muntanyenc català. Amb un esperit de testimoniatge i divulgació i en cap cas científic\, l’Albert ha bastit el present llibre amb un recull de casos verídics obtinguts de primera mà amb protagonistes tant femenins com masculins i de totes les edats. A més\, també se citen algunes llegendes i es fa referència a temes molt diversos relacionats amb els escurçons. Tot plegat dona com a resultat una amalgama de dades i reflexions que pretén aportar coneixement i alhora difondre un missatge de màxima consideració i respecte vers aquestes serps fascinants. \nAlbert Masó Garcia (Sabadell\, 1976). Enginyer tècnic industrial\, muntanyenc i escriptor. Des de ben petit ha ascendit muntanyes arreu de Catalunya i més enllà\, i amb el seu germà Òscar Masó ha format una cordada aperturista reconeguda i consolidada\, comptabilitzant entre tots dos l’obertura de més de 410 vies d’escalada noves i l’ascensió de tots els monòlits de Sant Llorenç del Munt\, l’Obac i Sant Salvador de les Espases i més de 600 a Montserrat. És autor dels llibres Cims i miradors de Montserrat. Caminades (2018)\, Cims dels rodals de Montserrat (2019)\, Cims de Sant Llorenç del Munt (2022) i Cims de la serra de l’Obac (2024). És coautor juntament amb el seu germà dels llibres Escalades a Montserrat\, el Cairat i Sant Llorenç del Munt i l’Obac (X Premi Vèrtex\, 2011)\, Catàleg de roques i agulles monolítiques del massís de Sant Salvador de les Espases (II Premi de Recerca Vila d’Esparreguera\, 2018) i Catàleg de roques i agulles monolítiques dels turons de l’Escletxa i de Montconill (2025). Amb l’Òscar\, també ha realitzat la coordinació del llibre Relats muntanyencs de joventut (accèssit al premi Jacint Verdaguer de la 42a Fira de Muntanya de Vic\, 2023). També és coautor de deu llibres més\, ha escrit un parell de pròlegs i més d’un centenar d’articles en butlletins de centres excursionistes i revistes de muntanya i ha estat guardonat amb diversos premis literaris i de cinema de muntanya. \nhttps://www.escriptors.cat/autors/masoa \nhttps://masogarcia.com \nInstagram: @germansmasogarcia
URL:https://ues.cat/agenda/presentacio-del-llibre-encontres-amb-lescurco-de-albert-maso-garcia/
CATEGORIES:Cultura,Culturals,Esportives
END:VEVENT
BEGIN:VEVENT
DTSTART;VALUE=DATE:20251220
DTEND;VALUE=DATE:20251221
DTSTAMP:20260422T015223
CREATED:20250320T193211Z
LAST-MODIFIED:20251209T111943Z
UID:10004559-1766188800-1766275199@ues.cat
SUMMARY:Senders.- GR1\, sender històric. Les Llosses a Alpens
DESCRIPTION:Distància: 11\,22 km >> Desnivell: +440/-386 m \nHora i lloc de sortida: 7 del matí\, davant l’Hotel Sabadell \nSortida en autocar de tot el dia. Cal portar aigua\, esmorzar i dinar. \nItinerari: Camí de Sant Sadurní de Sovelles- Mas Pinoses- St. Martí de Vinyoles de Portavella 1040m-  Collet de la Baga- Sta. Margarida de Vinyoles Matamosses- Roca de Pena- Cal Torrats-  Oratori de St. Antoni- Alpens.
URL:https://ues.cat/agenda/senders-gr1-sender-historic-2/
CATEGORIES:Esportives,Senders
END:VEVENT
BEGIN:VEVENT
DTSTART;VALUE=DATE:20251221
DTEND;VALUE=DATE:20251222
DTSTAMP:20260422T015223
CREATED:20250320T184636Z
LAST-MODIFIED:20251218T105536Z
UID:10004947-1766275200-1766361599@ues.cat
SUMMARY:Marxa Nòrdica.- Matinal de Nadal (anul·lada)
DESCRIPTION:Sortida anul·lada per les restriccions derivades de la peste porcina africana \n  \nRecorregut: Sortirem de l’aparcament de La Fàbrica\, pujarem cap a Torre Romeu pel passeig\, baixarem direcció Santiga i tornarem per Poble Nou\, ermita de Sant Nicolau i camí del riu fins l’aparcament. \nSortida a càrrec d’Anna Puig. \nDistància: 9\,8 km >> Desnivell: +/-220 m \nSortida a les 9:30 h Davant de ‘La Fàbrica’\, carrer del Riu Ripoll \nSortida matinal. \nInscripcions a secretaria a partir del dia 8 de desembre o a ues.cat (inscripcions activitats) Activitat gratuïta.
URL:https://ues.cat/agenda/marxa-nordica-matinal-de-nadal/
CATEGORIES:Esportives,Marxa Nòrdica
END:VEVENT
END:VCALENDAR