BEGIN:VCALENDAR
VERSION:2.0
PRODID:-//UES - ECPv6.15.20//NONSGML v1.0//EN
CALSCALE:GREGORIAN
METHOD:PUBLISH
X-WR-CALNAME:UES
X-ORIGINAL-URL:https://ues.cat
X-WR-CALDESC:Activitats per UES
REFRESH-INTERVAL;VALUE=DURATION:PT1H
X-Robots-Tag:noindex
X-PUBLISHED-TTL:PT1H
BEGIN:VTIMEZONE
TZID:Europe/Madrid
BEGIN:DAYLIGHT
TZOFFSETFROM:+0100
TZOFFSETTO:+0200
TZNAME:CEST
DTSTART:20250330T010000
END:DAYLIGHT
BEGIN:STANDARD
TZOFFSETFROM:+0200
TZOFFSETTO:+0100
TZNAME:CET
DTSTART:20251026T010000
END:STANDARD
BEGIN:DAYLIGHT
TZOFFSETFROM:+0100
TZOFFSETTO:+0200
TZNAME:CEST
DTSTART:20260329T010000
END:DAYLIGHT
BEGIN:STANDARD
TZOFFSETFROM:+0200
TZOFFSETTO:+0100
TZNAME:CET
DTSTART:20261025T010000
END:STANDARD
BEGIN:DAYLIGHT
TZOFFSETFROM:+0100
TZOFFSETTO:+0200
TZNAME:CEST
DTSTART:20270328T010000
END:DAYLIGHT
BEGIN:STANDARD
TZOFFSETFROM:+0200
TZOFFSETTO:+0100
TZNAME:CET
DTSTART:20271031T010000
END:STANDARD
END:VTIMEZONE
BEGIN:VEVENT
DTSTART;VALUE=DATE:20260407
DTEND;VALUE=DATE:20260408
DTSTAMP:20260421T173122
CREATED:20260304T171116Z
LAST-MODIFIED:20260304T171116Z
UID:10005233-1775520000-1775606399@ues.cat
SUMMARY:Xerrades obertes sobre temes de muntanya.- El Denali de 6193m (Mount McKinley)
DESCRIPTION:El colós d’Alaska i Amèrica del Nord a càrrec de Joan Clofent\, muntanyenc\, alpinista i soci de la UES. \nEn aquesta xerrada el Joan ens oferirà una visió molt personal de la seva experiència al Denali\, que li va representar una ascensió molt dura i exigent\, i que va formar part del repte dels 7 cims que consisteix a coronar la muntanya més alta de cada continent. \n19h PRESENCIAL A LA SALA D’ACTES de la UES.
URL:https://ues.cat/agenda/xerrades-obertes-sobre-temes-de-muntanya-el-denali-de-6193m-mount-mckinley/
CATEGORIES:Muntanya
END:VEVENT
BEGIN:VEVENT
DTSTART;VALUE=DATE:20260408
DTEND;VALUE=DATE:20260409
DTSTAMP:20260421T173122
CREATED:20251202T132621Z
LAST-MODIFIED:20260313T193754Z
UID:10005083-1775606400-1775692799@ues.cat
SUMMARY:Senders entre setmana. - Senders de Mar i Muntanya: de Sant Iscle de Vallalta a la Creu de Canet (100 cims FEEC)
DESCRIPTION:Senders de Mar i Muntanya: de Sant Iscle de Vallalta a la Creu de Canet (100 cims FEEC). \nDistància: 11km >> Desnivell: +210/-315 m \nItinerari: Sant Iscle de Vallalta GR5 – Creu de Canet (100 cims) – Canet de Mar – Sant Pol de Mar. \nCal portar: aigua\, esmozar\, bastons\, calçat de muntanya i roba adient a les condicions climatològiques. \nInscripcions: del 16 de març al 6 d’abril \nDificultat: Fàcil – sortida matinal amb autocar
URL:https://ues.cat/agenda/senders-km-0-gr173-de-sant-quirze-a-matadepera/
CATEGORIES:Esportives,Senders
END:VEVENT
BEGIN:VEVENT
DTSTART;VALUE=DATE:20260411
DTEND;VALUE=DATE:20260412
DTSTAMP:20260421T173122
CREATED:20260303T082238Z
LAST-MODIFIED:20260330T121120Z
UID:10005226-1775865600-1775951999@ues.cat
SUMMARY:Muntanya i Marxa Nòrdica.- Tagamanent\, Collet de Sant Martí i Gorg de Can Bosc des del Figaró
DESCRIPTION:Sortida conjunta de la secció Marxa Nòrdica i la secció Muntanya. \nSortida circular\, des de Figaró pel camí de Valcarquera en suau pujada per carretera i pista\, fins arribar a Can Bosc\, on agafarem el sender a l’esquerra. Travessarem el Bosc de Bellver i el Serrat de les Sapines de Dalt\, arriben a la carena de la muntanya\, zona amb roques que haurem de travessar\, vistes 360º. Arribarem al Collet de Sant Martí i des d’aquí pujarem al Tagamanent Cim de 1058m i dintre del circuit de Cent Cims de la Feec. El retorn per pista fins a Figaró\, on tenim els vehicles. \nDistància: 14\,45 km >> Desnivell: +/- 780 m >> Dificultat: Mitjana >> Temps efectiu: 6 h aprox. \nTrobada a les 7 h a l’aparcament del Parc Catalunya\, davant Club de Tenis. \nTransport: cotxes particulars
URL:https://ues.cat/agenda/marxa-nordica-i-muntanya-tagamanent-collet-de-sant-marti-i-gorg-de-can-bosc-des-del-figaro/
CATEGORIES:Marxa Nòrdica,Muntanya
END:VEVENT
BEGIN:VEVENT
DTSTART;VALUE=DATE:20260412
DTEND;VALUE=DATE:20260413
DTSTAMP:20260421T173122
CREATED:20251216T135622Z
LAST-MODIFIED:20260323T183136Z
UID:10005121-1775952000-1776038399@ues.cat
SUMMARY:Senders.-GR1: sender històric de Gironella a Avià
DESCRIPTION:GR 1 senders històric\, del mar a la muntanya de Gironella a Avià pels camins del Llobregat \n El diumenge 12 d’abril continuem avançant en la llarga travessia del GR 1 amb una nova etapa per la comarca del Berguedà\, entre Gironella i Avià. Caminarem per camins planers a prop del Llobregat\, de mas en mas i amb vistes a les muntanyes de l’alt Bergadà: Serres de Queralt i dels Tossals com a inici del Prepirineu Oriental. \nAl llarg del recorregut visitarem l’església romànica de Sant Vicenç d’Obiols\, una autèntica joia del romànic de la comarca amb orígens visigots del segle X. Farem parada a l’església romànica de Santa Maria d’Avià\, del segle XII. \nDistància: 13 km >> Desnivell: +315 / -90 m >> Dificultat: FÀCIL \nItinerari: Gironella – Sant Vicenç d’Obiols – Graugés – Santa Maria d’Avià – Avià \nInscripcions del 23 de març al 6 d’abril. Sortida amb autocar de tot el dia\, cal portar esmorzar i dinar. \n  \n 
URL:https://ues.cat/agenda/senders-gr1-sender-historic-de-gironella-a-avia/
CATEGORIES:Senders
END:VEVENT
END:VCALENDAR