BEGIN:VCALENDAR
VERSION:2.0
PRODID:-//UES - ECPv6.15.20//NONSGML v1.0//EN
CALSCALE:GREGORIAN
METHOD:PUBLISH
X-ORIGINAL-URL:https://ues.cat
X-WR-CALDESC:Activitats per UES
REFRESH-INTERVAL;VALUE=DURATION:PT1H
X-Robots-Tag:noindex
X-PUBLISHED-TTL:PT1H
BEGIN:VTIMEZONE
TZID:Europe/Madrid
BEGIN:DAYLIGHT
TZOFFSETFROM:+0100
TZOFFSETTO:+0200
TZNAME:CEST
DTSTART:20250330T010000
END:DAYLIGHT
BEGIN:STANDARD
TZOFFSETFROM:+0200
TZOFFSETTO:+0100
TZNAME:CET
DTSTART:20251026T010000
END:STANDARD
BEGIN:DAYLIGHT
TZOFFSETFROM:+0100
TZOFFSETTO:+0200
TZNAME:CEST
DTSTART:20260329T010000
END:DAYLIGHT
BEGIN:STANDARD
TZOFFSETFROM:+0200
TZOFFSETTO:+0100
TZNAME:CET
DTSTART:20261025T010000
END:STANDARD
BEGIN:DAYLIGHT
TZOFFSETFROM:+0100
TZOFFSETTO:+0200
TZNAME:CEST
DTSTART:20270328T010000
END:DAYLIGHT
BEGIN:STANDARD
TZOFFSETFROM:+0200
TZOFFSETTO:+0100
TZNAME:CET
DTSTART:20271031T010000
END:STANDARD
END:VTIMEZONE
BEGIN:VEVENT
DTSTART;VALUE=DATE:20260421
DTEND;VALUE=DATE:20260422
DTSTAMP:20260421T223927
CREATED:20260304T171423Z
LAST-MODIFIED:20260304T185332Z
UID:10005234-1776729600-1776815999@ues.cat
SUMMARY:Xerrades obertes sobre temes de muntanya.- La volta al món a peu
DESCRIPTION:A càrrec d’Enric Luzan. \nL’Enric és un català que des del Novembre passat està donant la volta al món. Barcelona\,  França\, Itàlia\, Eslovènia\, Croàcia\, Bòsnia\, Montenegro\, Albània\, Grècia …etc. Des del lloc on sigui\, el 21 d’Abril ens explicarà la seva grandiosa aventura. Un repte colossal!! \nA les 19h per ZOOM. \nCal inscripció prèvia si es vol rebre per correu electrònic l’enllaç de totes les sessions programades del cicle del 1r trimestre 2026 (s’envia el dilluns previ a cada sessió.) \nENLLAÇ DE CONNEXIÓ PER AQUESTA SESSIÓ: \nTema: Xerrades de muntanya 21 d’abril\nHora: 21 abr 2026 07:00 p. m.\nÚnase a la reunión de Zoom\nhttps://us06web.zoom.us/j/88277035940?pwd=J6QzlsGdENSqHHe5HjrVuliNqm0wac.1 \nID de reunión: 882 7703 5940\nCódigo de acceso: 670682
URL:https://ues.cat/agenda/xerrades-obertes-sobre-temes-de-muntanya-la-volta-al-mon-a-peu/
CATEGORIES:Muntanya
END:VEVENT
BEGIN:VEVENT
DTSTART;VALUE=DATE:20260425
DTEND;VALUE=DATE:20260426
DTSTAMP:20260421T223927
CREATED:20251103T153418Z
LAST-MODIFIED:20260413T134516Z
UID:10005047-1777075200-1777161599@ues.cat
SUMMARY:Muntanya.- Circular a la Vall de Lord
DESCRIPTION:Distància: 16\,80km >> Desnivell: +/- 935m >> Nivell de dificultat: moderada
URL:https://ues.cat/agenda/muntanya-ports-de-beseit/
CATEGORIES:Muntanya
END:VEVENT
BEGIN:VEVENT
DTSTART;VALUE=DATE:20260425
DTEND;VALUE=DATE:20260426
DTSTAMP:20260421T223927
CREATED:20251202T132734Z
LAST-MODIFIED:20260414T111525Z
UID:10005084-1777075200-1777161599@ues.cat
SUMMARY:Senders.- Romànic del Bages\, de Castellfollit del Boix a Santa Cecília de Grevalosa
DESCRIPTION:Distància: 16km >> Desnivell: +/- 335m >> Dificultat: moderada \nCastellfollit del Boix- St.Pere-Cogulló del Cal Torre(100 cims)-Pedra Vertical-St.Miquel de Grevalosa-St.Cecilia de Grevalosa-Riera de la Grevalosa-Bassa de Cal Montaner.
URL:https://ues.cat/agenda/senders-romanic-del-bages-de-castellfollit-del-boix-a-santa-cecilia-de-grevalosa/
CATEGORIES:Esportives,Senders
END:VEVENT
BEGIN:VEVENT
DTSTART;VALUE=DATE:20260425
DTEND;VALUE=DATE:20260426
DTSTAMP:20260421T223927
CREATED:20260309T093150Z
LAST-MODIFIED:20260413T135029Z
UID:10005240-1777075200-1777161599@ues.cat
SUMMARY:Espeleologia.-Descoberta al Forat Micó
DESCRIPTION:Sortida matinal de descoberta de l’espeleologia. Farem un itinerari horitzontal\, sense pasos complexos\, per poder de gaudir de les formacions de sal i els petits tresors que ens ofereix la muntanya de Cardona i les profunditats de la terra. És una sortida apta per a tots els públics\, grans i petits\, amb una mínima condició física i que no tinguin claustrofòbia. \nMaterial: Casc i frontal (amb bateries o piles de recanvi) i roba per embrutar. Aigua i alguna cosa per picar. \nEl desplaçament fins al punt de trobada és en cotxes particulars. \nEl divendres anterior a la sortida es farà un grup de whatsapp per informar sobre l’organització i logística de la sortida. \n 
URL:https://ues.cat/agenda/espeleologia-descoberta-de-lespeleologia-cavitat-horitzontal/
CATEGORIES:Espeleo Club,Esportives
END:VEVENT
END:VCALENDAR