BEGIN:VCALENDAR
VERSION:2.0
PRODID:-//UES - ECPv6.15.20//NONSGML v1.0//EN
CALSCALE:GREGORIAN
METHOD:PUBLISH
X-WR-CALNAME:UES
X-ORIGINAL-URL:https://ues.cat
X-WR-CALDESC:Activitats per UES
REFRESH-INTERVAL;VALUE=DURATION:PT1H
X-Robots-Tag:noindex
X-PUBLISHED-TTL:PT1H
BEGIN:VTIMEZONE
TZID:Europe/Madrid
BEGIN:DAYLIGHT
TZOFFSETFROM:+0100
TZOFFSETTO:+0200
TZNAME:CEST
DTSTART:20250330T010000
END:DAYLIGHT
BEGIN:STANDARD
TZOFFSETFROM:+0200
TZOFFSETTO:+0100
TZNAME:CET
DTSTART:20251026T010000
END:STANDARD
BEGIN:DAYLIGHT
TZOFFSETFROM:+0100
TZOFFSETTO:+0200
TZNAME:CEST
DTSTART:20260329T010000
END:DAYLIGHT
BEGIN:STANDARD
TZOFFSETFROM:+0200
TZOFFSETTO:+0100
TZNAME:CET
DTSTART:20261025T010000
END:STANDARD
BEGIN:DAYLIGHT
TZOFFSETFROM:+0100
TZOFFSETTO:+0200
TZNAME:CEST
DTSTART:20270328T010000
END:DAYLIGHT
BEGIN:STANDARD
TZOFFSETFROM:+0200
TZOFFSETTO:+0100
TZNAME:CET
DTSTART:20271031T010000
END:STANDARD
END:VTIMEZONE
BEGIN:VEVENT
DTSTART;VALUE=DATE:20260602
DTEND;VALUE=DATE:20260603
DTSTAMP:20260421T223800
CREATED:20260304T173220Z
LAST-MODIFIED:20260304T175129Z
UID:10005237-1780358400-1780444799@ues.cat
SUMMARY:Xerrades obertes sobre temes de muntanya.- El Montsec
DESCRIPTION:A càrrec de Joan Ramon Segura\, ex president del Centre Excursionista de Lleida. \nAl llarg de molt temps el Joan Ramon s’ha dedicat a trescar pel Montsec “La muntanya de Ponent” a la busca dels graus i els feixants més interesants des del punt de vista excursionista. Autor de la guia 25 excursions pel Front del Pallars i En BTT per la vall de Tuixent i la Vansa\,  entre d’altres. \nA les 19h per ZOOM. \nCal inscripció prèvia si es vol rebre per correu electrònic l’enllaç de totes les sessions programades del cicle del 1r trimestre 2026 (s’envia el dilluns previ a cada sessió.) \nENLLAÇ DE CONNEXIÓ PER AQUESTA SESSIÓ: \nTema: Xerrades muntanya 2 de juny\nHora: 2 jun 2026 07:00 p. m.\nÚnase a la reunión de Zoom\nhttps://us06web.zoom.us/j/89609876529?pwd=BU0Exi0z1mxxOWnvyZMSfFZUE1YVlb.1 \nID de reunión: 896 0987 6529\nCódigo de acceso: 475962
URL:https://ues.cat/agenda/xerrades-obertes-sobre-temes-de-muntanya-el-montsec/
CATEGORIES:Muntanya
END:VEVENT
BEGIN:VEVENT
DTSTART;VALUE=DATE:20260603
DTEND;VALUE=DATE:20260604
DTSTAMP:20260421T223800
CREATED:20251203T161641Z
LAST-MODIFIED:20260213T101328Z
UID:10005107-1780444800-1780531199@ues.cat
SUMMARY:Senders km 0.
DESCRIPTION:En prepració
URL:https://ues.cat/agenda/senders-km-0-gr173-de-matadepera-a-les-arenes/
CATEGORIES:Esportives,Senders
END:VEVENT
BEGIN:VEVENT
DTSTART;VALUE=DATE:20260606
DTEND;VALUE=DATE:20260607
DTSTAMP:20260421T223800
CREATED:20251103T153849Z
LAST-MODIFIED:20251103T153849Z
UID:10005050-1780704000-1780790399@ues.cat
SUMMARY:Muntanya.- Vall fosca-Montsent (cap de setmana)
DESCRIPTION:2883m Pallars Jussà. Alta Muntanya. Dificultat difícil.
URL:https://ues.cat/agenda/muntanya-vall-fosca-montsent-cap-de-setmana/
CATEGORIES:Muntanya
END:VEVENT
END:VCALENDAR