BEGIN:VCALENDAR
VERSION:2.0
PRODID:-//UES - ECPv6.15.20//NONSGML v1.0//EN
CALSCALE:GREGORIAN
METHOD:PUBLISH
X-ORIGINAL-URL:https://ues.cat
X-WR-CALDESC:Activitats per UES
REFRESH-INTERVAL;VALUE=DURATION:PT1H
X-Robots-Tag:noindex
X-PUBLISHED-TTL:PT1H
BEGIN:VTIMEZONE
TZID:Europe/Madrid
BEGIN:DAYLIGHT
TZOFFSETFROM:+0100
TZOFFSETTO:+0200
TZNAME:CEST
DTSTART:20250330T010000
END:DAYLIGHT
BEGIN:STANDARD
TZOFFSETFROM:+0200
TZOFFSETTO:+0100
TZNAME:CET
DTSTART:20251026T010000
END:STANDARD
BEGIN:DAYLIGHT
TZOFFSETFROM:+0100
TZOFFSETTO:+0200
TZNAME:CEST
DTSTART:20260329T010000
END:DAYLIGHT
BEGIN:STANDARD
TZOFFSETFROM:+0200
TZOFFSETTO:+0100
TZNAME:CET
DTSTART:20261025T010000
END:STANDARD
BEGIN:DAYLIGHT
TZOFFSETFROM:+0100
TZOFFSETTO:+0200
TZNAME:CEST
DTSTART:20270328T010000
END:DAYLIGHT
BEGIN:STANDARD
TZOFFSETFROM:+0200
TZOFFSETTO:+0100
TZNAME:CET
DTSTART:20271031T010000
END:STANDARD
END:VTIMEZONE
BEGIN:VEVENT
DTSTART;VALUE=DATE:20260616
DTEND;VALUE=DATE:20260617
DTSTAMP:20260421T224013
CREATED:20260304T173403Z
LAST-MODIFIED:20260304T175054Z
UID:10005238-1781568000-1781654399@ues.cat
SUMMARY:Xerrades obertes sobre temes de muntanya.- El camí de Mestral
DESCRIPTION:A càrrec de Laura Casas de la MIDIT. \nEl Camí de Mestral ofereix en tan sols quatre dies de senderisme una espectacular combinació de mar i muntanya amb panoràmiques infinites al territori de les Terres de Mestral. Una zona de petits pobles d’interior i de costa que conserven l’essència d’una ruralitat ben viva\, ideal per a senderistes amb ganes de descobrir indrets oblidats de gran bellesa. \nA les 19h per ZOOM. \nCal inscripció prèvia si es vol rebre per correu electrònic l’enllaç de totes les sessions programades del cicle del 1r trimestre 2026 (s’envia el dilluns previ a cada sessió.) \n  \nENLLAÇ DE CONNEXIÓ PER AQUESTA SESSIÓ:  \nTema: Xerrades de muntanya 16 de juny\nHora: 4 mar 2026 07:00 p. m. Únase a la reunión de Zoom\nhttps://us06web.zoom.us/j/88337012684?pwd=aPO6ppusprSKOiNDYXiM00GUoQ0b7o.1 \nID de reunión: 883 3701 2684\nCódigo de acceso: 939922
URL:https://ues.cat/agenda/xerrades-obertes-sobre-temes-de-muntanya-el-cami-de-mestral/
CATEGORIES:Muntanya
END:VEVENT
BEGIN:VEVENT
DTSTART;VALUE=DATE:20260617
DTEND;VALUE=DATE:20260618
DTSTAMP:20260421T224013
CREATED:20251203T162202Z
LAST-MODIFIED:20251203T162223Z
UID:10005109-1781654400-1781740799@ues.cat
SUMMARY:Senders km 0 a la fresca
DESCRIPTION:
URL:https://ues.cat/agenda/senders-km-0-a-la-fresca-2/
CATEGORIES:Esportives,Senders
END:VEVENT
BEGIN:VEVENT
DTSTART;VALUE=DATE:20260620
DTEND;VALUE=DATE:20260622
DTSTAMP:20260421T224013
CREATED:20251103T154013Z
LAST-MODIFIED:20260414T130529Z
UID:10005051-1781913600-1782086399@ues.cat
SUMMARY:Muntanya.- Pujada Tailló (3144m)
DESCRIPTION:Clàssica pujada al Tailló (3144 m) des de Sant Nicolau de Bujaruelo.  Una ruta que compta amb força al·licients\, com la vista del bonic Refugi de Sarradets\, el Circ de Gavarnie\, la cascada\, la Bretxa de Rolando\, el Dit i el cim.  No té passos aeris ni difícils\, però sí un important desnivell acumulat que realitzarem en dues jornades.
URL:https://ues.cat/agenda/muntanya-tour-midi-daussau-cap-de-setmana/
CATEGORIES:Muntanya
END:VEVENT
END:VCALENDAR