BEGIN:VCALENDAR
VERSION:2.0
PRODID:-//UES - ECPv6.15.20//NONSGML v1.0//EN
CALSCALE:GREGORIAN
METHOD:PUBLISH
X-WR-CALNAME:UES
X-ORIGINAL-URL:https://ues.cat
X-WR-CALDESC:Activitats per UES
REFRESH-INTERVAL;VALUE=DURATION:PT1H
X-Robots-Tag:noindex
X-PUBLISHED-TTL:PT1H
BEGIN:VTIMEZONE
TZID:Europe/Madrid
BEGIN:DAYLIGHT
TZOFFSETFROM:+0100
TZOFFSETTO:+0200
TZNAME:CEST
DTSTART:20240331T010000
END:DAYLIGHT
BEGIN:STANDARD
TZOFFSETFROM:+0200
TZOFFSETTO:+0100
TZNAME:CET
DTSTART:20241027T010000
END:STANDARD
BEGIN:DAYLIGHT
TZOFFSETFROM:+0100
TZOFFSETTO:+0200
TZNAME:CEST
DTSTART:20250330T010000
END:DAYLIGHT
BEGIN:STANDARD
TZOFFSETFROM:+0200
TZOFFSETTO:+0100
TZNAME:CET
DTSTART:20251026T010000
END:STANDARD
BEGIN:DAYLIGHT
TZOFFSETFROM:+0100
TZOFFSETTO:+0200
TZNAME:CEST
DTSTART:20260329T010000
END:DAYLIGHT
BEGIN:STANDARD
TZOFFSETFROM:+0200
TZOFFSETTO:+0100
TZNAME:CET
DTSTART:20261025T010000
END:STANDARD
END:VTIMEZONE
BEGIN:VEVENT
DTSTART;TZID=Europe/Madrid:20250311T183000
DTEND;TZID=Europe/Madrid:20250311T203000
DTSTAMP:20260421T192709
CREATED:20241126T113643Z
LAST-MODIFIED:20250201T095806Z
UID:10004466-1741717800-1741725000@ues.cat
SUMMARY:Formació.- Curs bàsic de cartografia digital i GPS al PC (CompeGPS-Land)
DESCRIPTION:[vc_row][vc_column][vc_column_text]Curs bàsic de cartografia digital i GPS al PC\, planificació i creació de rutes excursionistes amb CompeGPS-Land. Orientació amb GPS TwoNav\, Garmin o mòbils \nA càrrec de Manolo Barcia\, tècnic de senders. \nPlaces limitades: 10 cursetistes. \nDates del curs CompeGPS-Land: 11 – 13 – 18– 20 de març (4 sessions) \nHorari de les seccions: dijous de 18:30 h a 20:30 h. Assessorament mitjançat grup de WhatsApp fins a 30 dies desprès de finalitzar el curs. \nPràctiques d’orientació amb GPS TwoNav\, Garmin o mòbil: dissabte 22 de març (matinal) \nRequisits: usuari de PC o Mac\, GPS Garmin o TwoNav o mòbil amb alguna App (Wikiloc\, TwoNav\, etc…). Es recomana l’ús de portàtil personal al curs. \nDurant el curs es farà ús de la versió més actual del programari CompeGPS-Land \nObjectius del curs: \n El curs va dirigit a totes aquelles persones que practiquen activitats a l’aire lliure i desitgen aprofitar les noves tecnologies dins d’aquest camp. El mapa digital i l’ús del GPS i mòbil són les eines més significatives d’aquestes noves tecnologies que junt a una correcta planificació de la ruta ens permetrà fer les activitats de muntanya més segures. \nConèixer el funcionament bàsic del programari CompeGPS-Land com a eina de planificació i elaboració d’itineraris de baixa\, mitja i alta muntanya. L’edició i gestió de continguts GPS\, tot aprofitant l’ús de cartografia online de multitud de fonts així com cartografia excursionista. Conèixer els processos de creació de rutes automàtiques que és capaç de executar aquest programari fent ús de les dades d’OpenStreetMap. \nConèixer el funcionament bàsic de dispositius GPS TwoNav o Garmin o App per a mòbils per que ens serveixin d’ajuda per orientar-nos a les activitats de muntanya. \nCompeGPS-Land\, programari de pagament que requereix de sistemes Windows de 64 bits\, o bé OS X 10.13 o superior \nPrograma: \n\nPresentació del curs i els seus objectius.\nDocumentació i recursos.\nInstal·lació i configuració del programari\nRecursos del programari\nMapes digitals en línia\nMapes excursionistes\n\nDisseny de rutes \n\nCreació i edició de WayPoints; Punts de Pas\, Punts d’Interès\nCreació i edició de tracks\, de forma manual i automàtica\nDel programari al dispositiu GPS o mòbil\nImpressió de mapes\n\nPractica d’orientació amb GPS \n\nRealització d’una ruta amb el teu GPS o mòbil\n\n[/vc_column_text][/vc_column][/vc_row]
URL:https://ues.cat/agenda/formacio-curs-basic-de-cartografia-digital-i-gps-al-pc/
CATEGORIES:Altres cursos i tallers,Esportives,Formació
END:VEVENT
END:VCALENDAR