BEGIN:VCALENDAR
VERSION:2.0
PRODID:-//UES - ECPv6.15.20//NONSGML v1.0//EN
CALSCALE:GREGORIAN
METHOD:PUBLISH
X-ORIGINAL-URL:https://ues.cat
X-WR-CALDESC:Activitats per UES
REFRESH-INTERVAL;VALUE=DURATION:PT1H
X-Robots-Tag:noindex
X-PUBLISHED-TTL:PT1H
BEGIN:VTIMEZONE
TZID:Europe/Madrid
BEGIN:DAYLIGHT
TZOFFSETFROM:+0100
TZOFFSETTO:+0200
TZNAME:CEST
DTSTART:20230326T010000
END:DAYLIGHT
BEGIN:STANDARD
TZOFFSETFROM:+0200
TZOFFSETTO:+0100
TZNAME:CET
DTSTART:20231029T010000
END:STANDARD
BEGIN:DAYLIGHT
TZOFFSETFROM:+0100
TZOFFSETTO:+0200
TZNAME:CEST
DTSTART:20240331T010000
END:DAYLIGHT
BEGIN:STANDARD
TZOFFSETFROM:+0200
TZOFFSETTO:+0100
TZNAME:CET
DTSTART:20241027T010000
END:STANDARD
BEGIN:DAYLIGHT
TZOFFSETFROM:+0100
TZOFFSETTO:+0200
TZNAME:CEST
DTSTART:20250330T010000
END:DAYLIGHT
BEGIN:STANDARD
TZOFFSETFROM:+0200
TZOFFSETTO:+0100
TZNAME:CET
DTSTART:20251026T010000
END:STANDARD
END:VTIMEZONE
BEGIN:VEVENT
DTSTART;TZID=Europe/Madrid:20241009T190000
DTEND;TZID=Europe/Madrid:20241009T203000
DTSTAMP:20260421T165221
CREATED:20240718T173653Z
LAST-MODIFIED:20240916T093828Z
UID:10004776-1728500400-1728505800@ues.cat
SUMMARY:Càpsula formativa.- Què és un Rogaine?
DESCRIPTION:[vc_row][vc_column][vc_column_text]Càpsula formativa adreçada a persones que no han participat mai en una cursa d’orientació i que volen saber el seu funcionament en modalitat ‘Rogaine’. També poden assistir-hi persones que hagin participat en alguna cursa d’orientació però desitgin aclarir alguns conceptes. Adreçada especialment a aquelles persones que tenen prevista participar en la propera Rogaine del Vallès que tindrà lloc el 20 d’octubre a Sant Qurize del Vallès. \nEl Rogaine és una modalitat esportiva de les curses d’orientació en què els participants han de desplaçar-se a peu\, amb l’objectiu d’aconseguir la màxima puntuació passant  pels controls en un temps màxim i un ordre lliure. No tots els controls valen els mateixos punts\, això dependrà de la dificultat física i/o tècnica per trobar-los. \nTractarem els següents punts: \n\nQuè són les curses d’orientació? Modalitats\nMapes d’orientació\nSimbologia bàsica dels mapes d’orientació\nElements de control\nQuè cal tenir en compte en les primeres curses\n\nPer fer-ho utilitzarem els mapes de Sant Quirze del Vallès. \nA més\, des del 12 de setembre i fins el 20 d’octubre hi haurà actiu un entrenament virtual en format rogaine de dues hores a Sant Quirze que pot servir per aprendre i entrenar. \nA càrrec de Ricard Masferrer\, responsable de la secció d’orientació de la UES. \nDe 19 a 20:30 h\, aula de formació. Gratuït\, però cal inscripció prèvia[/vc_column_text][/vc_column][/vc_row]
URL:https://ues.cat/agenda/capsula-formativa-que-es-una-rogaine/
CATEGORIES:Altres cursos i tallers,Esportives,Formació,Orientació
END:VEVENT
END:VCALENDAR