BEGIN:VCALENDAR
VERSION:2.0
PRODID:-//UES - ECPv6.15.20//NONSGML v1.0//EN
CALSCALE:GREGORIAN
METHOD:PUBLISH
X-WR-CALNAME:UES
X-ORIGINAL-URL:https://ues.cat
X-WR-CALDESC:Activitats per UES
REFRESH-INTERVAL;VALUE=DURATION:PT1H
X-Robots-Tag:noindex
X-PUBLISHED-TTL:PT1H
BEGIN:VTIMEZONE
TZID:Europe/Madrid
BEGIN:DAYLIGHT
TZOFFSETFROM:+0100
TZOFFSETTO:+0200
TZNAME:CEST
DTSTART:20230326T010000
END:DAYLIGHT
BEGIN:STANDARD
TZOFFSETFROM:+0200
TZOFFSETTO:+0100
TZNAME:CET
DTSTART:20231029T010000
END:STANDARD
BEGIN:DAYLIGHT
TZOFFSETFROM:+0100
TZOFFSETTO:+0200
TZNAME:CEST
DTSTART:20240331T010000
END:DAYLIGHT
BEGIN:STANDARD
TZOFFSETFROM:+0200
TZOFFSETTO:+0100
TZNAME:CET
DTSTART:20241027T010000
END:STANDARD
BEGIN:DAYLIGHT
TZOFFSETFROM:+0100
TZOFFSETTO:+0200
TZNAME:CEST
DTSTART:20250330T010000
END:DAYLIGHT
BEGIN:STANDARD
TZOFFSETFROM:+0200
TZOFFSETTO:+0100
TZNAME:CET
DTSTART:20251026T010000
END:STANDARD
END:VTIMEZONE
BEGIN:VEVENT
DTSTART;VALUE=DATE:20240505
DTEND;VALUE=DATE:20240506
DTSTAMP:20260421T223626
CREATED:20231121T103612Z
LAST-MODIFIED:20240410T095721Z
UID:10004572-1714867200-1714953599@ues.cat
SUMMARY:62a Marxa Excursionista Infantil de Regularitat
DESCRIPTION:[vc_row][vc_column][vc_column_text] \n62a Marxa Excursionista Infantil de Regularitat\n\nEl diumenge 5 de maig de 2024 els més petits tenen una nova cita amb un dels grans clàssics de la UES: la Marxa Excursionista Infantil de Regularitat. \nSortida: Plaça de Mas Isarn de Terrassa \nQui pot participar-hi? Hi poden participar nois i noies nascuts entre 2010 a 2017\, ambdós inclosos\, formant parella infantil o mixta. \n\nEls nascuts a 2017 obligatòriament hauran de formar parella mixta (infant i major de 16 anys)\nEls nascuts entre 2016 i 2010 podran formar parella mixta o parella infantil (dos infants d’entre 2016 i 2010)\n\nCom s’organitzen les parelles?\nSón totalment lliures mentre un dels dos membres sigui nascut entre 2010 i 2017. Així doncs podeu participar-hi amb germans\, amics\, cosins\, pares\, tiets\, avis\, etc. Hi ha parelles infantils (2 infants) i parelles mixtes (infant-adult) en classificacions diferents. \nHorari: 8:00 – 13:00 h \nCaldrà arribar un quart d’hora o vint minuts abans de l’hora de sortida per recollir dorsals. \nCada equip de la modalitat infantil\, en fer la inscripció\, dirà si participa de forma individual\, o si vol prendre part en la classificació d’entitats o escoles de les quals formi part. \nSessió informativa: Dissabte\, 4 de maig de 2024\, a les 19 h\, a la sala d’actes de la UES \nConsulta’n tota informació \n\n[/vc_column_text][/vc_column][/vc_row]
URL:https://ues.cat/agenda/62a-marxa-excursionista-infantil-de-regularitat/
CATEGORIES:Esportives,Marxa Infantil de Regularitat
END:VEVENT
END:VCALENDAR