BEGIN:VCALENDAR
VERSION:2.0
PRODID:-//UES - ECPv6.15.20//NONSGML v1.0//EN
CALSCALE:GREGORIAN
METHOD:PUBLISH
X-WR-CALNAME:UES
X-ORIGINAL-URL:https://ues.cat
X-WR-CALDESC:Activitats per UES
REFRESH-INTERVAL;VALUE=DURATION:PT1H
X-Robots-Tag:noindex
X-PUBLISHED-TTL:PT1H
BEGIN:VTIMEZONE
TZID:Europe/Madrid
BEGIN:DAYLIGHT
TZOFFSETFROM:+0100
TZOFFSETTO:+0200
TZNAME:CEST
DTSTART:20220327T010000
END:DAYLIGHT
BEGIN:STANDARD
TZOFFSETFROM:+0200
TZOFFSETTO:+0100
TZNAME:CET
DTSTART:20221030T010000
END:STANDARD
BEGIN:DAYLIGHT
TZOFFSETFROM:+0100
TZOFFSETTO:+0200
TZNAME:CEST
DTSTART:20230326T010000
END:DAYLIGHT
BEGIN:STANDARD
TZOFFSETFROM:+0200
TZOFFSETTO:+0100
TZNAME:CET
DTSTART:20231029T010000
END:STANDARD
BEGIN:DAYLIGHT
TZOFFSETFROM:+0100
TZOFFSETTO:+0200
TZNAME:CEST
DTSTART:20240331T010000
END:DAYLIGHT
BEGIN:STANDARD
TZOFFSETFROM:+0200
TZOFFSETTO:+0100
TZNAME:CET
DTSTART:20241027T010000
END:STANDARD
BEGIN:DAYLIGHT
TZOFFSETFROM:+0100
TZOFFSETTO:+0200
TZNAME:CEST
DTSTART:20250330T010000
END:DAYLIGHT
BEGIN:STANDARD
TZOFFSETFROM:+0200
TZOFFSETTO:+0100
TZNAME:CET
DTSTART:20251026T010000
END:STANDARD
BEGIN:DAYLIGHT
TZOFFSETFROM:+0100
TZOFFSETTO:+0200
TZNAME:CEST
DTSTART:20260329T010000
END:DAYLIGHT
BEGIN:STANDARD
TZOFFSETFROM:+0200
TZOFFSETTO:+0100
TZNAME:CET
DTSTART:20261025T010000
END:STANDARD
BEGIN:DAYLIGHT
TZOFFSETFROM:+0100
TZOFFSETTO:+0200
TZNAME:CEST
DTSTART:20270328T010000
END:DAYLIGHT
BEGIN:STANDARD
TZOFFSETFROM:+0200
TZOFFSETTO:+0100
TZNAME:CET
DTSTART:20271031T010000
END:STANDARD
END:VTIMEZONE
BEGIN:VEVENT
DTSTART;VALUE=DATE:20260409
DTEND;VALUE=DATE:20260410
DTSTAMP:20260425T125432
CREATED:20260331T125952Z
LAST-MODIFIED:20260331T125952Z
UID:10005382-1775692800-1775779199@ues.cat
SUMMARY:Casal Estiu.- Reunió informativa
DESCRIPTION:Reunió informativa:  Les 19:30h\, sala d’actes de la UES. \n  \nCASAL \nDates: Del 29 de juny  al 31 de juliol. Total 5 setmanes \nA qui s’adreça? A infants de I3 a 6è de primària \nOn? A la UES\, a l’escola Enric Casassas\, places properes i rodal. També es farà alguna sortida fora de Sabadell. \nInscripcions: A partir del 10 d’abril i fins el 8 de juny o fins tancar el nombre de places per grup. \nPodeu contactar-nos a laganyota.casal@ues.cat \nMés informació
URL:https://ues.cat/agenda/casal-estiu-reunio-informativa/
CATEGORIES:Casal d'estiu
END:VEVENT
BEGIN:VEVENT
DTSTART;TZID=Europe/Madrid:20250409T193000
DTEND;TZID=Europe/Madrid:20250409T203000
DTSTAMP:20260425T125432
CREATED:20250307T165910Z
LAST-MODIFIED:20250307T165947Z
UID:10004926-1744227000-1744230600@ues.cat
SUMMARY:Casal d'Estiu 2025- Reunió informativa
DESCRIPTION:
URL:https://ues.cat/agenda/casal-destiu-2025-reunio-informativa/
CATEGORIES:Casal d'estiu,Esplai La Ganyota,Famílies,Socials
END:VEVENT
BEGIN:VEVENT
DTSTART;TZID=Europe/Madrid:20240415T193000
DTEND;TZID=Europe/Madrid:20240415T200000
DTSTAMP:20260425T125432
CREATED:20240301T190736Z
LAST-MODIFIED:20240301T190736Z
UID:10004327-1713209400-1713211200@ues.cat
SUMMARY:Casal d'Estiu 2024: reunió informativa
DESCRIPTION:
URL:https://ues.cat/agenda/casal-destiu-2024-reunio-informativa/
CATEGORIES:Casal d'estiu
END:VEVENT
BEGIN:VEVENT
DTSTART;TZID=Europe/Madrid:20230518T190000
DTEND;TZID=Europe/Madrid:20230518T200000
DTSTAMP:20260425T125432
CREATED:20230330T151324Z
LAST-MODIFIED:20230516T080231Z
UID:10004124-1684436400-1684440000@ues.cat
SUMMARY:Casal d'estiu.- Reunió informativa 2023
DESCRIPTION:[vc_row][vc_column][vc_column_text][/vc_column_text][/vc_column][/vc_row]
URL:https://ues.cat/agenda/casal-destiu-reunio-informativa-2023/
CATEGORIES:Casal d'estiu,Socials
END:VEVENT
BEGIN:VEVENT
DTSTART;TZID=Europe/Madrid:20230509T193000
DTEND;TZID=Europe/Madrid:20230509T203000
DTSTAMP:20260425T125432
CREATED:20230424T082544Z
LAST-MODIFIED:20230508T152428Z
UID:10004399-1683660600-1683664200@ues.cat
SUMMARY:Reunió informativa 'Estiu Jove' (casal estiu)
DESCRIPTION:[vc_row][vc_column][vc_column_text][/vc_column_text][/vc_column][/vc_row]
URL:https://ues.cat/agenda/casal-estiu-reunio-informativa-estiu-jove/
CATEGORIES:Casal d'estiu,Socials
END:VEVENT
END:VCALENDAR