BEGIN:VCALENDAR
VERSION:2.0
PRODID:-//UES - ECPv6.15.20//NONSGML v1.0//EN
CALSCALE:GREGORIAN
METHOD:PUBLISH
X-WR-CALNAME:UES
X-ORIGINAL-URL:https://ues.cat
X-WR-CALDESC:Activitats per UES
REFRESH-INTERVAL;VALUE=DURATION:PT1H
X-Robots-Tag:noindex
X-PUBLISHED-TTL:PT1H
BEGIN:VTIMEZONE
TZID:Europe/Madrid
BEGIN:DAYLIGHT
TZOFFSETFROM:+0100
TZOFFSETTO:+0200
TZNAME:CEST
DTSTART:20220327T010000
END:DAYLIGHT
BEGIN:STANDARD
TZOFFSETFROM:+0200
TZOFFSETTO:+0100
TZNAME:CET
DTSTART:20221030T010000
END:STANDARD
BEGIN:DAYLIGHT
TZOFFSETFROM:+0100
TZOFFSETTO:+0200
TZNAME:CEST
DTSTART:20230326T010000
END:DAYLIGHT
BEGIN:STANDARD
TZOFFSETFROM:+0200
TZOFFSETTO:+0100
TZNAME:CET
DTSTART:20231029T010000
END:STANDARD
BEGIN:DAYLIGHT
TZOFFSETFROM:+0100
TZOFFSETTO:+0200
TZNAME:CEST
DTSTART:20240331T010000
END:DAYLIGHT
BEGIN:STANDARD
TZOFFSETFROM:+0200
TZOFFSETTO:+0100
TZNAME:CET
DTSTART:20241027T010000
END:STANDARD
END:VTIMEZONE
BEGIN:VEVENT
DTSTART;VALUE=DATE:20230513
DTEND;VALUE=DATE:20230516
DTSTAMP:20260421T065436
CREATED:20221219T105604Z
LAST-MODIFIED:20221219T105604Z
UID:10004181-1683936000-1684195199@ues.cat
SUMMARY:Senders.- 7 pobles\, la Tinença de Benifassà
DESCRIPTION:
URL:https://ues.cat/agenda/senders-7-pobles-la-tinenca-de-benifassa-2/
CATEGORIES:Esportives,Senders
END:VEVENT
BEGIN:VEVENT
DTSTART;TZID=Europe/Madrid:20230515T093000
DTEND;TZID=Europe/Madrid:20230515T133000
DTSTAMP:20260421T065436
CREATED:20221230T093355Z
LAST-MODIFIED:20230428T113600Z
UID:10004257-1684143000-1684157400@ues.cat
SUMMARY:38a Pujada Popular a La Salut i 3r Buscafites de Festa Major
DESCRIPTION:[vc_row][vc_column][vc_column_text]38a PUJADA POPULAR A LA SALUT \nDe 9:30 a 12:30 h \nSortida des de la plaça de la Sardana \nRecorregut: Plaça de la Sardana (sortida)\, Gran Via (Carrer de Brujas i Alfons Sala)\, Carrer Quevedo\, Baixada de la Cobertera\, Riu Ripoll\, Molí d’en Torrella\, Riu Tort\, Torre del Canonge\, Camí Ral de la Serra i arribada al Santuari de la Salut cap a les 12:30 h del migdia. \nPot participar-hi tothom que pugui caminar uns 7 km a ritme suau. \nInscripció gratuïta a ues.cat a partir del 24 d’abril i fins l’11 de maig i el mateix dia de la caminada fins a les 9:30h \n– Xocolata i coca per als participants a la sortida (9.30 h). Sortida cap a La Salut a les 10 h. \n– Bus gratuït de tornada\, per als participants: línia 4 surt del cementiri cada 15 minuts i es pot agafar entre les 13 i les 15 h \nHi col·laboren: Ajuntament de Sabadell\, Fira Sabadell\, TUS\, Diputació de Barcelona i Coca Cola. \nInscripcions obertes \nBUSCAFITES A LA SALUT \nHorari de 10 a 13 h\, Santuari de La Salut \nActivitat d’iniciació a les curses d’orientació a la zona del bosc de La Salut en modalitat score. L’objectiu? Trobar\, amb l’ajuda d’un mapa totes les fites en l’orde que es vulgui. Tindreu dues propostes de mapa\, un de curt i un de llarg. L’activitat es pot fer en grup o bé individualment. \nActivitat gratuïta però cal fer inscripció prèvia a ues.cat a partir del 24 d’abril i fins el dijous 11 de maig. En el moment de fer la inscripció caldrà escollir activitat/mapa curt o llarg. \nFUNCIONAMENT: \nEl punt de sortida (un triangle en el mapa) i arribada (una doble rodona\, en el mapa) estan a l’esplanada que hi ha a l’Est del santuari de La Salut\, on hi haurà una carpa i una taula. En aquest punt us donarem el mapa que hageu escollit en el moment de fer la inscripció (curt o llarg)\, si cal explicar-vos el funcionament de l’activitat\, i ja podreu començar! \nInscripcions obertes \nDescarrega’t el díptic informartiu[/vc_column_text][/vc_column][/vc_row]
URL:https://ues.cat/agenda/pujada-popular-a-la-salut-2/
CATEGORIES:Culturals,Esportives,Orientació,Socials
END:VEVENT
BEGIN:VEVENT
DTSTART;TZID=Europe/Madrid:20230516T080000
DTEND;TZID=Europe/Madrid:20230516T170000
DTSTAMP:20260421T065436
CREATED:20230321T191209Z
LAST-MODIFIED:20230516T091414Z
UID:10004387-1684224000-1684256400@ues.cat
SUMMARY:Càpsula formativa.- Garmin
DESCRIPTION:A càrrec de Manolo Barcia\, tècnic de senders i instructor de marxa nòrdica. \nEn aquest taller coneixereu els dispositius GPS Garmin que us ajudaran a realitzar una excursió a la muntanya amb seguretat. \nData de la sessió a l’aula de formació (horari de 18:30 a 20:30)
URL:https://ues.cat/agenda/capsula-formativa-garmin/
CATEGORIES:Altres cursos i tallers,Escola de Muntanya,Esportives,Formació,Muntanya
END:VEVENT
BEGIN:VEVENT
DTSTART;TZID=Europe/Madrid:20230516T193000
DTEND;TZID=Europe/Madrid:20230516T210000
DTSTAMP:20260421T065436
CREATED:20230510T155340Z
LAST-MODIFIED:20230510T171328Z
UID:10004411-1684265400-1684270800@ues.cat
SUMMARY:Presentació d'Excursions per conèixer el rodal de Sabadell a Cerdanyola
DESCRIPTION:[vc_row][vc_column][vc_column_text]El autors d’Excursions per conèixer el rodal de Sabadell presentaran el llibre a la seu del Club d’Esports de Muntanya Cerdanyola  (CEM Cerdanyola) el dimarts 16 de maig a 2/4 de 8 del vespre. \nCEM Cerdanyola: Carrer del Remei 15 \n  \n[/vc_column_text][/vc_column][/vc_row]
URL:https://ues.cat/agenda/presentacio-dexcursions-per-coneixer-el-rodal-de-sabadell-a-cerdanyola/
CATEGORIES:Culturals,Esportives
END:VEVENT
BEGIN:VEVENT
DTSTART;TZID=Europe/Madrid:20230518T183000
DTEND;TZID=Europe/Madrid:20230518T210000
DTSTAMP:20260421T065436
CREATED:20230510T080717Z
LAST-MODIFIED:20230510T080717Z
UID:10004409-1684434600-1684443600@ues.cat
SUMMARY:Càpsula formativa.- Wikiloc
DESCRIPTION:Degut a la gran demanda per aquesta càpsula formativa obrim una nova sessió. \nA càrrec de Manolo Barcia\, tècnic de senders i instructor de marxa nòrdica. \nEn aquest taller coneixereu la base de dades mundial de rutes de Wikiloc i l’App per a mòbils Wikiloc que us ajudaran a realitzar una excursió a la muntanya amb seguretat. \nData de la sessió a l’aula de formació (horari de 18:30 a 20:30)
URL:https://ues.cat/agenda/capsula-formativa-wikiloc/
CATEGORIES:Altres cursos i tallers,Formació
END:VEVENT
BEGIN:VEVENT
DTSTART;TZID=Europe/Madrid:20230518T190000
DTEND;TZID=Europe/Madrid:20230518T200000
DTSTAMP:20260421T065436
CREATED:20230330T151324Z
LAST-MODIFIED:20230516T080231Z
UID:10004124-1684436400-1684440000@ues.cat
SUMMARY:Casal d'estiu.- Reunió informativa 2023
DESCRIPTION:[vc_row][vc_column][vc_column_text][/vc_column_text][/vc_column][/vc_row]
URL:https://ues.cat/agenda/casal-destiu-reunio-informativa-2023/
CATEGORIES:Casal d'estiu,Socials
END:VEVENT
BEGIN:VEVENT
DTSTART;VALUE=DATE:20230520
DTEND;VALUE=DATE:20230521
DTSTAMP:20260421T065436
CREATED:20230103T173958Z
LAST-MODIFIED:20230502T093938Z
UID:10004267-1684540800-1684627199@ues.cat
SUMMARY:Cultura.- Castell de Florejacs
DESCRIPTION:[vc_row][vc_column][vc_column_text]Visita al Castell de Florejacs: Castell d’origen medieval que va formar part de la línia de defensa del riu Sió\, bastant més cabalós que ara en aquella època i per tant\, veritable frontera durant la Reconquesta. Situat a la part alta del poble de Florejacs. Fou construït al segle XI sobre una fortificació anterior com a part de la línia de defensa durant la Reconquesta. La construcció està formada per una torre del segle XIV i una casa senyorial del segle XVI. Presenta elements tant gòtics com renaixentistes. \nCaminada: El guia ens durà per la meravellosa Segarra\, contemplarem paisatges indescriptibles de primavera en una ruta pel castell de Florejacs i el castell de les Sitges\, de 9\,74 km i 113 m de desnivell. \nEsmorzar: Àrea de Guissona\, a Guissona\nDinar optatiu: Al Restaurant la Mallola\, a Sanaüja. Menú tancat a triar quan es faci la inscripció.\nTindrem un xarrupet de ratafia\, gentilesa de Ratafia Bosch!\nHorari: Sortida a les 7 h de la plaça de les Dones del Tèxtil\, tornada a les 19 h aproximadament \nInscripcions del 8 al 17 de maig[/vc_column_text][/vc_column][/vc_row]
URL:https://ues.cat/agenda/cultura-castell-de-florejacs/
CATEGORIES:Cultura,Culturals
END:VEVENT
BEGIN:VEVENT
DTSTART;VALUE=DATE:20230520
DTEND;VALUE=DATE:20230522
DTSTAMP:20260421T065436
CREATED:20221230T081836Z
LAST-MODIFIED:20221230T081836Z
UID:10004247-1684540800-1684713599@ues.cat
SUMMARY:Orientació.-Copa Catalana a Pobla de Lillet. Organitza COC
DESCRIPTION:
URL:https://ues.cat/agenda/orientacio-copa-catalana-a-pobla-de-lillet-organitza-coc/
CATEGORIES:Esportives,Orientació
END:VEVENT
BEGIN:VEVENT
DTSTART;TZID=Europe/Madrid:20230520T080000
DTEND;TZID=Europe/Madrid:20230520T150000
DTSTAMP:20260421T065436
CREATED:20230130T171757Z
LAST-MODIFIED:20230130T171757Z
UID:10004314-1684569600-1684594800@ues.cat
SUMMARY:Natura.-Xaragalls de pel·lícula
DESCRIPTION:Botànica i geologia a la riera de Gaià \nAgradable recorregut per les gorges de la riera de Gaià\, amb xaragalls i efectes erosius que recorden les pel·lícules del Far West. Geològicament\, veurem a més alguns petits afloraments de la falla del Vallès-Penedès i ja a la font de la Teula\, punt final del recorregut\, observarem una curiosa penya d’origen volcànic submarí\, datada del paleozoic o era primària. \nAl llarg del trajecte sentirem els cants del rossinyol\, de la merla\, del pinsà i de molts altres ocells. La flora ens sorprendrà amb endemismes com la llonguera lirada i el malcoratge tomentós\, i amb la pirinenca i remeiera pota de cavall. \nAmb el guiatge d’Àngel M. Hernández Cardona\, coautor de la guia 22 itineraris de natura pels voltants de Terrassa.
URL:https://ues.cat/agenda/natura-xaragalls-de-pellicula/
CATEGORIES:Culturals,Natura
END:VEVENT
BEGIN:VEVENT
DTSTART;TZID=Europe/Madrid:20230520T160000
DTEND;TZID=Europe/Madrid:20230520T233000
DTSTAMP:20260421T065436
CREATED:20230512T173413Z
LAST-MODIFIED:20230512T173424Z
UID:10004416-1684598400-1684625400@ues.cat
SUMMARY:La Ganyota.- Festa Major!
DESCRIPTION:[vc_row][vc_column][vc_column_text]29 anys de Ganyota! \n16 h Ganyotaire de ferro + berenar \n17:30 h Animació amb Landry \n20 h Sopar \n21:30 h Concert amb Alquadrat \n22:30 h Dj Culiflor \nPlaça Lluís Subirana – Sabadell[/vc_column_text][/vc_column][/vc_row]
URL:https://ues.cat/agenda/la-ganyota-festa-major-2/
CATEGORIES:Esplai La Ganyota,Socials
END:VEVENT
BEGIN:VEVENT
DTSTART;TZID=Europe/Madrid:20230521T083000
DTEND;TZID=Europe/Madrid:20230521T140000
DTSTAMP:20260421T065436
CREATED:20220715T170844Z
LAST-MODIFIED:20230518T174753Z
UID:10003950-1684657800-1684677600@ues.cat
SUMMARY:Marxa nòrdica.-En Marxa pel Rodal. 5a Caminada de Marxa Nòrdica per Sabadell
DESCRIPTION:[vc_row][vc_column][vc_column_text]En Marxa pel Rodal és una caminada de marxa nòrdica pels entorns de Sabadell que enguany arriba a la 5a edició. Aquesta caminada forma part del Circuit Català de Marxa Nòrdica de la FEEC. \nPer aquesta edició proposem un recorregut no competitiu (tot i que es facilitarà el temps de sortida i arribada per dorsal) de 12\,56 km i 133 m de desnivell\, amb punt de sortida i arribada  des de la zona de pícnic de l’Avinguda de la Pau/ Carrer Primo Levi (Castellarnau/can Llong de Sabadell). El recorregut s’’iniciarà per un camí més o menys paral·lel a la via del tren\, per entrar al cap de ben poc al terme municipal de Terrassa. Es resseguirà els límits del club de golf per anar a buscar el camí del torrent de la Batzuca; s’enllaçarà amb el GR 173 fins a Torrebonica\, can Canya i retorn al punt de sortida. \nConsulta tota la informació \nInscripcions fins el 18 de maig[/vc_column_text][/vc_column][/vc_row]
URL:https://ues.cat/agenda/marxa-nordica-caminada-del-ccmn/
CATEGORIES:Esportives,Marxa Nòrdica
END:VEVENT
END:VCALENDAR