BEGIN:VCALENDAR
VERSION:2.0
PRODID:-//UES - ECPv6.15.20//NONSGML v1.0//EN
CALSCALE:GREGORIAN
METHOD:PUBLISH
X-WR-CALNAME:UES
X-ORIGINAL-URL:https://ues.cat
X-WR-CALDESC:Activitats per UES
REFRESH-INTERVAL;VALUE=DURATION:PT1H
X-Robots-Tag:noindex
X-PUBLISHED-TTL:PT1H
BEGIN:VTIMEZONE
TZID:Europe/Madrid
BEGIN:DAYLIGHT
TZOFFSETFROM:+0100
TZOFFSETTO:+0200
TZNAME:CEST
DTSTART:20220327T010000
END:DAYLIGHT
BEGIN:STANDARD
TZOFFSETFROM:+0200
TZOFFSETTO:+0100
TZNAME:CET
DTSTART:20221030T010000
END:STANDARD
BEGIN:DAYLIGHT
TZOFFSETFROM:+0100
TZOFFSETTO:+0200
TZNAME:CEST
DTSTART:20230326T010000
END:DAYLIGHT
BEGIN:STANDARD
TZOFFSETFROM:+0200
TZOFFSETTO:+0100
TZNAME:CET
DTSTART:20231029T010000
END:STANDARD
BEGIN:DAYLIGHT
TZOFFSETFROM:+0100
TZOFFSETTO:+0200
TZNAME:CEST
DTSTART:20240331T010000
END:DAYLIGHT
BEGIN:STANDARD
TZOFFSETFROM:+0200
TZOFFSETTO:+0100
TZNAME:CET
DTSTART:20241027T010000
END:STANDARD
END:VTIMEZONE
BEGIN:VEVENT
DTSTART;TZID=Europe/Madrid:20231003T080000
DTEND;TZID=Europe/Madrid:20231003T140000
DTSTAMP:20260424T040554
CREATED:20221228T185137Z
LAST-MODIFIED:20231002T081259Z
UID:10004225-1696320000-1696341600@ues.cat
SUMMARY:Excursions matinals per a la Gent Gran.- Riells del Fai
DESCRIPTION:[vc_row][vc_column][vc_column_text]Itinerari (actualització): Des de Sant Miquel del Fai\, resseguirem el riu Tenes\, per un camí bonic que ens portarà per la font de la Pineda i el seu plàtan centenari\, gaudirem de gorgs i masos\, passarem prop de Riell del Fai i acabarem a Bigues i Riells. \nDistància: 6\,5 km \nDesnivell: +50/-290m \n [/vc_column_text][/vc_column][/vc_row]
URL:https://ues.cat/agenda/excursions-matinals-per-a-la-gent-gran-riells-del-fai/
CATEGORIES:Gent Gran,Socials
END:VEVENT
BEGIN:VEVENT
DTSTART;TZID=Europe/Madrid:20231003T190000
DTEND;TZID=Europe/Madrid:20231003T210000
DTSTAMP:20260424T040554
CREATED:20230725T092627Z
LAST-MODIFIED:20230725T092627Z
UID:10004484-1696359600-1696366800@ues.cat
SUMMARY:Xerrades obertes sobre temes de muntanya.-Aventura vertical. 40 anys festejant les parets per Armand Ballart.
DESCRIPTION:La conferència ofereix un particular repàs a l’escalada en roca de tota la vida\,  des de l’òptica de un oberturista de noves vies com és l’Armand. Ell explica en viu i en directe les seves imatges. Presencial sala d’actes de la UES.
URL:https://ues.cat/agenda/xerrades-obertes-sobre-temes-de-muntanya-aventura-vertical-40-anys-festejant-les-parets-per-armand-ballart/
END:VEVENT
BEGIN:VEVENT
DTSTART;TZID=Europe/Madrid:20231004T090000
DTEND;TZID=Europe/Madrid:20231004T130000
DTSTAMP:20260424T040554
CREATED:20230621T120326Z
LAST-MODIFIED:20230621T120326Z
UID:10004430-1696410000-1696424400@ues.cat
SUMMARY:Senders km 0: de Sabadell al Molí Vermell
DESCRIPTION:[vc_row][vc_column][vc_column_text] \nItinerari: De Sabadell al Molí Vermell\, font de Can Llobateres\, el castell de Barberà i els aiguamolls \nDistància: 12 km \nPunt de trobada: Església de Sant Oleguer – Pavelló Municipal d’Esports a les 9 del matí \nHora aproximada de finalització: 13:30 h \nCal portar aigua\, esmorzar i roba adequada a les condicions climatològiques i calçat per caminar. \nActivitat gratuïta per a socis/es de la UES \nSoci@web i no socis/es: 5€ \nAmb assegurança d’accident temporal inclosa \n[/vc_column_text][/vc_column][/vc_row]
URL:https://ues.cat/agenda/senders-km-0-de-sabadell-al-moli-vermell/
CATEGORIES:Esportives,Senders
END:VEVENT
BEGIN:VEVENT
DTSTART;TZID=Europe/Madrid:20231004T183000
DTEND;TZID=Europe/Madrid:20231004T203000
DTSTAMP:20260424T040554
CREATED:20230712T155727Z
LAST-MODIFIED:20230720T142016Z
UID:10004460-1696444200-1696451400@ues.cat
SUMMARY:Formació.- Taller de Wikiloc
DESCRIPTION:Taller complert de Wikiloc \nTaller presencial a la seu social de la UES. \nPlaces limitades: 10 assistents. \nHorari de les sessions: de 18:30 h a 20:30 h. Sessió de practica\, dissabte de 09:00 h a\n14:00 h. Assessorament mitjançat grup de WhatsApp fins a 30 dies desprès de\nfinalitzar el taller. \nDuració del taller: dimecres – 4 – 11 – 18 – dijous 19 – i dissabte 21 d’octubre ( 4\nsessions i 1 pràctica) \nPreu del taller: 50 € socis/es – 60 € soci@web i no soci/es \nInscripcions: a partir del 5 de setembre a la web ues.cat o bé a secretaria \nRequisits: Cal portar telèfon mòbil. Ordenador portàtil opcional.\nLa inscripció inclou assegurança a les sortides pràctiques. \nFormadors: Àngel Artigas\, enginyer tècnic\nManolo Barcia\, tècnic de senders \nObjectius\nConèixer el funcionament de Wikiloc -des de la base- com a eina de planificació i\nelaboració d’itineraris excursionistes. Crear el teu espai a Wikiloc\, trobar l’itinerari\nexcursionista més adequat al teu nivell i preferències. Veurem tot el que Wikiloc ens\nofereix; com arribar al punt d’inici de un recorregut\, que son els filtres\, la importància\nde la cobertura\, quins mapes puc descarregar… Deixar-te guiar per l’aplicació al mòbil i\narribar al teu objectiu amb seguretat és el contingut d’aquest taller pas a pas.\nPodràs fer servir a l’aula de formació\, durant el taller\, el teu portàtil o mòbil i seguir les\nindicacions pas a pas dels formadors. \nPrograma \n\nQue és Wikiloc? Wikiloc es un lloc web per a descobrir i compartir rutes i excursions a la natura a peu\, en bici i altres moltes activitats.\nDescarregar l’aplicació i primers passos.\nTracks i recorreguts de un excursió.\nCrear el meu espai i perfil a Wikiloc.\nBuscar la millor excursió per a tu a Wikiloc.\nGuardar i organitzar els teus itineraris a Wikiloc.\nPlanificar les teves excursions a Wikiloc.Publicar i compartir al teu espai de Wikiloc les teves excursions.\nPublicar i compartir llocs d’interès i fotografies al teu espai de Wikiloc.\nWikiloc al teu mòbil.\nWikiloc al teu mòbil et guia durant l’excursió.\nQue son i perquè serveixen els filtres\nEls mapes a Wikiloc. Perquè necessito un mapa?\nLa fiabilitat dels itineraris a Wikiloc.\nWikiloc on-line i Wikiloc offline. Que és això?\nCom passar recorreguts de Wikiloc al GPS.\nFAQS
URL:https://ues.cat/agenda/formacio-taller-de-wikiloc/
CATEGORIES:Altres cursos i tallers,Escola de Muntanya,Formació
END:VEVENT
BEGIN:VEVENT
DTSTART;TZID=Europe/Madrid:20231004T190000
DTEND;TZID=Europe/Madrid:20231004T210000
DTSTAMP:20260424T040554
CREATED:20230901T145029Z
LAST-MODIFIED:20230901T145029Z
UID:10004499-1696446000-1696453200@ues.cat
SUMMARY:Vídeo.- Premis Miquel Fàbregues de reportatges i documentals
DESCRIPTION:[vc_row][vc_column][vc_column_text]1a sessió. Projeccions: \nREGIÓN DE MURCIA NATURAL (M) 25 min de José Francisco Calvo – Alcantarilla\nTARDOR A LAPÒNIA (V) 15 min de Francesc Monsonís – Barcelona\nFUERA DEL ABISMO ( S) 13 min de Jordi Ruiz – Honduras\nCABÒRIES D’UN VIDEÒGRAF A LA BLANCA SUBUR (C) 23 min d’Antoni Viñas – UES[/vc_column_text][/vc_column][/vc_row]
URL:https://ues.cat/agenda/video-premis-miquel-fabregues-de-reportatges-i-documentals-2/
CATEGORIES:Culturals,Vídeo
END:VEVENT
BEGIN:VEVENT
DTSTART;VALUE=DATE:20231005
DTEND;VALUE=DATE:20231112
DTSTAMP:20260424T040554
CREATED:20231026T071403Z
LAST-MODIFIED:20231026T071516Z
UID:10004545-1696464000-1699747199@ues.cat
SUMMARY:Foto.- Exposició col·lectiva al Casal Pere Quart
DESCRIPTION:[vc_row][vc_column][vc_column_text][/vc_column_text][/vc_column][/vc_row]
URL:https://ues.cat/agenda/foto-exposicio-collectiva-al-casal-pere-quart/
CATEGORIES:Culturals,Fotografia
END:VEVENT
BEGIN:VEVENT
DTSTART;TZID=Europe/Madrid:20231006T193000
DTEND;TZID=Europe/Madrid:20231006T200000
DTSTAMP:20260424T040554
CREATED:20230927T160949Z
LAST-MODIFIED:20231002T090607Z
UID:10004195-1696620600-1696622400@ues.cat
SUMMARY:Cultura.- Swim smoke (teatre breu)
DESCRIPTION:[vc_row][vc_column][vc_column_text]Propostes culturals per acabar (bé) la setmana \nUn insignificant detall d’aniversari pot desencadenar les més controvertides reaccions. Un trist encenedor Zippo d’imitació posa a prova l’amistat de dues dones\, fa aflorar rancúnies i enveges als vestidors d’una piscina on han anat a posar en forma els seus cossos i les seves contradiccions. \nInterpretació: M Antònia Vidal i Anna Vidal \nDurada: 30 minuts \nDirecció: Lluís Saus \nAutor: Francesc Cutchet \nA les 19:30 h a la sala d’actes de la UES \nTeatre breu  \nTaquilla inversa però cal inscripció prèvia per control d’aforament. \nI en acabar\, Taula de Vins amb La Galana. \n  \nPROPERES PROPOSTES DELS DIVENDRES \nDivendres 10 de novembre\, Les Sabates de la Vida\,  lectura dramatitzada a càrrec de Cristina Olivé i Edu Beltran \nDivendres 1 de desembre\, Altres contes catalans\, lectura dramatitzada a càrrec d’Eloi Duran i Mireia Giraldez\, Companyia laMare[/vc_column_text][/vc_column][/vc_row]
URL:https://ues.cat/agenda/cultura-swimssmoke/
CATEGORIES:Cultura,Culturals
END:VEVENT
BEGIN:VEVENT
DTSTART;VALUE=DATE:20231007
DTEND;VALUE=DATE:20231008
DTSTAMP:20260424T040554
CREATED:20230724T072129Z
LAST-MODIFIED:20230724T072129Z
UID:10004174-1696636800-1696723199@ues.cat
SUMMARY:Orientació.- Participació Copa Catalana a L'Esquirol. Organitza UEVic
DESCRIPTION:
URL:https://ues.cat/agenda/orientacio-participacio-copa-catalana-a-lesquirol-organitza-uevic/
CATEGORIES:Esportives,Orientació
END:VEVENT
BEGIN:VEVENT
DTSTART;VALUE=DATE:20231008
DTEND;VALUE=DATE:20231009
DTSTAMP:20260424T040554
CREATED:20221219T165820Z
LAST-MODIFIED:20230626T135319Z
UID:10004193-1696723200-1696809599@ues.cat
SUMMARY:43a RONDA VALLESANA.
DESCRIPTION:[vc_row][vc_column][vc_column_text]Enguany tornem al Vallès Oriental i al Parc Natural i Reserva de la Biosfera del Montseny. L’any 2014\, en la 35a edició\, ja vam visitar el parc per assolir els sostres de la serra\, les Agudes i el Turó de l’Home. En aquesta edició entrarem al Parc pel sud\, concretament pel municipi de Gualba\, on resseguirem la Riera de Gualba\, un espai amb grans valors paisatgístics\, amb miradors i racons que de ben segur us sorprendran. \nLa Riera de Gualba ha estat tradicionalment una font natural d’activitat econòmica que encara avui en dia podem veure en l’aprofitament hidroelèctric\, les explotacions mineres i el cultiu del suro. \nPerquè pugueu gaudir d’aquest entorn natural hem preparat dos itineraris\, la ronda curta de 13\,4 km i +690\, i la ronda llarga\, de 17\,2 km i 940 m. \nAl llarg dels dos recorreguts descobrireu fonts\, salts d’aigua\, gorgs\, miradors com el de la Creu Gran\, el famós Salt de Gualba\, nombroses alzines sureres monumentals i un ric bosc de ribera on hi creixen espècies com el plàtan\, el vern i el salze. També passarem pel Parc Mediambiental de Gualba\, un espai natural que ofereix activitats educatives i lúdiques per a tots els públics. \nConsulteu tota la informació de la 43a Ronda Vallesana \n  \n[/vc_column_text][/vc_column][/vc_row]
URL:https://ues.cat/agenda/43a-ronda-vallesana/
CATEGORIES:Cultura,Culturals,Esportives,Excursions dimecres,Gent Gran,Muntanya,Natura,Senders,Socials,Veterans
END:VEVENT
BEGIN:VEVENT
DTSTART;VALUE=DATE:20231008
DTEND;VALUE=DATE:20231009
DTSTAMP:20260424T040554
CREATED:20230724T072216Z
LAST-MODIFIED:20230724T072216Z
UID:10004175-1696723200-1696809599@ues.cat
SUMMARY:Orientació.- Participació Campionat de Catalunya de Llarga a les Roques Encantades. Organitza GoExtrem
DESCRIPTION:
URL:https://ues.cat/agenda/orientacio-participacio-campionat-de-catalunya-de-llarga-a-les-roques-encantades-organitza-goextrem/
CATEGORIES:Esportives,Orientació
END:VEVENT
END:VCALENDAR