BEGIN:VCALENDAR
VERSION:2.0
PRODID:-//UES - ECPv6.15.20//NONSGML v1.0//EN
CALSCALE:GREGORIAN
METHOD:PUBLISH
X-WR-CALNAME:UES
X-ORIGINAL-URL:https://ues.cat
X-WR-CALDESC:Activitats per UES
REFRESH-INTERVAL;VALUE=DURATION:PT1H
X-Robots-Tag:noindex
X-PUBLISHED-TTL:PT1H
BEGIN:VTIMEZONE
TZID:Europe/Madrid
BEGIN:DAYLIGHT
TZOFFSETFROM:+0100
TZOFFSETTO:+0200
TZNAME:CEST
DTSTART:20220327T010000
END:DAYLIGHT
BEGIN:STANDARD
TZOFFSETFROM:+0200
TZOFFSETTO:+0100
TZNAME:CET
DTSTART:20221030T010000
END:STANDARD
BEGIN:DAYLIGHT
TZOFFSETFROM:+0100
TZOFFSETTO:+0200
TZNAME:CEST
DTSTART:20230326T010000
END:DAYLIGHT
BEGIN:STANDARD
TZOFFSETFROM:+0200
TZOFFSETTO:+0100
TZNAME:CET
DTSTART:20231029T010000
END:STANDARD
BEGIN:DAYLIGHT
TZOFFSETFROM:+0100
TZOFFSETTO:+0200
TZNAME:CEST
DTSTART:20240331T010000
END:DAYLIGHT
BEGIN:STANDARD
TZOFFSETFROM:+0200
TZOFFSETTO:+0100
TZNAME:CET
DTSTART:20241027T010000
END:STANDARD
END:VTIMEZONE
BEGIN:VEVENT
DTSTART;TZID=Europe/Madrid:20231121T190000
DTEND;TZID=Europe/Madrid:20231121T190000
DTSTAMP:20260421T084933
CREATED:20231115T172020Z
LAST-MODIFIED:20231115T172036Z
UID:10004565-1700593200-1700593200@ues.cat
SUMMARY:Foto.- Inauguració exposició 'Instants' de Llorenç Martí
DESCRIPTION:[vc_row][vc_column][vc_column_text]Inauguració de l’exposició fotogràfica de Llorenç Martí\, INSTANTS \nQue es podrà veure a la sala d’exposicions de l’entrada de la UES fins el 9 de gener.[/vc_column_text][/vc_column][/vc_row]
URL:https://ues.cat/agenda/foto-inauguracio-exposicio-instants-de-llorenc-marti/
CATEGORIES:Culturals,Fotografia
END:VEVENT
BEGIN:VEVENT
DTSTART;TZID=Europe/Madrid:20231121T190000
DTEND;TZID=Europe/Madrid:20231121T203000
DTSTAMP:20260421T084933
CREATED:20230214T102331Z
LAST-MODIFIED:20231114T093806Z
UID:10004336-1700593200-1700598600@ues.cat
SUMMARY:Cafès Científics.- Dependència\, fragilitat.. i ara que fem?
DESCRIPTION:[vc_row][vc_column][vc_column_text]Dependència\, fragilitat.. i ara que fem? \nA càrrec de Carol Casamitjana\, infermera \nOrganitza: Filial del Vallès Occidental de l’Acadèmia de Ciències Mèdiques \nLa població envelleix i a mesura que això passa ens tornem més vulnerables i tenim més necessitats. Apareixen malalties que requereixen ingressos hospitalaris perllongats i freqüents. La mobilitat és redueix. Les nostres capacitats es veuen disminuïdes. Necessitem de fàrmacs que ens ajuden a sobreviure. Necessitem ajuts externs\, etc. Tot això implica fragilitat i augment de dependència\, i per suposat necessitat d’informació i educació sanitària. Parllem sobre què hem de fer amb tot això parlem de cuidar amb qualitat. \nCarol Casamitjana Correas ha estat infermera durant 15 anys en els serveis de geriatria d’aguts\, pal·liatius i convalescència de l’Hospital Tauli i 5 anys en atenció domiciliària comunitària.[/vc_column_text][/vc_column][/vc_row]
URL:https://ues.cat/agenda/cafes-cientifics-dependencia-fragilitat-i-ara-que-fem/
CATEGORIES:Culturals,Natura
END:VEVENT
BEGIN:VEVENT
DTSTART;TZID=Europe/Madrid:20231121T190000
DTEND;TZID=Europe/Madrid:20231121T210000
DTSTAMP:20260421T084933
CREATED:20230725T093507Z
LAST-MODIFIED:20230919T150603Z
UID:10004488-1700593200-1700600400@ues.cat
SUMMARY:Xerrades obertes sobre temes de muntanya.-Espectacles de la natura amb mirada científica: La Bellesa del Cosmos per en Josep Masalles
DESCRIPTION:[vc_row][vc_column][vc_column_text]La Natura en el nostre planeta ens presenta llocs de gran bellesa i fenòmens espectaculars que són apreciats per tothom. Menys coneguda per bona part de la població\, majoritàriament urbana\, és la bellesa del Cosmos. La Lluna\, els planetes\, els cometes\, les nebuloses\, les galàxies\, etc. són també d’una gran bellesa. Així mateix ho són fenòmens astronòmics que podem observar com els eclipsis\, els trànsits\, les ocultacions\, les sortides i postes de Sol\, etc. Tots aquests fenòmens poden ser apreciats millor si coneixem la seva fonamentació científica. A la seva bellesa intrínseca s’afegeix la bellesa del coneixement. I per això volem destacar la Bellesa de l’Univers amb mirada científica. \na càrrec de Joan Masalles\, enginyer industrial i president de l’Agrupació Astronòmica de Barcelona (Aster)[/vc_column_text][/vc_column][/vc_row]
URL:https://ues.cat/agenda/xerrades-obertes-sobre-temes-de-muntanya-espectacles-de-la-natura-amb-mirada-cientifica-la-bellesa-del-cosmos-per-en-josep-masalles-enginyer-industrial-i-president-de-lagrupacio-astronomi/
END:VEVENT
BEGIN:VEVENT
DTSTART;VALUE=DATE:20231122
DTEND;VALUE=DATE:20231123
DTSTAMP:20260421T084933
CREATED:20231005T162145Z
LAST-MODIFIED:20231106T084822Z
UID:10004535-1700611200-1700697599@ues.cat
SUMMARY:Les excursions del dimecres.- Aiats i Mare de Déu de Cabrera
DESCRIPTION:[vc_row][vc_column][vc_column_text]Recorregut de 10.5 kms amb un desnivell de 525 metres tant de pujada com de baixada entremig de boscos\, masies i atalaies amb vistes espectaculars del Pirineu des del Pedraforca fins al Canigó\, el Montseny i el pantà de Sau. \nUna excursió imprescindible i espectacular per camins mot poc coneguts i transitats\, dins la zona del Collsacabra. Sortirem des de la carretera de l’Esquirol\, a Cantonigròs\, per passar per la masia de Caselles i remuntar\, per pista fàcil\, fins la masia de Aiats. En aquest punt iniciem l’ascensió al Cingle i el Pla d’Aiats pujant pel Grau de les Escales\, camí empedrat i dret i poc conegut que ens portarà al Cortals d’Aiats. Anirem recorren els diferents miradors d’aquest altiplà impressionant per anar després en direcció al coll de Bram i ascendir a Cabrera per les Escales\, fins arribar als impressionants miradors del cim de Cabrera (1307mts). Tornarem al coll de Bram fent el descens per les Marrades i des de aquest punt retornarem a la plana resseguint la riera d’Aiats. \nSortida de tot el dia. Cal portar dinar \nSortida a les 7:30 h davant Hotel Sabadell \n[/vc_column_text][/vc_column][/vc_row]
URL:https://ues.cat/agenda/les-excursions-del-dimecres-pendent-de-concretar-3/
CATEGORIES:Esportives,Excursions dimecres
END:VEVENT
BEGIN:VEVENT
DTSTART;VALUE=DATE:20231125
DTEND;VALUE=DATE:20231126
DTSTAMP:20260421T084933
CREATED:20221219T170853Z
LAST-MODIFIED:20231113T094913Z
UID:10004201-1700870400-1700956799@ues.cat
SUMMARY:Muntanya.- Serra de l'Obac. Castellsapera (939m) i Castell de Bocs (664m). Vallès Occidental
DESCRIPTION:[vc_row][vc_column][vc_column_text]Recorregut circular per la Serra de l’Obac amb punt d’inici a l’Alzina del Salari. Visitarem llocs i racons més que interessants i potser desconeguts: Castellsapera\, Roca Salvatge\, Paller de tot l’any\, Castell de Bocs\, l’Hospital de Sang. La Serra de l’Obac té molt d’interés i és molt inhòspit. \nNivell de dificultat: Mitjana** \nDistància: 15\,700 km >> Desnivell: +/-900 m >> Temps efectiu aproximat: 7 hores. \nSortida en cotxes particulars. Trobada a les 7 h a l’aparcament del Parc Catalunya\, davant del Club de Tenis. \nMaterial: Calçat i roba adequada. Esmorzar i dinar. \nPreu: Socis/es: 5€ >> soci@web i no socis/es: 10€. \nCal estar federat/ada o bé tramitar assegurança temporal obligatòria (4\,5€/dia). \nInscripcions del 13 al 23/11 a ues.cat\, app o presencialment a secretaria. \nReunió informativa: Dijous 23 de novembre a les 19 h a la UES (en cas de ser necessària). \n[/vc_column_text][/vc_column][/vc_row]
URL:https://ues.cat/agenda/muntanya-castellsapera-939m-i-castell-de-bocs-664m-valles-occidental/
CATEGORIES:Esportives,Muntanya
END:VEVENT
BEGIN:VEVENT
DTSTART;VALUE=DATE:20231125
DTEND;VALUE=DATE:20231126
DTSTAMP:20260421T084933
CREATED:20230130T181513Z
LAST-MODIFIED:20230130T181513Z
UID:10004088-1700870400-1700956799@ues.cat
SUMMARY:Natura.- El Bonaire de Creixenturri
DESCRIPTION:La talaia de la vall de Camprodon \nDe Sant Pau de Segúries a Camprodon\, pel santuari del Remei i el mirador de Sant Antoni (1.361 m)\, amb panoràmica rodona sobre la vall del riu Ter\, al Ripollès\, el Pirineu i la Garrotxa. Un paisatge privilegiat de boscos de faig\, freixe i pi roig\, amb mosaics de pastures i una fauna molt diversificada. Una delícia que no us podeu perdre.
URL:https://ues.cat/agenda/natura-el-bonaire-de-creixenturri/
CATEGORIES:Culturals,Natura
END:VEVENT
BEGIN:VEVENT
DTSTART;VALUE=DATE:20231125
DTEND;VALUE=DATE:20231126
DTSTAMP:20260421T084933
CREATED:20230918T085334Z
LAST-MODIFIED:20231108T143139Z
UID:10004186-1700870400-1700956799@ues.cat
SUMMARY:BTT.- Vall de Bianya
DESCRIPTION:[vc_row][vc_column][vc_column_text]30 km – desnivell 400 m \nDificultat: baixa/mitjana \nRecorregut: Recorregut per pistes rurals\, asfaltades en un 70% i de terra la resta. Circuit circular i planer amb desviaments per arribar al monestir de Sant Joan\, Sant Martí de  Capsec i a Sant Martí del Clot. \nHora i punt de trobada: A les 9 matí\, Bar Hostal Nou – Can Danes\, al nucli antic de l’Hostalnou. \nDinar optatiu al restaurant Ca l’Adela\, al nucli de Llocalou.[/vc_column_text][/vc_column][/vc_row]
URL:https://ues.cat/agenda/btt-vall-de-bianya/
CATEGORIES:BTT,Esportives
END:VEVENT
BEGIN:VEVENT
DTSTART;VALUE=DATE:20231126
DTEND;VALUE=DATE:20231127
DTSTAMP:20260421T084933
CREATED:20230104T105122Z
LAST-MODIFIED:20231030T160823Z
UID:10004068-1700956800-1701043199@ues.cat
SUMMARY:Famílies.- Sortida a la fageda a de la Grevolosa
DESCRIPTION:[vc_row][vc_column][vc_column_text]Sortida a la fageda de la Grevolosa (Osona) on podrem gaudir dels colors vermells i marrons típics del paisatge de tardor. Entre faigs de més de 300 anys i boix grèvol farem una suau caminada (230m desnivell) d’uns 6 Km aproximadament. \nLloc de sortida: Plaça de les dones del tèxtil \nHora: 8.00h \nPreu: \n\nFamílies amb un membre soci: gratuït\nFamílies no sòcies 5€/persona\, nens a partir de 7 anys.\n\nInscripcions obertes[/vc_column_text][/vc_column][/vc_row]
URL:https://ues.cat/agenda/families-sortida-a-la-fageda-a-de-la-grevolosa/
CATEGORIES:Famílies,Socials
END:VEVENT
BEGIN:VEVENT
DTSTART;VALUE=DATE:20231126
DTEND;VALUE=DATE:20231127
DTSTAMP:20260421T084933
CREATED:20231002T155659Z
LAST-MODIFIED:20240319T171128Z
UID:10004516-1700956800-1701043199@ues.cat
SUMMARY:Jovent 3.5.- El Cabrerès >> POSPOSADA A 16 DE DESEMBRE
DESCRIPTION:[vc_row][vc_column][vc_column_text]Escapa’t de la rutina\, desconnecta\, respira natura i sent la muntanya. \nSortides socials de mitja muntanya adreçades a persones d’entre 36 i 50 anys (any amunt\, any avall). \nPots venir sola/a\, amb parella\, amb amics/amigues.. sigui com sigui\, si t’agrada la natura i la muntanya i vols conèixer a altres persones amb els mateixos interessos. Vine amb nosaltres! \nDistància: 12 km \nDesnivell:+/- 590 m \nComarca: Osona (Cantonigròs) \nItinerari: Excursió circular als altiplans de Cabrera i Aiats des de Cantonigròs. Pujarem al cim de Cabrera\, de 1.308 metres d’altitud i inclòs dins la llista dels 100 cims de la FEEC\, i a l’altiplà d’Aiats.  Remuntarem les espectaculars cingleres que s’alcen sobre el poble de Cantonigròs i gaudirem dels boscos caducifolis del Cabrerès. Les cingleres del Cabrerès\, l’autèntica senyal d’identitat del Collsacabra\, ens permetran gaudir d’una extensa vista de la plana de Vic. \nInici: Cantonigròs \nTrobada al  Restaurant Can Puntí (Cantonigròs) \nSortida guiada per Alba Rovira\,  Tècnica d’Esports en Muntanya Mitjana\, Guia de muntanya AEGM i UIMLA \nInscripcions a partir del 2 de novembre. \nVols saber-ne més? Uneix-te al grup de Whatsapps! \n \nAnar a inscripcions[/vc_column_text][/vc_column][/vc_row]
URL:https://ues.cat/agenda/jovent-3-5-cabrares/
CATEGORIES:Esportives,Jovent
END:VEVENT
END:VCALENDAR