BEGIN:VCALENDAR
VERSION:2.0
PRODID:-//UES - ECPv6.15.20//NONSGML v1.0//EN
CALSCALE:GREGORIAN
METHOD:PUBLISH
X-ORIGINAL-URL:https://ues.cat
X-WR-CALDESC:Activitats per UES
REFRESH-INTERVAL;VALUE=DURATION:PT1H
X-Robots-Tag:noindex
X-PUBLISHED-TTL:PT1H
BEGIN:VTIMEZONE
TZID:Europe/Madrid
BEGIN:DAYLIGHT
TZOFFSETFROM:+0100
TZOFFSETTO:+0200
TZNAME:CEST
DTSTART:20230326T010000
END:DAYLIGHT
BEGIN:STANDARD
TZOFFSETFROM:+0200
TZOFFSETTO:+0100
TZNAME:CET
DTSTART:20231029T010000
END:STANDARD
BEGIN:DAYLIGHT
TZOFFSETFROM:+0100
TZOFFSETTO:+0200
TZNAME:CEST
DTSTART:20240331T010000
END:DAYLIGHT
BEGIN:STANDARD
TZOFFSETFROM:+0200
TZOFFSETTO:+0100
TZNAME:CET
DTSTART:20241027T010000
END:STANDARD
BEGIN:DAYLIGHT
TZOFFSETFROM:+0100
TZOFFSETTO:+0200
TZNAME:CEST
DTSTART:20250330T010000
END:DAYLIGHT
BEGIN:STANDARD
TZOFFSETFROM:+0200
TZOFFSETTO:+0100
TZNAME:CET
DTSTART:20251026T010000
END:STANDARD
END:VTIMEZONE
BEGIN:VEVENT
DTSTART;TZID=Europe/Madrid:20240603T080000
DTEND;TZID=Europe/Madrid:20240603T140000
DTSTAMP:20260421T063756
CREATED:20240415T132606Z
LAST-MODIFIED:20240521T165924Z
UID:10004356-1717401600-1717423200@ues.cat
SUMMARY:UES Inclusiva.- Camí de la Font de la Riera\, el Ripoll a Castellar
DESCRIPTION:[vc_row][vc_column][vc_column_text]Itinerari: PR de Sant Llorenç Savall a Castellar del Vallès. \nDistància: 11Km \nDesnivell: +200/-325m \nTrobada a l’estació d’autobusos a les 8 del matí.[/vc_column_text][/vc_column][/vc_row]
URL:https://ues.cat/agenda/ues-inclusiva-cami-de-la-font-de-la-riera-el-ripoll-a-castellar/
CATEGORIES:Culturals,Esportives
END:VEVENT
BEGIN:VEVENT
DTSTART;TZID=Europe/Madrid:20240604T190000
DTEND;TZID=Europe/Madrid:20240604T203000
DTSTAMP:20260421T063756
CREATED:20240321T175314Z
LAST-MODIFIED:20240425T171043Z
UID:10004340-1717527600-1717533000@ues.cat
SUMMARY:Xerrades obertes sobre temes de muntanya.- Els 100 cims de la FEEC
DESCRIPTION:[vc_row][vc_column][vc_column_text]100 cims de la FEEC\, a càrrec de Joan Maria Vives \nEls 100 cims de la FEEC és una activitat amb un gran ressò\, que està involucrant a molts excursionistes. El ponent d’aquesta sessió n’és l’impulsor des dels seus orígens. A la seva xerrades coneixerem com és l’activitat\, com es trien els cims\, a qui es consulta\, quins són els essencials\, entre d’altres.[/vc_column_text][/vc_column][/vc_row]
URL:https://ues.cat/agenda/39114/
CATEGORIES:Esportives,Muntanya
END:VEVENT
BEGIN:VEVENT
DTSTART;TZID=Europe/Madrid:20240605T080000
DTEND;TZID=Europe/Madrid:20240605T150000
DTSTAMP:20260421T063756
CREATED:20231215T184740Z
LAST-MODIFIED:20240603T071704Z
UID:10004655-1717574400-1717599600@ues.cat
SUMMARY:Caminades saludables\, Senders Km 0.- Els set torrents del rodal
DESCRIPTION:[vc_row][vc_column][vc_column_text] \nVallès Occidental. Distància: 14 km >> Desnivell: +/-225 m \nRecorregut que ens permet conèixer els set torrents situats al nord-oest del rodal: torrent de la Romeua\, torrent de la Riereta\, torrent del Fangar\, torrent de la Murtra\, torrent de la Betzuca\, torrent de la Grípia i torrent de Can Feu. \n  \nPunt de trobada: Parc de la Romeua – Carrer de Budapest/Carrer Nàpols (Sabadell) a les 8 del matí. \nEs podrà tornar a Sabadell en RENFE des de Terrassa i escurçar el recorregut (10 km i +/-180 m si s’opta per aquesta opció= \nEl desplaçament és a càrrec de cada participant. \nActivitat gratuïta per a socis/es. \nNo soci i soci@web: 6€ \nInscripcions del 20 de maig al 3 de juny[/vc_column_text][/vc_column][/vc_row]
URL:https://ues.cat/agenda/caminades-saludables-km-0-els-set-torrents-del-rodal/
CATEGORIES:Esportives,Senders
END:VEVENT
BEGIN:VEVENT
DTSTART;TZID=Europe/Madrid:20240606T210000
DTEND;TZID=Europe/Madrid:20240606T220000
DTSTAMP:20260421T063756
CREATED:20240522T081524Z
LAST-MODIFIED:20240522T081524Z
UID:10004750-1717707600-1717711200@ues.cat
SUMMARY:Espeleo.- Conferència: Exploracions al sistema Alto Tejuelo
DESCRIPTION:[vc_row][vc_column][vc_column_text]El sistema del “Alto del Tejuelo” està situat al massís del Porracolina a Cantàbria. Amb 208 km de galeries\, actualment es tracta del sistema més gran de l’Estat espanyol i el tercer d’Europa. El sistema abarca quatre zones de treball\, de les quals en són titulars quatre grups d’espeleologia diferents. Per aquest motiu\, les exploracions d’aquest gran complex subterrani\, es coordinen a través del “Col·lectiu del Alto del Tejuelo”\, que el composen els grups; SECJA de Madrid\, SPEKUL de Bèlgica\, PROTEUS de Cantàbria i ACE de Mataró\, del qual en Jordi Pérez\, n’és el President de la secció d’espeleologia. L’ACE és titular de la seva zona de treball des del 1991 i des de la descoberta de la “Torca Grande de la Mazuela”\, treballa conjuntament la cavitat amb l’Espeleo Club Sabadell\, del qual en Manel Llenas n’és el president. \nAmbdós ens presentaran aquesta conferència\, però primer farem una pinzellada del seu currículum i experiència com espeleòlegs: \nEn Jordi Pérez\, és enginyer de productes de professió. Va iniciar-se a l’espeleologia el 1988 amb l’Agrupació Cientifico Excursionista de Mataró. A partir del 1991 en la que se’ls va assignar la titularitat de la zona de treball al massís del Porracolina\, es va dedicar plenament a l’exploració\, catalogant més de 600 cavitats inèdites\, de les quals 5 formen part del sistema del “Alto del Tejuelo”. Dins del seu grup assumeix les tasques de coordinació\, topografia i documentació de les descobertes. \nEn Manel Llenas\, és geòleg de professió i treballador al museu de Paleontologia de Sabadell des del 1991. Va iniciar-se a l’espeleologia el mateix 1991 amb l’Espeleo Club Sabadell i ràpidament es va apasionar per l’exploració a les dues zones de treball\, que l’ECS té assignades. D’una banda la vall de Benasque i d’altra banda Peñarrubia (Cantàbria)\, on va descobrir importants pintures rupestres del Paleolític a la cova Àuria de la Hermida el 2015. Actualment coordina els treballs d’exploració de l’equip català\, al sistema del “Alto del Tejuelo”. \n[/vc_column_text][/vc_column][/vc_row]
URL:https://ues.cat/agenda/espeleo-conferencia-exploracions-al-sistema-alto-tejuelo/
CATEGORIES:Espeleo Club,Esportives
END:VEVENT
BEGIN:VEVENT
DTSTART;TZID=Europe/Madrid:20240607T193000
DTEND;TZID=Europe/Madrid:20240607T203000
DTSTAMP:20260421T063756
CREATED:20240207T153829Z
LAST-MODIFIED:20240527T135352Z
UID:10004713-1717788600-1717792200@ues.cat
SUMMARY:Divendres culturals.- Tele Popcorn
DESCRIPTION:[vc_row][vc_column][vc_column_text]Calaïna presenten TelePopcorn \nUna comèdia interpretada per dues actrius en el paper de dues persones d’avançada edat que comparteixen habitació a una residència d’avis. Aquell dia\, a l’hora de la migdiada\, els instal·len una televisió nova amb lliure accés a tots els canals\, inclòs el canal “adults”. Se succeeixen els dobles jocs de paraules\, les situacions inversemblants i és continua la mirada tendra sobre aquestes persones que els comença a afectar la pèrdua de la memòria… \nInterpretació: Maria Cutchet i Elisenda Gutés. Amb la col·laboració d’Isa Costa. \nText: Francesc Cutchet \nTeatre Breu. Durada: 25 minuts \nTaquilla inversa \nI abans de començar\, La Galana ens ofereix el maridatge perfecte amb la cultura. Cultura&Vins\, 15 minuts abans de començar![/vc_column_text][/vc_column][/vc_row]
URL:https://ues.cat/agenda/divendres-culturals-telepopcorn/
CATEGORIES:Cultura,Culturals
END:VEVENT
BEGIN:VEVENT
DTSTART;VALUE=DATE:20240608
DTEND;VALUE=DATE:20240609
DTSTAMP:20260421T063756
CREATED:20231129T170110Z
LAST-MODIFIED:20240516T155040Z
UID:10004634-1717804800-1717891199@ues.cat
SUMMARY:Senders.-GR92 Senders de la mediterrània: de Roda de Berà a Altafulla
DESCRIPTION:[vc_row][vc_column][vc_column_text]Ultima caminada del primer semestre del programa de la Secció de Senders d’aquest any 2024. \nFarem un tram del GR 92 per la costa tarragonina. Tindrem l’ocasió de visitar el Roc de Sant Gaietà\, les platges de Clarà\, els Muntanyans i el far de Torredembarra. \nSerà un recorregut de 12 km sense desnivell i a ran de mar. \nPodrem fer un bany a la platja de Creixell i després fer un dinar (opcional) de germanor al restaurant del Càmping Gavina (35€). \nInscripcions del 20 de maig al 3 de juny \nSortida de tot el dia\, en autocar. Places limitades. Sortida a les 06:30 h davant l’Hotel Sabadell \n[/vc_column_text][/vc_column][/vc_row]
URL:https://ues.cat/agenda/senders-cami-de-ronda-de-coma-ruga-al-roc-de-sant-gaieta-i-torredembarra/
CATEGORIES:Esportives,Senders
END:VEVENT
END:VCALENDAR