BEGIN:VCALENDAR
VERSION:2.0
PRODID:-//UES - ECPv6.15.20//NONSGML v1.0//EN
CALSCALE:GREGORIAN
METHOD:PUBLISH
X-ORIGINAL-URL:https://ues.cat
X-WR-CALDESC:Activitats per UES
REFRESH-INTERVAL;VALUE=DURATION:PT1H
X-Robots-Tag:noindex
X-PUBLISHED-TTL:PT1H
BEGIN:VTIMEZONE
TZID:Europe/Madrid
BEGIN:DAYLIGHT
TZOFFSETFROM:+0100
TZOFFSETTO:+0200
TZNAME:CEST
DTSTART:20240331T010000
END:DAYLIGHT
BEGIN:STANDARD
TZOFFSETFROM:+0200
TZOFFSETTO:+0100
TZNAME:CET
DTSTART:20241027T010000
END:STANDARD
BEGIN:DAYLIGHT
TZOFFSETFROM:+0100
TZOFFSETTO:+0200
TZNAME:CEST
DTSTART:20250330T010000
END:DAYLIGHT
BEGIN:STANDARD
TZOFFSETFROM:+0200
TZOFFSETTO:+0100
TZNAME:CET
DTSTART:20251026T010000
END:STANDARD
BEGIN:DAYLIGHT
TZOFFSETFROM:+0100
TZOFFSETTO:+0200
TZNAME:CEST
DTSTART:20260329T010000
END:DAYLIGHT
BEGIN:STANDARD
TZOFFSETFROM:+0200
TZOFFSETTO:+0100
TZNAME:CET
DTSTART:20261025T010000
END:STANDARD
END:VTIMEZONE
BEGIN:VEVENT
DTSTART;VALUE=DATE:20250520
DTEND;VALUE=DATE:20250521
DTSTAMP:20260423T181613
CREATED:20250314T161759Z
LAST-MODIFIED:20250319T094512Z
UID:10004934-1747699200-1747785599@ues.cat
SUMMARY:Cafès científics.- La Falla i els rius del Vallès
DESCRIPTION:[vc_row][vc_column][vc_column_text]A càrrec del geòleg Antoni Freixes. \nOrganitza: ADENC \nA les 19h a la sala d’actes\, gratuït.[/vc_column_text][/vc_column][/vc_row]
URL:https://ues.cat/agenda/cafes-cientifics-la-falla-i-els-rius-del-valles/
CATEGORIES:Culturals,Natura
END:VEVENT
BEGIN:VEVENT
DTSTART;VALUE=DATE:20250521
DTEND;VALUE=DATE:20250522
DTSTAMP:20260423T181613
CREATED:20241125T170731Z
LAST-MODIFIED:20250519T103042Z
UID:10004852-1747785600-1747871999@ues.cat
SUMMARY:Les excursions dels dimecres.- Puigsacalm (La Garrotxa) ANUL·LADA
DESCRIPTION:[vc_row][vc_column][vc_column_text]Pujada al Puigsacalm (1.515 metres\, 100 cims de la FEEC) desde el coll de Bracons i tornar volta circular; tornada per Sant Bartomeu. Puig de Llop. \nDistància: 9\,6 km >> Desnivell: +/- 568 m[/vc_column_text][/vc_column][/vc_row]
URL:https://ues.cat/agenda/les-excursions-dels-dimecres-a-determinar-2/
CATEGORIES:Esportives,Excursions dimecres
END:VEVENT
BEGIN:VEVENT
DTSTART;TZID=Europe/Madrid:20250521T190000
DTEND;TZID=Europe/Madrid:20250521T203000
DTSTAMP:20260423T181613
CREATED:20250505T180937Z
LAST-MODIFIED:20250505T181129Z
UID:10004960-1747854000-1747859400@ues.cat
SUMMARY:Vídeo.- Els nostres autors: Antoni Viñas
DESCRIPTION:[vc_row][vc_column][vc_column_text]ELS NOSTRES AUTORS: ANTONI VIÑAS \nEl nostre company i consoci\, ens porta a fer un tomb per poblacions del Sud de Catalunya: \n\nRecords d’una estada a Horta. 20 min. 2020.\nDescobrint Tortosa. 17 min. 2021.\nRedescobrint Reus. 19 min. 2024.\n\nA les 19 h\, sala d’actes. Gratuït.[/vc_column_text][/vc_column][/vc_row]
URL:https://ues.cat/agenda/video-els-nostres-autors-antoni-vinas/
CATEGORIES:Culturals,Vídeo
END:VEVENT
BEGIN:VEVENT
DTSTART;VALUE=DATE:20250522
DTEND;VALUE=DATE:20250523
DTSTAMP:20260423T181613
CREATED:20250429T092723Z
LAST-MODIFIED:20250429T123144Z
UID:10004575-1747872000-1747958399@ues.cat
SUMMARY:Càpsula formativa- Què hem de fer enmig d'un incendi forestal?
DESCRIPTION:A càrrec dels ADF de Sabadell \n19:30h\, Sala d’actes
URL:https://ues.cat/agenda/capsula-formativa-que-fem-si-ens-trobem-al-mig-dun-incendi-a-la-muntanya/
END:VEVENT
BEGIN:VEVENT
DTSTART;TZID=Europe/Madrid:20250523T183000
DTEND;TZID=Europe/Madrid:20250523T210000
DTSTAMP:20260423T181613
CREATED:20250331T141342Z
LAST-MODIFIED:20250429T123035Z
UID:10004952-1748025000-1748034000@ues.cat
SUMMARY:Espai La Mola.- Menopausa\, i ara què? (taller)
DESCRIPTION:Parlarem de sol pelvià\, hormones\, sexualitat\, esport i molt més. \nA càrrec de Carla Garreta\, fisioterapeuta especialitzada en sòl pelvià. \nA les 18:30h\, a la sala d’actes. \nGratuït amb inscripció prèvia.
URL:https://ues.cat/agenda/espai-la-mola-perimenopausa-menopausa-i-activitat-fisica-taller/
CATEGORIES:Espai La Mola
END:VEVENT
BEGIN:VEVENT
DTSTART;VALUE=DATE:20250524
DTEND;VALUE=DATE:20250525
DTSTAMP:20260423T181613
CREATED:20241125T171437Z
LAST-MODIFIED:20250513T130549Z
UID:10004855-1748044800-1748131199@ues.cat
SUMMARY:Senders.- GR 1 Sender Històric: d'Oix a Coll de Capsacosta
DESCRIPTION:Itinerari: Oix- cal Quic- Coll de Toralles- Coll d’en Mercer- Oratori de St. Isidre- Coll de Toralloles- Hostal de la Vall d’en Bac- Ermita de Llongarriu- Coll de Capsacosta. \nDistància: 15.51Km \nDesnivell: +693m/-243m \nTot el dia – autocar
URL:https://ues.cat/agenda/senders-a-determinar-8/
CATEGORIES:Esportives,Senders
END:VEVENT
BEGIN:VEVENT
DTSTART;VALUE=DATE:20250524
DTEND;VALUE=DATE:20250525
DTSTAMP:20260423T181613
CREATED:20250117T105307Z
LAST-MODIFIED:20250307T172750Z
UID:10004887-1748044800-1748131199@ues.cat
SUMMARY:Natura.- L'Alzina de Sant Antolí
DESCRIPTION:[vc_row][vc_column][vc_column_text]Comencem la sortida a l’estació de Vacarisses i\, seguint el Camí Romeu a Montserrat\, arribarem a les ruïnes de l’Hostal de la Creu\, des d’on s’albira Montserrat. Aquí s’explicarà la gènesi geològica de la muntanya més emblemàtica de Catalunya. A continuació ens dirigirem cap a l’enigmàtica capella de Sant Antolí\, observant les delicadament acolorides f l ors d’indiana (Aster sedifolius) i altres plantes interessants. Finalment ens acostarem a una poc coneguda alzina monumental. Amb el guiatge d’Àngel M. Hernández Cardona\, de l’Ateneu de Natura.[/vc_column_text][/vc_column][/vc_row]
URL:https://ues.cat/agenda/natura-lalzina-de-sant-antoli/
CATEGORIES:Natura
END:VEVENT
BEGIN:VEVENT
DTSTART;VALUE=DATE:20250524
DTEND;VALUE=DATE:20250525
DTSTAMP:20260423T181613
CREATED:20250513T124132Z
LAST-MODIFIED:20250516T142935Z
UID:10004962-1748044800-1748131199@ues.cat
SUMMARY:Famílies.- Itinerari geològic i paleontològic pel Riu Ripoll
DESCRIPTION:[vc_row][vc_column][vc_column_text]Ruta comentada amb el geòleg de l’ICP i soci de la UES Manel Llenas per descobrir la rellevància geològica i paleontològica del Riu Ripoll\, que ha proporcionat alguns espècimens tan importants per la ciència com en Jordi (Hispanopithecus laietanus). \nActivitat amb inscripció prèvia mitjançant aquest formulari o trucant al 93 726 17 69. \nActivitat organitzada per l’Instiut Català de Paleontologia. \nSortida oberta a tothom\, especialment adreçada a families (els infants han de ser caminadors. No apta per a cotxets). \nSortida matinal (de 8:45 a 13 h)\, cal portar aigua. Recomanem portar crema solar. \nMés informació[/vc_column_text][/vc_column][/vc_row]
URL:https://ues.cat/agenda/itinerari-geologic-i-paleontologic-pel-riu-ripoll-2/
CATEGORIES:Famílies,Socials
END:VEVENT
BEGIN:VEVENT
DTSTART;VALUE=DATE:20250525
DTEND;VALUE=DATE:20250526
DTSTAMP:20260423T181613
CREATED:20241125T170823Z
LAST-MODIFIED:20250516T142932Z
UID:10004853-1748131200-1748217599@ues.cat
SUMMARY:Marxa Nòrdica.- Caminada Marxa Nòrdica (FEEC) En marxa pel Rodal
DESCRIPTION:[vc_row][vc_column][vc_column_text]En Marxa pel Rodal és una caminada de marxa nòrdica pels entorns de Sabadell que enguany arriba a la 7a edició i tindrà lloc el diumenge 26 de maig. Aquesta caminada forma part del Circuit Català de Marxa Nòrdica de la FEEC. \nPer aquesta edició proposem un recorregut no competitiu (tot i que es facilitarà el temps de sortida i arribada per dorsal) de  12\,20 km i 145 m de desnivell\, amb punt de sortida i arribada des del Parc Central del Vallès\, i que transcorrerà pel rodal de Sabadell i entorns del Campus de la Universitat Autònoma i Bellaterra. \nCONSULTEU TOTA LA INFORMACIÓ[/vc_column_text][/vc_column][/vc_row]
URL:https://ues.cat/agenda/marxa-nordica-caminada-marxa-nordica-feec-en-marxa-pel-rodal/
CATEGORIES:Marxa Nòrdica
END:VEVENT
BEGIN:VEVENT
DTSTART;VALUE=DATE:20250525
DTEND;VALUE=DATE:20250526
DTSTAMP:20260423T181613
CREATED:20250429T080737Z
LAST-MODIFIED:20250429T080737Z
UID:10004571-1748131200-1748217599@ues.cat
SUMMARY:JOVES.- Collbató - Monestir de Montserrat
DESCRIPTION:Ruta circular des de Collbató passant per la Santa Cova fins arribar al Monestir de Montserrat. \nDistància: 15km >> Desnivell: +1700m \nHora de sortida: 7h Plaça Dones del Tèxtil \nCotxes particulars
URL:https://ues.cat/agenda/joves-collbato-monestir-de-montserrat/
CATEGORIES:Esportives,Jovent,Socials
END:VEVENT
END:VCALENDAR