BEGIN:VCALENDAR
VERSION:2.0
PRODID:-//UES - ECPv6.15.20//NONSGML v1.0//EN
CALSCALE:GREGORIAN
METHOD:PUBLISH
X-ORIGINAL-URL:https://ues.cat
X-WR-CALDESC:Activitats per UES
REFRESH-INTERVAL;VALUE=DURATION:PT1H
X-Robots-Tag:noindex
X-PUBLISHED-TTL:PT1H
BEGIN:VTIMEZONE
TZID:Europe/Madrid
BEGIN:DAYLIGHT
TZOFFSETFROM:+0100
TZOFFSETTO:+0200
TZNAME:CEST
DTSTART:20250330T010000
END:DAYLIGHT
BEGIN:STANDARD
TZOFFSETFROM:+0200
TZOFFSETTO:+0100
TZNAME:CET
DTSTART:20251026T010000
END:STANDARD
BEGIN:DAYLIGHT
TZOFFSETFROM:+0100
TZOFFSETTO:+0200
TZNAME:CEST
DTSTART:20260329T010000
END:DAYLIGHT
BEGIN:STANDARD
TZOFFSETFROM:+0200
TZOFFSETTO:+0100
TZNAME:CET
DTSTART:20261025T010000
END:STANDARD
BEGIN:DAYLIGHT
TZOFFSETFROM:+0100
TZOFFSETTO:+0200
TZNAME:CEST
DTSTART:20270328T010000
END:DAYLIGHT
BEGIN:STANDARD
TZOFFSETFROM:+0200
TZOFFSETTO:+0100
TZNAME:CET
DTSTART:20271031T010000
END:STANDARD
END:VTIMEZONE
BEGIN:VEVENT
DTSTART;VALUE=DATE:20260915
DTEND;VALUE=DATE:20260916
DTSTAMP:20260421T174730
CREATED:20260115T135934Z
LAST-MODIFIED:20260115T135934Z
UID:10005133-1789430400-1789516799@ues.cat
SUMMARY:Caminades saludables +60\, matinal.- Pels entorns de Lliçà d'Amunt
DESCRIPTION:Vallès Oriental \nItinerari sorprenent que ens descobrirà racons de bosc i planes conreades. Des de diversos punts gaudirem de vistes al Farell\, Sant Llorenç del Munt\, els Cingles del Bertí i el Montseny\, l’ermita de Sant Esteve de Palaudàries i Sant Valerià. \nDistància: 10 km >> Desnivell: +210 m
URL:https://ues.cat/agenda/caminades-saludables-60-matinal-pels-entorns-de-llica-damunt/
CATEGORIES:Gent Gran
END:VEVENT
BEGIN:VEVENT
DTSTART;VALUE=DATE:20260915
DTEND;VALUE=DATE:20260916
DTSTAMP:20260421T174730
CREATED:20260302T145732Z
LAST-MODIFIED:20260305T092339Z
UID:10005221-1789430400-1789516799@ues.cat
SUMMARY:Cafès científics.- Del Quark al cosmos: Les dues cares de l'univers
DESCRIPTION:A càrrec de Gonzalo Merino\, físic\, director del Port d’Informació Científica \nSabies que per entendre com funciona l’univers més llunyà també cal estudiar les coses més petites que existeixen? Parlarem de partícules subatòmiques i de gegants còsmics\, d’acceleradors de partícules i de telescopis ben estranys\, d’imatges precioses i de dades captivadores. Tot plegat per entendre com allò infinitament petit i allò quasi infinitament gran estan connectats.  Tens curiositat? \nOrganitza: Fundació Bosch i Cardellach \nA les 19h\, sala d’actes. Gratuït. \n  \n 
URL:https://ues.cat/agenda/cafes-cientifics-pendent-de-concretar/
CATEGORIES:Natura
END:VEVENT
BEGIN:VEVENT
DTSTART;VALUE=DATE:20260917
DTEND;VALUE=DATE:20260918
DTSTAMP:20260421T174730
CREATED:20260323T170839Z
LAST-MODIFIED:20260323T170839Z
UID:10005338-1789603200-1789689599@ues.cat
SUMMARY:Caminades Slow
DESCRIPTION:Iniciativa amb l’objectiu de crear l’hàbit de caminar\, fomentar l’activitat física a l’aire lliure i fer xarxa amb altres persones amb els mateixos interessos. \nLes caminades slow estan obertes a qualsevol persona que vulgui caminar a ritme suau\, amb recorreguts d’entre 6 i 7 km per entorns naturals (i també urbans)\, per camins sense dificultat\, majoritàriament plans\, però amb alguna pujada i baixada. \nEls recorreguts principals d’aquestes caminades són pel Rodal de Sabadell\, però\, mentre duren les restriccions de la PPA\, es duran a terme des de la UES cap als diversos parcs de la ciutat. \nEs surt a les 9:30h els dijous\, amb una durada d’entre 2 h i 3 h. \nLes sortides són gratuïtes i obertes a tothom que pugui caminar 6 o 7 km a ritme suau. Per participar-hi cal fer la inscripció a través de la nostra web\, amb una única inscripció vàlida per a totes les sortides. Un cop inscrits\, entrareu dins del canal (grup unidireccional) de WhatsApp\, per on es comunicarà el lloc i l’hora de trobada de cada dijous\, així com qualsevol canvi o anul·lació. Estar inscrit implica acceptar estar dins del canal de WhatsApp. \nCal portar roba i calçat adequats\, motxilla petita amb aigua\, ganyips o similar.
URL:https://ues.cat/agenda/caminades-slow-4/2026-09-17/
END:VEVENT
BEGIN:VEVENT
DTSTART;VALUE=DATE:20260919
DTEND;VALUE=DATE:20260920
DTSTAMP:20260421T174730
CREATED:20251103T154600Z
LAST-MODIFIED:20251103T154600Z
UID:10005056-1789776000-1789862399@ues.cat
SUMMARY:Muntanya.- Perdiguero (cap de setmana)
DESCRIPTION:3222m. Aragó. Alta Muntanya. Dificultat difícil.
URL:https://ues.cat/agenda/muntanya-perdiguero-cap-de-setmana/
CATEGORIES:Muntanya
END:VEVENT
BEGIN:VEVENT
DTSTART;VALUE=DATE:20260920
DTEND;VALUE=DATE:20260921
DTSTAMP:20260421T174730
CREATED:20260202T100745Z
LAST-MODIFIED:20260202T102648Z
UID:10005186-1789862400-1789948799@ues.cat
SUMMARY:Natura.- La Matagalls Montserrat\, a poc a poc\, etapa 7
DESCRIPTION:SANT SALVADOR DE LES ESPASES. En aquesta setena etapa anirem de Vacarisses a Monistrol de Montserrat\, pel massís de les Espases\, el Cul de la Portadora i l’Hostal de la Creu. \nDurada: Tot el dia \nTransport: Autocar \nDificultat: Mitjana
URL:https://ues.cat/agenda/natura-la-matagalls-a-poc-a-poc-etapa-7/
CATEGORIES:Natura
END:VEVENT
END:VCALENDAR