BEGIN:VCALENDAR
VERSION:2.0
PRODID:-//UES - ECPv6.15.20//NONSGML v1.0//EN
CALSCALE:GREGORIAN
METHOD:PUBLISH
X-WR-CALNAME:UES
X-ORIGINAL-URL:https://ues.cat
X-WR-CALDESC:Activitats per UES
REFRESH-INTERVAL;VALUE=DURATION:PT1H
X-Robots-Tag:noindex
X-PUBLISHED-TTL:PT1H
BEGIN:VTIMEZONE
TZID:Europe/Madrid
BEGIN:DAYLIGHT
TZOFFSETFROM:+0100
TZOFFSETTO:+0200
TZNAME:CEST
DTSTART:20250330T010000
END:DAYLIGHT
BEGIN:STANDARD
TZOFFSETFROM:+0200
TZOFFSETTO:+0100
TZNAME:CET
DTSTART:20251026T010000
END:STANDARD
BEGIN:DAYLIGHT
TZOFFSETFROM:+0100
TZOFFSETTO:+0200
TZNAME:CEST
DTSTART:20260329T010000
END:DAYLIGHT
BEGIN:STANDARD
TZOFFSETFROM:+0200
TZOFFSETTO:+0100
TZNAME:CET
DTSTART:20261025T010000
END:STANDARD
BEGIN:DAYLIGHT
TZOFFSETFROM:+0100
TZOFFSETTO:+0200
TZNAME:CEST
DTSTART:20270328T010000
END:DAYLIGHT
BEGIN:STANDARD
TZOFFSETFROM:+0200
TZOFFSETTO:+0100
TZNAME:CET
DTSTART:20271031T010000
END:STANDARD
END:VTIMEZONE
BEGIN:VEVENT
DTSTART;VALUE=DATE:20261013
DTEND;VALUE=DATE:20261017
DTSTAMP:20260421T193826
CREATED:20260115T131452Z
LAST-MODIFIED:20260115T133547Z
UID:10005126-1791849600-1792195199@ues.cat
SUMMARY:Marxa Nòrdica.- Selva d'Irati
DESCRIPTION:Del 13 al 16 d’octubre vine a descobrir la Selva d’Irati. \nLa tardor és la millor època de l’any per gaudir d’aquest espai natural navarrès. Ideal per practicar marxa nòrdica \nInscripcions a partir del 16 de febrer. \nConsulta el dossier informatiu
URL:https://ues.cat/agenda/marxa-nordica-selva-dirati/
CATEGORIES:Esportives,Marxa Nòrdica
END:VEVENT
BEGIN:VEVENT
DTSTART;VALUE=DATE:20261015
DTEND;VALUE=DATE:20261016
DTSTAMP:20260421T193826
CREATED:20260323T170839Z
LAST-MODIFIED:20260323T170839Z
UID:10005342-1792022400-1792108799@ues.cat
SUMMARY:Caminades Slow
DESCRIPTION:Iniciativa amb l’objectiu de crear l’hàbit de caminar\, fomentar l’activitat física a l’aire lliure i fer xarxa amb altres persones amb els mateixos interessos. \nLes caminades slow estan obertes a qualsevol persona que vulgui caminar a ritme suau\, amb recorreguts d’entre 6 i 7 km per entorns naturals (i també urbans)\, per camins sense dificultat\, majoritàriament plans\, però amb alguna pujada i baixada. \nEls recorreguts principals d’aquestes caminades són pel Rodal de Sabadell\, però\, mentre duren les restriccions de la PPA\, es duran a terme des de la UES cap als diversos parcs de la ciutat. \nEs surt a les 9:30h els dijous\, amb una durada d’entre 2 h i 3 h. \nLes sortides són gratuïtes i obertes a tothom que pugui caminar 6 o 7 km a ritme suau. Per participar-hi cal fer la inscripció a través de la nostra web\, amb una única inscripció vàlida per a totes les sortides. Un cop inscrits\, entrareu dins del canal (grup unidireccional) de WhatsApp\, per on es comunicarà el lloc i l’hora de trobada de cada dijous\, així com qualsevol canvi o anul·lació. Estar inscrit implica acceptar estar dins del canal de WhatsApp. \nCal portar roba i calçat adequats\, motxilla petita amb aigua\, ganyips o similar.
URL:https://ues.cat/agenda/caminades-slow-4/2026-10-15/
END:VEVENT
BEGIN:VEVENT
DTSTART;VALUE=DATE:20261017
DTEND;VALUE=DATE:20261018
DTSTAMP:20260421T193826
CREATED:20251103T154657Z
LAST-MODIFIED:20251103T154657Z
UID:10005057-1792195200-1792281599@ues.cat
SUMMARY:Muntanya.- El Coscollet
DESCRIPTION:1610m. Alt Urgell. Mitja muntanya. Dificultat mitjana.
URL:https://ues.cat/agenda/muntanya-el-coscollet/
CATEGORIES:Muntanya
END:VEVENT
BEGIN:VEVENT
DTSTART;VALUE=DATE:20261018
DTEND;VALUE=DATE:20261019
DTSTAMP:20260421T193826
CREATED:20260202T101021Z
LAST-MODIFIED:20260202T101021Z
UID:10005188-1792281600-1792367999@ues.cat
SUMMARY:Natura.- La Matagalls - Montserrat\, a poc a poc\, etapa 8
DESCRIPTION:ETAPA 8. LA MATAGALLS MONTSERRAT A POC A POC \nMONTSERRAT. Etapa final\, de Monistrol al monestir de Montserrat\, amb dinar i celebració final d’acabament de la travessa. \nDurada: Tot el dia \nTransport: Autocar \nDificultat: Mitjana
URL:https://ues.cat/agenda/natura-la-matagalls-montserrat-a-poc-a-poc-etapa-8/
CATEGORIES:Natura
END:VEVENT
END:VCALENDAR