BEGIN:VCALENDAR
VERSION:2.0
PRODID:-//UES - ECPv6.15.20//NONSGML v1.0//EN
CALSCALE:GREGORIAN
METHOD:PUBLISH
X-WR-CALNAME:UES
X-ORIGINAL-URL:https://ues.cat
X-WR-CALDESC:Activitats per UES
REFRESH-INTERVAL;VALUE=DURATION:PT1H
X-Robots-Tag:noindex
X-PUBLISHED-TTL:PT1H
BEGIN:VTIMEZONE
TZID:Europe/Madrid
BEGIN:DAYLIGHT
TZOFFSETFROM:+0100
TZOFFSETTO:+0200
TZNAME:CEST
DTSTART:20250330T010000
END:DAYLIGHT
BEGIN:STANDARD
TZOFFSETFROM:+0200
TZOFFSETTO:+0100
TZNAME:CET
DTSTART:20251026T010000
END:STANDARD
BEGIN:DAYLIGHT
TZOFFSETFROM:+0100
TZOFFSETTO:+0200
TZNAME:CEST
DTSTART:20260329T010000
END:DAYLIGHT
BEGIN:STANDARD
TZOFFSETFROM:+0200
TZOFFSETTO:+0100
TZNAME:CET
DTSTART:20261025T010000
END:STANDARD
BEGIN:DAYLIGHT
TZOFFSETFROM:+0100
TZOFFSETTO:+0200
TZNAME:CEST
DTSTART:20270328T010000
END:DAYLIGHT
BEGIN:STANDARD
TZOFFSETFROM:+0200
TZOFFSETTO:+0100
TZNAME:CET
DTSTART:20271031T010000
END:STANDARD
END:VTIMEZONE
BEGIN:VEVENT
DTSTART;VALUE=DATE:20261210
DTEND;VALUE=DATE:20261211
DTSTAMP:20260424T233935
CREATED:20260323T170839Z
LAST-MODIFIED:20260323T170839Z
UID:10005350-1796860800-1796947199@ues.cat
SUMMARY:Caminades Slow
DESCRIPTION:Iniciativa amb l’objectiu de crear l’hàbit de caminar\, fomentar l’activitat física a l’aire lliure i fer xarxa amb altres persones amb els mateixos interessos. \nLes caminades slow estan obertes a qualsevol persona que vulgui caminar a ritme suau\, amb recorreguts d’entre 6 i 7 km per entorns naturals (i també urbans)\, per camins sense dificultat\, majoritàriament plans\, però amb alguna pujada i baixada. \nEls recorreguts principals d’aquestes caminades són pel Rodal de Sabadell\, però\, mentre duren les restriccions de la PPA\, es duran a terme des de la UES cap als diversos parcs de la ciutat. \nEs surt a les 9:30h els dijous\, amb una durada d’entre 2 h i 3 h. \nLes sortides són gratuïtes i obertes a tothom que pugui caminar 6 o 7 km a ritme suau. Per participar-hi cal fer la inscripció a través de la nostra web\, amb una única inscripció vàlida per a totes les sortides. Un cop inscrits\, entrareu dins del canal (grup unidireccional) de WhatsApp\, per on es comunicarà el lloc i l’hora de trobada de cada dijous\, així com qualsevol canvi o anul·lació. Estar inscrit implica acceptar estar dins del canal de WhatsApp. \nCal portar roba i calçat adequats\, motxilla petita amb aigua\, ganyips o similar.
URL:https://ues.cat/agenda/caminades-slow-4/2026-12-10/
END:VEVENT
BEGIN:VEVENT
DTSTART;VALUE=DATE:20261212
DTEND;VALUE=DATE:20261213
DTSTAMP:20260424T233935
CREATED:20251103T155046Z
LAST-MODIFIED:20251103T155046Z
UID:10005061-1797033600-1797119999@ues.cat
SUMMARY:Muntanya.- (a determinar)
DESCRIPTION:
URL:https://ues.cat/agenda/muntanya-a-determinar/
CATEGORIES:Muntanya
END:VEVENT
BEGIN:VEVENT
DTSTART;VALUE=DATE:20261212
DTEND;VALUE=DATE:20261213
DTSTAMP:20260424T233935
CREATED:20260202T101758Z
LAST-MODIFIED:20260202T101758Z
UID:10005197-1797033600-1797119999@ues.cat
SUMMARY:Natura.- La Serra d'Altaix\, tresors de pedra i plom
DESCRIPTION:Itinerari per a descobrir un patrimoni històric\, geològic i miner excepcional als termes de Martorell i Castellví de Rosanes. Entre pissarres i conglomerats espectacularment erosionats\, gaudirem de panoràmiques del congost de Martorell i la vall del Llobregat\, tot passant per les torres de guaita romanes de Gramenella i del Clos\, el castell de Rosanes i el priorat de Sant Genís de Rocafort. També visitarem les ruïnes d’una mina de plom d’on s’extreia galena i altres minerals com ara plata. \nAmb el guiatge de Roberto Espínola\, geòleg\, autor del llibre “Itineraris del patrimoni geològic i miner del Baix Llobregat”. \nDurada: Matinal \nTransport: Cotxes particulars \nDificultat: Baixa
URL:https://ues.cat/agenda/natura-la-serra-daltaix-tresors-de-pedra-i-plom/
CATEGORIES:Natura
END:VEVENT
BEGIN:VEVENT
DTSTART;VALUE=DATE:20261213
DTEND;VALUE=DATE:20261214
DTSTAMP:20260424T233935
CREATED:20260303T083650Z
LAST-MODIFIED:20260303T083650Z
UID:10005230-1797120000-1797206399@ues.cat
SUMMARY:Marxa Nòrdica.- Via Verda. De Cassà de la Selva a LLagostera.
DESCRIPTION:Recorregut curt: 7km / Recorregut llarg: 12\,8km >> Desnivell: +/- 62m \nLloc de trobada: Plaça de les Dones del Tèxtil. \nTransport: Autocar
URL:https://ues.cat/agenda/marxa-nordica-via-verda-de-cassa-de-la-selva-a-llagostera/
CATEGORIES:Marxa Nòrdica
END:VEVENT
END:VCALENDAR